BEGIN:VCALENDAR
VERSION:2.0
PRODID:-//Montgomery Catholic - ECPv6.15.20//NONSGML v1.0//EN
CALSCALE:GREGORIAN
METHOD:PUBLISH
X-ORIGINAL-URL:https://montgomerycatholic.org
X-WR-CALDESC:Events for Montgomery Catholic
REFRESH-INTERVAL;VALUE=DURATION:PT1H
X-Robots-Tag:noindex
X-PUBLISHED-TTL:PT1H
BEGIN:VTIMEZONE
TZID:America/Chicago
BEGIN:DAYLIGHT
TZOFFSETFROM:-0600
TZOFFSETTO:-0500
TZNAME:CDT
DTSTART:20230312T080000
END:DAYLIGHT
BEGIN:STANDARD
TZOFFSETFROM:-0500
TZOFFSETTO:-0600
TZNAME:CST
DTSTART:20231105T070000
END:STANDARD
BEGIN:DAYLIGHT
TZOFFSETFROM:-0600
TZOFFSETTO:-0500
TZNAME:CDT
DTSTART:20240310T080000
END:DAYLIGHT
BEGIN:STANDARD
TZOFFSETFROM:-0500
TZOFFSETTO:-0600
TZNAME:CST
DTSTART:20241103T070000
END:STANDARD
BEGIN:DAYLIGHT
TZOFFSETFROM:-0600
TZOFFSETTO:-0500
TZNAME:CDT
DTSTART:20250309T080000
END:DAYLIGHT
BEGIN:STANDARD
TZOFFSETFROM:-0500
TZOFFSETTO:-0600
TZNAME:CST
DTSTART:20251102T070000
END:STANDARD
END:VTIMEZONE
BEGIN:VEVENT
DTSTART;TZID=America/Chicago:20240823T190000
DTEND;TZID=America/Chicago:20240823T220000
DTSTAMP:20260422T023035
CREATED:20240730T174825Z
LAST-MODIFIED:20240730T174825Z
UID:10004527-1724439600-1724450400@montgomerycatholic.org
SUMMARY:Football Game - Catholic @ St. James
DESCRIPTION:
URL:https://montgomerycatholic.org/event/football-game-catholic-st-james/
LOCATION:St James\, 6010 Vaughn Road\, Montgomery\, AL\, 36116\, United States
GEO:32.3376902;-86.2064785
X-APPLE-STRUCTURED-LOCATION;VALUE=URI;X-ADDRESS=St James 6010 Vaughn Road Montgomery AL 36116 United States;X-APPLE-RADIUS=500;X-TITLE=6010 Vaughn Road:geo:-86.2064785,32.3376902
END:VEVENT
BEGIN:VEVENT
DTSTART;TZID=America/Chicago:20240102T080000
DTEND;TZID=America/Chicago:20240102T160000
DTSTAMP:20260422T023035
CREATED:20240102T155920Z
LAST-MODIFIED:20240102T155920Z
UID:10004370-1704182400-1704211200@montgomerycatholic.org
SUMMARY:Varsity Wrestling Julian McPhillips Invitational @ St James
DESCRIPTION:
URL:https://montgomerycatholic.org/event/varsity-wrestling-julian-mcphillips-invitational-st-james/
LOCATION:St James\, 6010 Vaughn Road\, Montgomery\, AL\, 36116\, United States
GEO:32.3376902;-86.2064785
X-APPLE-STRUCTURED-LOCATION;VALUE=URI;X-ADDRESS=St James 6010 Vaughn Road Montgomery AL 36116 United States;X-APPLE-RADIUS=500;X-TITLE=6010 Vaughn Road:geo:-86.2064785,32.3376902
END:VEVENT
END:VCALENDAR