BEGIN:VCALENDAR
VERSION:2.0
PRODID:-//Montgomery Catholic - ECPv6.15.20//NONSGML v1.0//EN
CALSCALE:GREGORIAN
METHOD:PUBLISH
X-ORIGINAL-URL:https://montgomerycatholic.org
X-WR-CALDESC:Events for Montgomery Catholic
REFRESH-INTERVAL;VALUE=DURATION:PT1H
X-Robots-Tag:noindex
X-PUBLISHED-TTL:PT1H
BEGIN:VTIMEZONE
TZID:America/Chicago
BEGIN:DAYLIGHT
TZOFFSETFROM:-0600
TZOFFSETTO:-0500
TZNAME:CDT
DTSTART:20200308T080000
END:DAYLIGHT
BEGIN:STANDARD
TZOFFSETFROM:-0500
TZOFFSETTO:-0600
TZNAME:CST
DTSTART:20201101T070000
END:STANDARD
BEGIN:DAYLIGHT
TZOFFSETFROM:-0600
TZOFFSETTO:-0500
TZNAME:CDT
DTSTART:20210314T080000
END:DAYLIGHT
BEGIN:STANDARD
TZOFFSETFROM:-0500
TZOFFSETTO:-0600
TZNAME:CST
DTSTART:20211107T070000
END:STANDARD
BEGIN:DAYLIGHT
TZOFFSETFROM:-0600
TZOFFSETTO:-0500
TZNAME:CDT
DTSTART:20220313T080000
END:DAYLIGHT
BEGIN:STANDARD
TZOFFSETFROM:-0500
TZOFFSETTO:-0600
TZNAME:CST
DTSTART:20221106T070000
END:STANDARD
END:VTIMEZONE
BEGIN:VEVENT
DTSTART;TZID=America/Chicago:20211021T093000
DTEND;TZID=America/Chicago:20211021T100000
DTSTAMP:20260421T200650
CREATED:20211021T193147Z
LAST-MODIFIED:20211021T193147Z
UID:10002621-1634808600-1634810400@montgomerycatholic.org
SUMMARY:SB: K3-2nd Grade Thanksgiving Program
DESCRIPTION:
URL:https://montgomerycatholic.org/event/sb-k3-2nd-grade-thanksgiving-program/
LOCATION:St Bede Campus\, 3870 Atlanta Hwy\, Montgomery\, AL\, 36109\, United States
CATEGORIES:St. Bede
GEO:32.3828968;-86.2474845
X-APPLE-STRUCTURED-LOCATION;VALUE=URI;X-ADDRESS=St Bede Campus 3870 Atlanta Hwy Montgomery AL 36109 United States;X-APPLE-RADIUS=500;X-TITLE=3870 Atlanta Hwy:geo:-86.2474845,32.3828968
END:VEVENT
END:VCALENDAR