BEGIN:VCALENDAR
VERSION:2.0
PRODID:-//Montgomery Catholic - ECPv6.15.20//NONSGML v1.0//EN
CALSCALE:GREGORIAN
METHOD:PUBLISH
X-WR-CALNAME:Montgomery Catholic
X-ORIGINAL-URL:https://montgomerycatholic.org
X-WR-CALDESC:Events for Montgomery Catholic
REFRESH-INTERVAL;VALUE=DURATION:PT1H
X-Robots-Tag:noindex
X-PUBLISHED-TTL:PT1H
BEGIN:VTIMEZONE
TZID:America/Chicago
BEGIN:DAYLIGHT
TZOFFSETFROM:-0600
TZOFFSETTO:-0500
TZNAME:CDT
DTSTART:20200308T080000
END:DAYLIGHT
BEGIN:STANDARD
TZOFFSETFROM:-0500
TZOFFSETTO:-0600
TZNAME:CST
DTSTART:20201101T070000
END:STANDARD
BEGIN:DAYLIGHT
TZOFFSETFROM:-0600
TZOFFSETTO:-0500
TZNAME:CDT
DTSTART:20210314T080000
END:DAYLIGHT
BEGIN:STANDARD
TZOFFSETFROM:-0500
TZOFFSETTO:-0600
TZNAME:CST
DTSTART:20211107T070000
END:STANDARD
BEGIN:DAYLIGHT
TZOFFSETFROM:-0600
TZOFFSETTO:-0500
TZNAME:CDT
DTSTART:20220313T080000
END:DAYLIGHT
BEGIN:STANDARD
TZOFFSETFROM:-0500
TZOFFSETTO:-0600
TZNAME:CST
DTSTART:20221106T070000
END:STANDARD
BEGIN:DAYLIGHT
TZOFFSETFROM:-0600
TZOFFSETTO:-0500
TZNAME:CDT
DTSTART:20230312T080000
END:DAYLIGHT
BEGIN:STANDARD
TZOFFSETFROM:-0500
TZOFFSETTO:-0600
TZNAME:CST
DTSTART:20231105T070000
END:STANDARD
END:VTIMEZONE
BEGIN:VEVENT
DTSTART;TZID=America/Chicago:20220822T180000
DTEND;TZID=America/Chicago:20220822T183000
DTSTAMP:20260421T161020
CREATED:20220608T195509Z
LAST-MODIFIED:20220819T170110Z
UID:10002868-1661191200-1661193000@montgomerycatholic.org
SUMMARY:Field Trip Prep - in Spanish
DESCRIPTION:Tonight’s Field Trip Prep will be in Spanish at our St. Bede Campus. \n\nField Trip Prep allows parents to fill out all necessary paperwork to chaperone field trips at MCPS. \n 
URL:https://montgomerycatholic.org/event/field-trip-prep-in-spanish/
LOCATION:St Bede Campus\, 3870 Atlanta Hwy\, Montgomery\, AL\, 36109\, United States
CATEGORIES:High School,Holy Spirit,Middle School,St. Bede
GEO:32.3828968;-86.2474845
X-APPLE-STRUCTURED-LOCATION;VALUE=URI;X-ADDRESS=St Bede Campus 3870 Atlanta Hwy Montgomery AL 36109 United States;X-APPLE-RADIUS=500;X-TITLE=3870 Atlanta Hwy:geo:-86.2474845,32.3828968
END:VEVENT
BEGIN:VEVENT
DTSTART;TZID=America/Chicago:20220815T170000
DTEND;TZID=America/Chicago:20220815T183000
DTSTAMP:20260421T161020
CREATED:20220608T193429Z
LAST-MODIFIED:20220608T193429Z
UID:10002861-1660582800-1660588200@montgomerycatholic.org
SUMMARY:St. Bede Parent Orientation
DESCRIPTION:
URL:https://montgomerycatholic.org/event/st-bede-parent-orientation/
LOCATION:St Bede Campus\, 3870 Atlanta Hwy\, Montgomery\, AL\, 36109\, United States
CATEGORIES:St. Bede
ORGANIZER;CN="Laurie Gulley":MAILTO:lgulley@montgomerycatholic.org
GEO:32.3828968;-86.2474845
X-APPLE-STRUCTURED-LOCATION;VALUE=URI;X-ADDRESS=St Bede Campus 3870 Atlanta Hwy Montgomery AL 36109 United States;X-APPLE-RADIUS=500;X-TITLE=3870 Atlanta Hwy:geo:-86.2474845,32.3828968
END:VEVENT
BEGIN:VEVENT
DTSTART;TZID=America/Chicago:20220504T151500
DTEND;TZID=America/Chicago:20220504T161000
DTSTAMP:20260421T161020
CREATED:20211021T150321Z
LAST-MODIFIED:20211021T150321Z
UID:10002610-1651677300-1651680600@montgomerycatholic.org
SUMMARY:SB: Student Council
DESCRIPTION:
URL:https://montgomerycatholic.org/event/sb-student-council/2022-05-04/
LOCATION:St Bede Campus\, 3870 Atlanta Hwy\, Montgomery\, AL\, 36109\, United States
CATEGORIES:St. Bede
ORGANIZER;CN="Mary Thaggard":MAILTO:mthaggard@montgomerycatholic.org
GEO:32.3828968;-86.2474845
X-APPLE-STRUCTURED-LOCATION;VALUE=URI;X-ADDRESS=St Bede Campus 3870 Atlanta Hwy Montgomery AL 36109 United States;X-APPLE-RADIUS=500;X-TITLE=3870 Atlanta Hwy:geo:-86.2474845,32.3828968
END:VEVENT
BEGIN:VEVENT
DTSTART;TZID=America/Chicago:20220413T083000
DTEND;TZID=America/Chicago:20220413T091500
DTSTAMP:20260421T161020
CREATED:20210728T222606Z
LAST-MODIFIED:20210728T222606Z
UID:10002570-1649838600-1649841300@montgomerycatholic.org
SUMMARY:SB: SPY WED MASS
DESCRIPTION:STUDENTS SHOULD WEAR MASS UNIFORMS
URL:https://montgomerycatholic.org/event/sb-spy-wed-mass/
LOCATION:St Bede Campus\, 3870 Atlanta Hwy\, Montgomery\, AL\, 36109\, United States
CATEGORIES:St. Bede
GEO:32.3828968;-86.2474845
X-APPLE-STRUCTURED-LOCATION;VALUE=URI;X-ADDRESS=St Bede Campus 3870 Atlanta Hwy Montgomery AL 36109 United States;X-APPLE-RADIUS=500;X-TITLE=3870 Atlanta Hwy:geo:-86.2474845,32.3828968
END:VEVENT
BEGIN:VEVENT
DTSTART;TZID=America/Chicago:20220408T141500
DTEND;TZID=America/Chicago:20220408T150000
DTSTAMP:20260421T161020
CREATED:20210728T220223Z
LAST-MODIFIED:20220323T190617Z
UID:10002473-1649427300-1649430000@montgomerycatholic.org
SUMMARY:SB: STATIONS OF THE CROSS
DESCRIPTION:
URL:https://montgomerycatholic.org/event/sb-stations-of-the-cross/2022-04-08/
LOCATION:St Bede Campus\, 3870 Atlanta Hwy\, Montgomery\, AL\, 36109\, United States
CATEGORIES:St. Bede
GEO:32.3828968;-86.2474845
X-APPLE-STRUCTURED-LOCATION;VALUE=URI;X-ADDRESS=St Bede Campus 3870 Atlanta Hwy Montgomery AL 36109 United States;X-APPLE-RADIUS=500;X-TITLE=3870 Atlanta Hwy:geo:-86.2474845,32.3828968
END:VEVENT
BEGIN:VEVENT
DTSTART;TZID=America/Chicago:20220401T080000
DTEND;TZID=America/Chicago:20220401T114500
DTSTAMP:20260421T161020
CREATED:20210728T222410Z
LAST-MODIFIED:20220323T185819Z
UID:10002568-1648800000-1648813500@montgomerycatholic.org
SUMMARY:SB:NOON DISMISSAL- FIELD DAY
DESCRIPTION:COME JOIN US FOR MASS\, FIELD DAY AND A NOON DISMISSAL\nStudents should wear a MCPS spirit shirt of their choosing and their uniform bottoms
URL:https://montgomerycatholic.org/event/sb-field-day/
LOCATION:St Bede Campus\, 3870 Atlanta Hwy\, Montgomery\, AL\, 36109\, United States
CATEGORIES:St. Bede
GEO:32.3828968;-86.2474845
X-APPLE-STRUCTURED-LOCATION;VALUE=URI;X-ADDRESS=St Bede Campus 3870 Atlanta Hwy Montgomery AL 36109 United States;X-APPLE-RADIUS=500;X-TITLE=3870 Atlanta Hwy:geo:-86.2474845,32.3828968
END:VEVENT
BEGIN:VEVENT
DTSTART;TZID=America/Chicago:20220325T141500
DTEND;TZID=America/Chicago:20220325T150000
DTSTAMP:20260421T161020
CREATED:20210728T220223Z
LAST-MODIFIED:20220323T190617Z
UID:10002472-1648217700-1648220400@montgomerycatholic.org
SUMMARY:SB: STATIONS OF THE CROSS
DESCRIPTION:
URL:https://montgomerycatholic.org/event/sb-stations-of-the-cross/2022-03-25/
LOCATION:St Bede Campus\, 3870 Atlanta Hwy\, Montgomery\, AL\, 36109\, United States
CATEGORIES:St. Bede
GEO:32.3828968;-86.2474845
X-APPLE-STRUCTURED-LOCATION;VALUE=URI;X-ADDRESS=St Bede Campus 3870 Atlanta Hwy Montgomery AL 36109 United States;X-APPLE-RADIUS=500;X-TITLE=3870 Atlanta Hwy:geo:-86.2474845,32.3828968
END:VEVENT
BEGIN:VEVENT
DTSTART;VALUE=DATE:20220323
DTEND;VALUE=DATE:20220326
DTSTAMP:20260421T161020
CREATED:20210728T221441Z
LAST-MODIFIED:20210728T221441Z
UID:10002482-1647993600-1648252799@montgomerycatholic.org
SUMMARY:SB: PRACTICE IOWA TESTING
DESCRIPTION:
URL:https://montgomerycatholic.org/event/sb-practice-iowa-testing/
LOCATION:St Bede Campus\, 3870 Atlanta Hwy\, Montgomery\, AL\, 36109\, United States
CATEGORIES:St. Bede
GEO:32.3828968;-86.2474845
X-APPLE-STRUCTURED-LOCATION;VALUE=URI;X-ADDRESS=St Bede Campus 3870 Atlanta Hwy Montgomery AL 36109 United States;X-APPLE-RADIUS=500;X-TITLE=3870 Atlanta Hwy:geo:-86.2474845,32.3828968
END:VEVENT
BEGIN:VEVENT
DTSTART;TZID=America/Chicago:20220318T141500
DTEND;TZID=America/Chicago:20220318T150000
DTSTAMP:20260421T161020
CREATED:20210728T220223Z
LAST-MODIFIED:20220323T190617Z
UID:10002471-1647612900-1647615600@montgomerycatholic.org
SUMMARY:SB: STATIONS OF THE CROSS
DESCRIPTION:
URL:https://montgomerycatholic.org/event/sb-stations-of-the-cross/2022-03-18/
LOCATION:St Bede Campus\, 3870 Atlanta Hwy\, Montgomery\, AL\, 36109\, United States
CATEGORIES:St. Bede
GEO:32.3828968;-86.2474845
X-APPLE-STRUCTURED-LOCATION;VALUE=URI;X-ADDRESS=St Bede Campus 3870 Atlanta Hwy Montgomery AL 36109 United States;X-APPLE-RADIUS=500;X-TITLE=3870 Atlanta Hwy:geo:-86.2474845,32.3828968
END:VEVENT
BEGIN:VEVENT
DTSTART;TZID=America/Chicago:20220311T141500
DTEND;TZID=America/Chicago:20220311T150000
DTSTAMP:20260421T161020
CREATED:20210728T220223Z
LAST-MODIFIED:20220323T190617Z
UID:10002470-1647008100-1647010800@montgomerycatholic.org
SUMMARY:SB: STATIONS OF THE CROSS
DESCRIPTION:
URL:https://montgomerycatholic.org/event/sb-stations-of-the-cross/2022-03-11/
LOCATION:St Bede Campus\, 3870 Atlanta Hwy\, Montgomery\, AL\, 36109\, United States
CATEGORIES:St. Bede
GEO:32.3828968;-86.2474845
X-APPLE-STRUCTURED-LOCATION;VALUE=URI;X-ADDRESS=St Bede Campus 3870 Atlanta Hwy Montgomery AL 36109 United States;X-APPLE-RADIUS=500;X-TITLE=3870 Atlanta Hwy:geo:-86.2474845,32.3828968
END:VEVENT
BEGIN:VEVENT
DTSTART;VALUE=DATE:20220307
DTEND;VALUE=DATE:20220312
DTSTAMP:20260421T161020
CREATED:20210923T181228Z
LAST-MODIFIED:20210923T181408Z
UID:10002636-1646611200-1647043199@montgomerycatholic.org
SUMMARY:St. Bede Book Fair
DESCRIPTION:
URL:https://montgomerycatholic.org/event/holy-spirit-book-fair-2/
LOCATION:St Bede Campus\, 3870 Atlanta Hwy\, Montgomery\, AL\, 36109\, United States
CATEGORIES:St. Bede
ORGANIZER;CN="Lee Anne Barranco":MAILTO:lbarranco@montgomerycatholic.org
GEO:32.3828968;-86.2474845
X-APPLE-STRUCTURED-LOCATION;VALUE=URI;X-ADDRESS=St Bede Campus 3870 Atlanta Hwy Montgomery AL 36109 United States;X-APPLE-RADIUS=500;X-TITLE=3870 Atlanta Hwy:geo:-86.2474845,32.3828968
END:VEVENT
BEGIN:VEVENT
DTSTART;TZID=America/Chicago:20220304T141500
DTEND;TZID=America/Chicago:20220304T150000
DTSTAMP:20260421T161020
CREATED:20210728T220223Z
LAST-MODIFIED:20220323T190617Z
UID:10002469-1646403300-1646406000@montgomerycatholic.org
SUMMARY:SB: STATIONS OF THE CROSS
DESCRIPTION:
URL:https://montgomerycatholic.org/event/sb-stations-of-the-cross/2022-03-04/
LOCATION:St Bede Campus\, 3870 Atlanta Hwy\, Montgomery\, AL\, 36109\, United States
CATEGORIES:St. Bede
GEO:32.3828968;-86.2474845
X-APPLE-STRUCTURED-LOCATION;VALUE=URI;X-ADDRESS=St Bede Campus 3870 Atlanta Hwy Montgomery AL 36109 United States;X-APPLE-RADIUS=500;X-TITLE=3870 Atlanta Hwy:geo:-86.2474845,32.3828968
END:VEVENT
BEGIN:VEVENT
DTSTART;TZID=America/Chicago:20220302T083000
DTEND;TZID=America/Chicago:20220302T093000
DTSTAMP:20260421T161020
CREATED:20210728T220057Z
LAST-MODIFIED:20210728T220057Z
UID:10002464-1646209800-1646213400@montgomerycatholic.org
SUMMARY:SB- Ash Wednesday Mass
DESCRIPTION:Ash Wednesday Mass:  Students should wear their Mass uniforms.
URL:https://montgomerycatholic.org/event/sb-ash-wednesday-mass/
LOCATION:St Bede Campus\, 3870 Atlanta Hwy\, Montgomery\, AL\, 36109\, United States
CATEGORIES:St. Bede
GEO:32.3828968;-86.2474845
X-APPLE-STRUCTURED-LOCATION;VALUE=URI;X-ADDRESS=St Bede Campus 3870 Atlanta Hwy Montgomery AL 36109 United States;X-APPLE-RADIUS=500;X-TITLE=3870 Atlanta Hwy:geo:-86.2474845,32.3828968
END:VEVENT
BEGIN:VEVENT
DTSTART;TZID=America/Chicago:20220301T113500
DTEND;TZID=America/Chicago:20220301T120000
DTSTAMP:20260421T161020
CREATED:20210728T215534Z
LAST-MODIFIED:20210728T215534Z
UID:10002454-1646134500-1646136000@montgomerycatholic.org
SUMMARY:SB: Mardi Gras Parade
DESCRIPTION:Mardi Gras Parade:  Our high school students are coming to put on a parade for us at 11:35 in the front parking lot of the school.  This is a dress-down day for our students.  The dress code is uniform bottoms with a Mardi Gras-colored shirt (purple\, green\, and/or gold).  Please come join the fun\, but remember to park in the back parking lot.
URL:https://montgomerycatholic.org/event/sb-mardi-gras-parade/
LOCATION:St Bede Campus\, 3870 Atlanta Hwy\, Montgomery\, AL\, 36109\, United States
CATEGORIES:St. Bede
GEO:32.3828968;-86.2474845
X-APPLE-STRUCTURED-LOCATION;VALUE=URI;X-ADDRESS=St Bede Campus 3870 Atlanta Hwy Montgomery AL 36109 United States;X-APPLE-RADIUS=500;X-TITLE=3870 Atlanta Hwy:geo:-86.2474845,32.3828968
END:VEVENT
BEGIN:VEVENT
DTSTART;TZID=America/Chicago:20220202T151500
DTEND;TZID=America/Chicago:20220202T161000
DTSTAMP:20260421T161020
CREATED:20211021T150321Z
LAST-MODIFIED:20211021T150321Z
UID:10002609-1643814900-1643818200@montgomerycatholic.org
SUMMARY:SB: Student Council
DESCRIPTION:
URL:https://montgomerycatholic.org/event/sb-student-council/2022-02-02/
LOCATION:St Bede Campus\, 3870 Atlanta Hwy\, Montgomery\, AL\, 36109\, United States
CATEGORIES:St. Bede
ORGANIZER;CN="Mary Thaggard":MAILTO:mthaggard@montgomerycatholic.org
GEO:32.3828968;-86.2474845
X-APPLE-STRUCTURED-LOCATION;VALUE=URI;X-ADDRESS=St Bede Campus 3870 Atlanta Hwy Montgomery AL 36109 United States;X-APPLE-RADIUS=500;X-TITLE=3870 Atlanta Hwy:geo:-86.2474845,32.3828968
END:VEVENT
BEGIN:VEVENT
DTSTART;TZID=America/Chicago:20220114T093000
DTEND;TZID=America/Chicago:20220114T100000
DTSTAMP:20260421T161020
CREATED:20210728T214600Z
LAST-MODIFIED:20210728T214600Z
UID:10002551-1642152600-1642154400@montgomerycatholic.org
SUMMARY:SB -1st Semester Honors Assembly
DESCRIPTION:Family members are welcome to join their students\, after mass\, in the St. Bede cafeteria for the 1st Semester Honors Assembly. Certificates will be given for Conduct\, A/B and A Honor Roll.
URL:https://montgomerycatholic.org/event/sb-1st-semester-honors-assembly/
LOCATION:St Bede Campus\, 3870 Atlanta Hwy\, Montgomery\, AL\, 36109\, United States
CATEGORIES:St. Bede
GEO:32.3828968;-86.2474845
X-APPLE-STRUCTURED-LOCATION;VALUE=URI;X-ADDRESS=St Bede Campus 3870 Atlanta Hwy Montgomery AL 36109 United States;X-APPLE-RADIUS=500;X-TITLE=3870 Atlanta Hwy:geo:-86.2474845,32.3828968
END:VEVENT
BEGIN:VEVENT
DTSTART;TZID=America/Chicago:20220105T151500
DTEND;TZID=America/Chicago:20220105T161000
DTSTAMP:20260421T161020
CREATED:20211021T150321Z
LAST-MODIFIED:20211021T150321Z
UID:10002608-1641395700-1641399000@montgomerycatholic.org
SUMMARY:SB: Student Council
DESCRIPTION:
URL:https://montgomerycatholic.org/event/sb-student-council/2022-01-05/
LOCATION:St Bede Campus\, 3870 Atlanta Hwy\, Montgomery\, AL\, 36109\, United States
CATEGORIES:St. Bede
ORGANIZER;CN="Mary Thaggard":MAILTO:mthaggard@montgomerycatholic.org
GEO:32.3828968;-86.2474845
X-APPLE-STRUCTURED-LOCATION;VALUE=URI;X-ADDRESS=St Bede Campus 3870 Atlanta Hwy Montgomery AL 36109 United States;X-APPLE-RADIUS=500;X-TITLE=3870 Atlanta Hwy:geo:-86.2474845,32.3828968
END:VEVENT
BEGIN:VEVENT
DTSTART;TZID=America/Chicago:20211216T183000
DTEND;TZID=America/Chicago:20211216T203000
DTSTAMP:20260421T161020
CREATED:20210728T213625Z
LAST-MODIFIED:20210728T213625Z
UID:10002539-1639679400-1639686600@montgomerycatholic.org
SUMMARY:SB: Christmas Program Grades 3rd - 6th
DESCRIPTION:Everyone is invited to come and enjoy a performance starring our students as we celebrate Christmas. Punch and dessert after the program. \n*Volunteers needed for setting up and clean up!
URL:https://montgomerycatholic.org/event/sb-christmas-program-grades-3rd-6th/
LOCATION:St Bede Campus\, 3870 Atlanta Hwy\, Montgomery\, AL\, 36109\, United States
CATEGORIES:St. Bede
GEO:32.3828968;-86.2474845
X-APPLE-STRUCTURED-LOCATION;VALUE=URI;X-ADDRESS=St Bede Campus 3870 Atlanta Hwy Montgomery AL 36109 United States;X-APPLE-RADIUS=500;X-TITLE=3870 Atlanta Hwy:geo:-86.2474845,32.3828968
END:VEVENT
BEGIN:VEVENT
DTSTART;TZID=America/Chicago:20211117T083000
DTEND;TZID=America/Chicago:20211117T140000
DTSTAMP:20260421T161020
CREATED:20211101T170545Z
LAST-MODIFIED:20211101T170545Z
UID:10002856-1637137800-1637157600@montgomerycatholic.org
SUMMARY:K3\, K4 and K5 Pop-In Preview
DESCRIPTION:K3\, K4\, and K5 Pop-In Preview\nYou are invited to visit our campuses\, meet our teachers\, experience our warm and caring classes and see what BIG school at MCPS is all about!\n\nTUESDAY\, NOVEMBER 16 – Holy Spirit Campus \n8580 Vaughn Road\, Montgomery\, AL 36117\n\nWEDNESDAY\, NOVEMBER 17 – St. Bede Campus \n3850 Atlanta Highway\, Montgomery\, AL 36109\n\nChoose your time – be sure to RSVP as space is limited\nmontgomerycatholic.org/admissions/pop-in-preview\n \nAdmission Questions?\nContact Director of Admissions\nJulie Lopez\n(334) 318-3777\njlopez@montgomerycatholic.org
URL:https://montgomerycatholic.org/event/k3-k4-and-k5-pop-in-preview/
LOCATION:St Bede Campus\, 3870 Atlanta Hwy\, Montgomery\, AL\, 36109\, United States
CATEGORIES:Holy Spirit,St. Bede
ORGANIZER;CN="Julie Lopez":MAILTO:jlopez@montgomerycatholic.org
GEO:32.3828968;-86.2474845
X-APPLE-STRUCTURED-LOCATION;VALUE=URI;X-ADDRESS=St Bede Campus 3870 Atlanta Hwy Montgomery AL 36109 United States;X-APPLE-RADIUS=500;X-TITLE=3870 Atlanta Hwy:geo:-86.2474845,32.3828968
END:VEVENT
BEGIN:VEVENT
DTSTART;TZID=America/Chicago:20211103T151500
DTEND;TZID=America/Chicago:20211103T161000
DTSTAMP:20260421T161020
CREATED:20211021T150321Z
LAST-MODIFIED:20211021T150321Z
UID:10002607-1635952500-1635955800@montgomerycatholic.org
SUMMARY:SB: Student Council
DESCRIPTION:
URL:https://montgomerycatholic.org/event/sb-student-council/2021-11-03/
LOCATION:St Bede Campus\, 3870 Atlanta Hwy\, Montgomery\, AL\, 36109\, United States
CATEGORIES:St. Bede
ORGANIZER;CN="Mary Thaggard":MAILTO:mthaggard@montgomerycatholic.org
GEO:32.3828968;-86.2474845
X-APPLE-STRUCTURED-LOCATION;VALUE=URI;X-ADDRESS=St Bede Campus 3870 Atlanta Hwy Montgomery AL 36109 United States;X-APPLE-RADIUS=500;X-TITLE=3870 Atlanta Hwy:geo:-86.2474845,32.3828968
END:VEVENT
BEGIN:VEVENT
DTSTART;TZID=America/Chicago:20211101T083000
DTEND;TZID=America/Chicago:20211101T093000
DTSTAMP:20260421T161020
CREATED:20211021T191033Z
LAST-MODIFIED:20211021T191033Z
UID:10002619-1635755400-1635759000@montgomerycatholic.org
SUMMARY:SB: ALL SAINTS DAY MASS
DESCRIPTION:We are attending ALL SAINTS DAY MASS.  Students must wear their mass day uniforms.
URL:https://montgomerycatholic.org/event/sb-all-saints-day-mass/
LOCATION:St Bede Campus\, 3870 Atlanta Hwy\, Montgomery\, AL\, 36109\, United States
CATEGORIES:St. Bede
GEO:32.3828968;-86.2474845
X-APPLE-STRUCTURED-LOCATION;VALUE=URI;X-ADDRESS=St Bede Campus 3870 Atlanta Hwy Montgomery AL 36109 United States;X-APPLE-RADIUS=500;X-TITLE=3870 Atlanta Hwy:geo:-86.2474845,32.3828968
END:VEVENT
BEGIN:VEVENT
DTSTART;TZID=America/Chicago:20211028T153000
DTEND;TZID=America/Chicago:20211028T180000
DTSTAMP:20260421T161020
CREATED:20210728T212609Z
LAST-MODIFIED:20210728T212609Z
UID:10002523-1635435000-1635444000@montgomerycatholic.org
SUMMARY:SB Parent / Teacher Conferences
DESCRIPTION:Parents will be notified of a time that they may meet with the homeroom teacher.  During this conference\, the teacher will distribute the 1st quarter report cards.
URL:https://montgomerycatholic.org/event/sb-parent-teacher-conferences-2/2021-10-28/
LOCATION:St Bede Campus\, 3870 Atlanta Hwy\, Montgomery\, AL\, 36109\, United States
CATEGORIES:St. Bede
GEO:32.3828968;-86.2474845
X-APPLE-STRUCTURED-LOCATION;VALUE=URI;X-ADDRESS=St Bede Campus 3870 Atlanta Hwy Montgomery AL 36109 United States;X-APPLE-RADIUS=500;X-TITLE=3870 Atlanta Hwy:geo:-86.2474845,32.3828968
END:VEVENT
BEGIN:VEVENT
DTSTART;TZID=America/Chicago:20211027T153000
DTEND;TZID=America/Chicago:20211027T180000
DTSTAMP:20260421T161020
CREATED:20210728T212609Z
LAST-MODIFIED:20210728T212609Z
UID:10002522-1635348600-1635357600@montgomerycatholic.org
SUMMARY:SB Parent / Teacher Conferences
DESCRIPTION:Parents will be notified of a time that they may meet with the homeroom teacher.  During this conference\, the teacher will distribute the 1st quarter report cards.
URL:https://montgomerycatholic.org/event/sb-parent-teacher-conferences-2/2021-10-27/
LOCATION:St Bede Campus\, 3870 Atlanta Hwy\, Montgomery\, AL\, 36109\, United States
CATEGORIES:St. Bede
GEO:32.3828968;-86.2474845
X-APPLE-STRUCTURED-LOCATION;VALUE=URI;X-ADDRESS=St Bede Campus 3870 Atlanta Hwy Montgomery AL 36109 United States;X-APPLE-RADIUS=500;X-TITLE=3870 Atlanta Hwy:geo:-86.2474845,32.3828968
END:VEVENT
BEGIN:VEVENT
DTSTART;TZID=America/Chicago:20211026T130000
DTEND;TZID=America/Chicago:20211026T180000
DTSTAMP:20260421T161020
CREATED:20210728T212414Z
LAST-MODIFIED:20210728T212414Z
UID:10002520-1635253200-1635271200@montgomerycatholic.org
SUMMARY:SB Parent/Teacher Conferences
DESCRIPTION:Parents will be notified of a time that they will meet with the homeroom teacher.  During this conference\, the teacher will distribute the 1st quarter report cards. \n  \nNOON DISMISSAL
URL:https://montgomerycatholic.org/event/sb-parent-teacher-conferences/
LOCATION:St Bede Campus\, 3870 Atlanta Hwy\, Montgomery\, AL\, 36109\, United States
CATEGORIES:St. Bede
GEO:32.3828968;-86.2474845
X-APPLE-STRUCTURED-LOCATION;VALUE=URI;X-ADDRESS=St Bede Campus 3870 Atlanta Hwy Montgomery AL 36109 United States;X-APPLE-RADIUS=500;X-TITLE=3870 Atlanta Hwy:geo:-86.2474845,32.3828968
END:VEVENT
BEGIN:VEVENT
DTSTART;TZID=America/Chicago:20211021T093000
DTEND;TZID=America/Chicago:20211021T100000
DTSTAMP:20260421T161020
CREATED:20211021T193147Z
LAST-MODIFIED:20211021T193147Z
UID:10002621-1634808600-1634810400@montgomerycatholic.org
SUMMARY:SB: K3-2nd Grade Thanksgiving Program
DESCRIPTION:
URL:https://montgomerycatholic.org/event/sb-k3-2nd-grade-thanksgiving-program/
LOCATION:St Bede Campus\, 3870 Atlanta Hwy\, Montgomery\, AL\, 36109\, United States
CATEGORIES:St. Bede
GEO:32.3828968;-86.2474845
X-APPLE-STRUCTURED-LOCATION;VALUE=URI;X-ADDRESS=St Bede Campus 3870 Atlanta Hwy Montgomery AL 36109 United States;X-APPLE-RADIUS=500;X-TITLE=3870 Atlanta Hwy:geo:-86.2474845,32.3828968
END:VEVENT
END:VCALENDAR