BEGIN:VCALENDAR
VERSION:2.0
PRODID:-//Montgomery Catholic - ECPv6.15.20//NONSGML v1.0//EN
CALSCALE:GREGORIAN
METHOD:PUBLISH
X-ORIGINAL-URL:https://montgomerycatholic.org
X-WR-CALDESC:Events for Montgomery Catholic
REFRESH-INTERVAL;VALUE=DURATION:PT1H
X-Robots-Tag:noindex
X-PUBLISHED-TTL:PT1H
BEGIN:VTIMEZONE
TZID:America/Chicago
BEGIN:DAYLIGHT
TZOFFSETFROM:-0600
TZOFFSETTO:-0500
TZNAME:CDT
DTSTART:20250309T080000
END:DAYLIGHT
BEGIN:STANDARD
TZOFFSETFROM:-0500
TZOFFSETTO:-0600
TZNAME:CST
DTSTART:20251102T070000
END:STANDARD
BEGIN:DAYLIGHT
TZOFFSETFROM:-0600
TZOFFSETTO:-0500
TZNAME:CDT
DTSTART:20260308T080000
END:DAYLIGHT
BEGIN:STANDARD
TZOFFSETFROM:-0500
TZOFFSETTO:-0600
TZNAME:CST
DTSTART:20261101T070000
END:STANDARD
BEGIN:DAYLIGHT
TZOFFSETFROM:-0600
TZOFFSETTO:-0500
TZNAME:CDT
DTSTART:20270314T080000
END:DAYLIGHT
BEGIN:STANDARD
TZOFFSETFROM:-0500
TZOFFSETTO:-0600
TZNAME:CST
DTSTART:20271107T070000
END:STANDARD
END:VTIMEZONE
BEGIN:VEVENT
DTSTART;TZID=America/Chicago:20260706T083000
DTEND;TZID=America/Chicago:20260706T113000
DTSTAMP:20260418T131720
CREATED:20260331T211730Z
LAST-MODIFIED:20260331T211730Z
UID:10005534-1783326600-1783337400@montgomerycatholic.org
SUMMARY:Elementary Math Summer Camp
DESCRIPTION:Elementary Math Camp (8:30AM-11:30PM) \nRising 1st – 6th graders \nSt. Bede Campus
URL:https://montgomerycatholic.org/event/elementary-math-summer-camp-2/2026-07-06/
LOCATION:St. Bede Campus\, 3850 Atlanta Highway\, Montgomery\, AL\, 36109\, United States
CATEGORIES:Holy Spirit,St. Bede
ORGANIZER;CN="Laurie Gulley":MAILTO:lgulley@montgomerycatholic.org
END:VEVENT
BEGIN:VEVENT
DTSTART;TZID=America/Chicago:20260707T083000
DTEND;TZID=America/Chicago:20260707T113000
DTSTAMP:20260418T131720
CREATED:20260331T211730Z
LAST-MODIFIED:20260331T211730Z
UID:10005535-1783413000-1783423800@montgomerycatholic.org
SUMMARY:Elementary Math Summer Camp
DESCRIPTION:Elementary Math Camp (8:30AM-11:30PM) \nRising 1st – 6th graders \nSt. Bede Campus
URL:https://montgomerycatholic.org/event/elementary-math-summer-camp-2/2026-07-07/
LOCATION:St. Bede Campus\, 3850 Atlanta Highway\, Montgomery\, AL\, 36109\, United States
CATEGORIES:Holy Spirit,St. Bede
ORGANIZER;CN="Laurie Gulley":MAILTO:lgulley@montgomerycatholic.org
END:VEVENT
BEGIN:VEVENT
DTSTART;TZID=America/Chicago:20260708T083000
DTEND;TZID=America/Chicago:20260708T113000
DTSTAMP:20260418T131720
CREATED:20260331T211730Z
LAST-MODIFIED:20260331T211730Z
UID:10005536-1783499400-1783510200@montgomerycatholic.org
SUMMARY:Elementary Math Summer Camp
DESCRIPTION:Elementary Math Camp (8:30AM-11:30PM) \nRising 1st – 6th graders \nSt. Bede Campus
URL:https://montgomerycatholic.org/event/elementary-math-summer-camp-2/2026-07-08/
LOCATION:St. Bede Campus\, 3850 Atlanta Highway\, Montgomery\, AL\, 36109\, United States
CATEGORIES:Holy Spirit,St. Bede
ORGANIZER;CN="Laurie Gulley":MAILTO:lgulley@montgomerycatholic.org
END:VEVENT
BEGIN:VEVENT
DTSTART;TZID=America/Chicago:20260709T083000
DTEND;TZID=America/Chicago:20260709T113000
DTSTAMP:20260418T131720
CREATED:20260331T211730Z
LAST-MODIFIED:20260331T211730Z
UID:10005537-1783585800-1783596600@montgomerycatholic.org
SUMMARY:Elementary Math Summer Camp
DESCRIPTION:Elementary Math Camp (8:30AM-11:30PM) \nRising 1st – 6th graders \nSt. Bede Campus
URL:https://montgomerycatholic.org/event/elementary-math-summer-camp-2/2026-07-09/
LOCATION:St. Bede Campus\, 3850 Atlanta Highway\, Montgomery\, AL\, 36109\, United States
CATEGORIES:Holy Spirit,St. Bede
ORGANIZER;CN="Laurie Gulley":MAILTO:lgulley@montgomerycatholic.org
END:VEVENT
END:VCALENDAR