BEGIN:VCALENDAR
VERSION:2.0
PRODID:-//Montgomery Catholic - ECPv6.15.20//NONSGML v1.0//EN
CALSCALE:GREGORIAN
METHOD:PUBLISH
X-ORIGINAL-URL:https://montgomerycatholic.org
X-WR-CALDESC:Events for Montgomery Catholic
REFRESH-INTERVAL;VALUE=DURATION:PT1H
X-Robots-Tag:noindex
X-PUBLISHED-TTL:PT1H
BEGIN:VTIMEZONE
TZID:America/Chicago
BEGIN:DAYLIGHT
TZOFFSETFROM:-0600
TZOFFSETTO:-0500
TZNAME:CDT
DTSTART:20220313T080000
END:DAYLIGHT
BEGIN:STANDARD
TZOFFSETFROM:-0500
TZOFFSETTO:-0600
TZNAME:CST
DTSTART:20221106T070000
END:STANDARD
BEGIN:DAYLIGHT
TZOFFSETFROM:-0600
TZOFFSETTO:-0500
TZNAME:CDT
DTSTART:20230312T080000
END:DAYLIGHT
BEGIN:STANDARD
TZOFFSETFROM:-0500
TZOFFSETTO:-0600
TZNAME:CST
DTSTART:20231105T070000
END:STANDARD
BEGIN:DAYLIGHT
TZOFFSETFROM:-0600
TZOFFSETTO:-0500
TZNAME:CDT
DTSTART:20240310T080000
END:DAYLIGHT
BEGIN:STANDARD
TZOFFSETFROM:-0500
TZOFFSETTO:-0600
TZNAME:CST
DTSTART:20241103T070000
END:STANDARD
END:VTIMEZONE
BEGIN:VEVENT
DTSTART;TZID=America/Chicago:20230621T130000
DTEND;TZID=America/Chicago:20230621T160000
DTSTAMP:20260421T180840
CREATED:20230320T151039Z
LAST-MODIFIED:20230320T151039Z
UID:10004059-1687352400-1687363200@montgomerycatholic.org
SUMMARY:Jr. Engineers Summer Camp
DESCRIPTION:Jr. Engineers Camp is a 3 day camp from 1:00pm – 4:00pm on June 20 – 22 in the MakerSpace at the Middle School Campus. \nCamp is open to all rising 2nd-5th graders. \nRegister online at www.montgomerycatholic.org/summercamps.
URL:https://montgomerycatholic.org/event/jr-engineers-summer-camp/2023-06-21/
LOCATION:Montgomery Catholic Preparatory School\, 5350 Vaughn Rd\, Montgomery\, AL\, 36116\, United States
CATEGORIES:Holy Spirit,St. Bede
ORGANIZER;CN="Daniel Harbin":MAILTO:dharbin@montgomerycatholic.org
GEO:32.3400861;-86.2160027
X-APPLE-STRUCTURED-LOCATION;VALUE=URI;X-ADDRESS=Montgomery Catholic Preparatory School 5350 Vaughn Rd Montgomery AL 36116 United States;X-APPLE-RADIUS=500;X-TITLE=5350 Vaughn Rd:geo:-86.2160027,32.3400861
END:VEVENT
BEGIN:VEVENT
DTSTART;TZID=America/Chicago:20230621T083000
DTEND;TZID=America/Chicago:20230621T113000
DTSTAMP:20260421T180840
CREATED:20230320T150834Z
LAST-MODIFIED:20230320T150834Z
UID:10004057-1687336200-1687347000@montgomerycatholic.org
SUMMARY:Soccer Summer Camp
DESCRIPTION:Soccer Camp is a 3 day camp from 8:30am – 11:30am on June 19 – 21 at the High School Soccer Field. \nCamp is open to all rising K5-8th graders. \nRegister online at www.montgomerycatholic.org/summercamps.
URL:https://montgomerycatholic.org/event/soccer-summer-camp-2/2023-06-21/
LOCATION:Montgomery Catholic Preparatory School\, 5350 Vaughn Rd\, Montgomery\, AL\, 36116\, United States
CATEGORIES:Athletics,Holy Spirit,Middle School,St. Bede
ORGANIZER;CN="Daniel Veres":MAILTO:dveres@montgomerycatholic.org
GEO:32.3400861;-86.2160027
X-APPLE-STRUCTURED-LOCATION;VALUE=URI;X-ADDRESS=Montgomery Catholic Preparatory School 5350 Vaughn Rd Montgomery AL 36116 United States;X-APPLE-RADIUS=500;X-TITLE=5350 Vaughn Rd:geo:-86.2160027,32.3400861
END:VEVENT
BEGIN:VEVENT
DTSTART;TZID=America/Chicago:20230620T130000
DTEND;TZID=America/Chicago:20230620T160000
DTSTAMP:20260421T180840
CREATED:20230320T151039Z
LAST-MODIFIED:20230320T151039Z
UID:10004058-1687266000-1687276800@montgomerycatholic.org
SUMMARY:Jr. Engineers Summer Camp
DESCRIPTION:Jr. Engineers Camp is a 3 day camp from 1:00pm – 4:00pm on June 20 – 22 in the MakerSpace at the Middle School Campus. \nCamp is open to all rising 2nd-5th graders. \nRegister online at www.montgomerycatholic.org/summercamps.
URL:https://montgomerycatholic.org/event/jr-engineers-summer-camp/2023-06-20/
LOCATION:Montgomery Catholic Preparatory School\, 5350 Vaughn Rd\, Montgomery\, AL\, 36116\, United States
CATEGORIES:Holy Spirit,St. Bede
ORGANIZER;CN="Daniel Harbin":MAILTO:dharbin@montgomerycatholic.org
GEO:32.3400861;-86.2160027
X-APPLE-STRUCTURED-LOCATION;VALUE=URI;X-ADDRESS=Montgomery Catholic Preparatory School 5350 Vaughn Rd Montgomery AL 36116 United States;X-APPLE-RADIUS=500;X-TITLE=5350 Vaughn Rd:geo:-86.2160027,32.3400861
END:VEVENT
BEGIN:VEVENT
DTSTART;TZID=America/Chicago:20230620T083000
DTEND;TZID=America/Chicago:20230620T113000
DTSTAMP:20260421T180840
CREATED:20230320T150834Z
LAST-MODIFIED:20230320T150834Z
UID:10004056-1687249800-1687260600@montgomerycatholic.org
SUMMARY:Soccer Summer Camp
DESCRIPTION:Soccer Camp is a 3 day camp from 8:30am – 11:30am on June 19 – 21 at the High School Soccer Field. \nCamp is open to all rising K5-8th graders. \nRegister online at www.montgomerycatholic.org/summercamps.
URL:https://montgomerycatholic.org/event/soccer-summer-camp-2/2023-06-20/
LOCATION:Montgomery Catholic Preparatory School\, 5350 Vaughn Rd\, Montgomery\, AL\, 36116\, United States
CATEGORIES:Athletics,Holy Spirit,Middle School,St. Bede
ORGANIZER;CN="Daniel Veres":MAILTO:dveres@montgomerycatholic.org
GEO:32.3400861;-86.2160027
X-APPLE-STRUCTURED-LOCATION;VALUE=URI;X-ADDRESS=Montgomery Catholic Preparatory School 5350 Vaughn Rd Montgomery AL 36116 United States;X-APPLE-RADIUS=500;X-TITLE=5350 Vaughn Rd:geo:-86.2160027,32.3400861
END:VEVENT
BEGIN:VEVENT
DTSTART;TZID=America/Chicago:20230619T083000
DTEND;TZID=America/Chicago:20230619T113000
DTSTAMP:20260421T180840
CREATED:20230320T150834Z
LAST-MODIFIED:20230320T150834Z
UID:10004055-1687163400-1687174200@montgomerycatholic.org
SUMMARY:Soccer Summer Camp
DESCRIPTION:Soccer Camp is a 3 day camp from 8:30am – 11:30am on June 19 – 21 at the High School Soccer Field. \nCamp is open to all rising K5-8th graders. \nRegister online at www.montgomerycatholic.org/summercamps.
URL:https://montgomerycatholic.org/event/soccer-summer-camp-2/2023-06-19/
LOCATION:Montgomery Catholic Preparatory School\, 5350 Vaughn Rd\, Montgomery\, AL\, 36116\, United States
CATEGORIES:Athletics,Holy Spirit,Middle School,St. Bede
ORGANIZER;CN="Daniel Veres":MAILTO:dveres@montgomerycatholic.org
GEO:32.3400861;-86.2160027
X-APPLE-STRUCTURED-LOCATION;VALUE=URI;X-ADDRESS=Montgomery Catholic Preparatory School 5350 Vaughn Rd Montgomery AL 36116 United States;X-APPLE-RADIUS=500;X-TITLE=5350 Vaughn Rd:geo:-86.2160027,32.3400861
END:VEVENT
BEGIN:VEVENT
DTSTART;TZID=America/Chicago:20230607T130000
DTEND;TZID=America/Chicago:20230607T160000
DTSTAMP:20260421T180840
CREATED:20230320T145653Z
LAST-MODIFIED:20230320T145653Z
UID:10004049-1686142800-1686153600@montgomerycatholic.org
SUMMARY:Robotics Summer Camp
DESCRIPTION:Robotics Camp is a 3 day camp from 1:00pm – 4:00pm on June 5 – 8 in the Robotics Room at the Middle School. \nCamp is open to all rising 7th-12th graders. \nRegister online at www.montgomerycatholic.org/summercamps.
URL:https://montgomerycatholic.org/event/robotics-summer-camp-2/2023-06-07/
LOCATION:Montgomery Catholic Preparatory School\, 5350 Vaughn Rd\, Montgomery\, AL\, 36116\, United States
CATEGORIES:High School,Middle School
GEO:32.3400861;-86.2160027
X-APPLE-STRUCTURED-LOCATION;VALUE=URI;X-ADDRESS=Montgomery Catholic Preparatory School 5350 Vaughn Rd Montgomery AL 36116 United States;X-APPLE-RADIUS=500;X-TITLE=5350 Vaughn Rd:geo:-86.2160027,32.3400861
END:VEVENT
BEGIN:VEVENT
DTSTART;TZID=America/Chicago:20230606T130000
DTEND;TZID=America/Chicago:20230606T160000
DTSTAMP:20260421T180840
CREATED:20230320T145653Z
LAST-MODIFIED:20230320T145653Z
UID:10004048-1686056400-1686067200@montgomerycatholic.org
SUMMARY:Robotics Summer Camp
DESCRIPTION:Robotics Camp is a 3 day camp from 1:00pm – 4:00pm on June 5 – 8 in the Robotics Room at the Middle School. \nCamp is open to all rising 7th-12th graders. \nRegister online at www.montgomerycatholic.org/summercamps.
URL:https://montgomerycatholic.org/event/robotics-summer-camp-2/2023-06-06/
LOCATION:Montgomery Catholic Preparatory School\, 5350 Vaughn Rd\, Montgomery\, AL\, 36116\, United States
CATEGORIES:High School,Middle School
GEO:32.3400861;-86.2160027
X-APPLE-STRUCTURED-LOCATION;VALUE=URI;X-ADDRESS=Montgomery Catholic Preparatory School 5350 Vaughn Rd Montgomery AL 36116 United States;X-APPLE-RADIUS=500;X-TITLE=5350 Vaughn Rd:geo:-86.2160027,32.3400861
END:VEVENT
BEGIN:VEVENT
DTSTART;TZID=America/Chicago:20230605T130000
DTEND;TZID=America/Chicago:20230605T160000
DTSTAMP:20260421T180840
CREATED:20230320T145653Z
LAST-MODIFIED:20230320T145653Z
UID:10004047-1685970000-1685980800@montgomerycatholic.org
SUMMARY:Robotics Summer Camp
DESCRIPTION:Robotics Camp is a 3 day camp from 1:00pm – 4:00pm on June 5 – 8 in the Robotics Room at the Middle School. \nCamp is open to all rising 7th-12th graders. \nRegister online at www.montgomerycatholic.org/summercamps.
URL:https://montgomerycatholic.org/event/robotics-summer-camp-2/2023-06-05/
LOCATION:Montgomery Catholic Preparatory School\, 5350 Vaughn Rd\, Montgomery\, AL\, 36116\, United States
CATEGORIES:High School,Middle School
GEO:32.3400861;-86.2160027
X-APPLE-STRUCTURED-LOCATION;VALUE=URI;X-ADDRESS=Montgomery Catholic Preparatory School 5350 Vaughn Rd Montgomery AL 36116 United States;X-APPLE-RADIUS=500;X-TITLE=5350 Vaughn Rd:geo:-86.2160027,32.3400861
END:VEVENT
BEGIN:VEVENT
DTSTART;TZID=America/Chicago:20230601T083000
DTEND;TZID=America/Chicago:20230601T113000
DTSTAMP:20260421T180840
CREATED:20230320T144527Z
LAST-MODIFIED:20230320T144926Z
UID:10004036-1685608200-1685619000@montgomerycatholic.org
SUMMARY:Softball Summer Camp
DESCRIPTION:Softball Camp is a 3 day camp from 8:30am – 11:30am on May 30 – June 1 at the High School Softball Field. \nCamp is open to rising K5-6th grade girls. \nRegister online at www.montgomerycatholic.org/summercamps.
URL:https://montgomerycatholic.org/event/softball-summer-camp-2/2023-06-01/
LOCATION:Montgomery Catholic Preparatory School\, 5350 Vaughn Rd\, Montgomery\, AL\, 36116\, United States
CATEGORIES:Athletics,Holy Spirit,St. Bede
ORGANIZER;CN="Whitney Toole":MAILTO:wtoole@montgomerycatholic.org
GEO:32.3400861;-86.2160027
X-APPLE-STRUCTURED-LOCATION;VALUE=URI;X-ADDRESS=Montgomery Catholic Preparatory School 5350 Vaughn Rd Montgomery AL 36116 United States;X-APPLE-RADIUS=500;X-TITLE=5350 Vaughn Rd:geo:-86.2160027,32.3400861
END:VEVENT
BEGIN:VEVENT
DTSTART;TZID=America/Chicago:20230601T083000
DTEND;TZID=America/Chicago:20230601T113000
DTSTAMP:20260421T180840
CREATED:20230320T144224Z
LAST-MODIFIED:20230320T145056Z
UID:10003284-1685608200-1685619000@montgomerycatholic.org
SUMMARY:Baseball Summer Camp
DESCRIPTION:Baseball Camp is a 3 day camp from 8:30am – 11:30am on May 30 – June 1 at the High School Baseball Field. \nCamp is open to rising K5-6th grade boys. \nRegister online at www.montgomerycatholic.org/summercamps.
URL:https://montgomerycatholic.org/event/baseball-summer-camp-3/2023-06-01/
LOCATION:Montgomery Catholic Preparatory School\, 5350 Vaughn Rd\, Montgomery\, AL\, 36116\, United States
CATEGORIES:Athletics,Holy Spirit,St. Bede
ORGANIZER;CN="Cam Lewis":MAILTO:clewis@montgomerycatholic.org
GEO:32.3400861;-86.2160027
X-APPLE-STRUCTURED-LOCATION;VALUE=URI;X-ADDRESS=Montgomery Catholic Preparatory School 5350 Vaughn Rd Montgomery AL 36116 United States;X-APPLE-RADIUS=500;X-TITLE=5350 Vaughn Rd:geo:-86.2160027,32.3400861
END:VEVENT
BEGIN:VEVENT
DTSTART;TZID=America/Chicago:20230531T083000
DTEND;TZID=America/Chicago:20230531T113000
DTSTAMP:20260421T180840
CREATED:20230320T144527Z
LAST-MODIFIED:20230320T144926Z
UID:10004035-1685521800-1685532600@montgomerycatholic.org
SUMMARY:Softball Summer Camp
DESCRIPTION:Softball Camp is a 3 day camp from 8:30am – 11:30am on May 30 – June 1 at the High School Softball Field. \nCamp is open to rising K5-6th grade girls. \nRegister online at www.montgomerycatholic.org/summercamps.
URL:https://montgomerycatholic.org/event/softball-summer-camp-2/2023-05-31/
LOCATION:Montgomery Catholic Preparatory School\, 5350 Vaughn Rd\, Montgomery\, AL\, 36116\, United States
CATEGORIES:Athletics,Holy Spirit,St. Bede
ORGANIZER;CN="Whitney Toole":MAILTO:wtoole@montgomerycatholic.org
GEO:32.3400861;-86.2160027
X-APPLE-STRUCTURED-LOCATION;VALUE=URI;X-ADDRESS=Montgomery Catholic Preparatory School 5350 Vaughn Rd Montgomery AL 36116 United States;X-APPLE-RADIUS=500;X-TITLE=5350 Vaughn Rd:geo:-86.2160027,32.3400861
END:VEVENT
BEGIN:VEVENT
DTSTART;TZID=America/Chicago:20230531T083000
DTEND;TZID=America/Chicago:20230531T113000
DTSTAMP:20260421T180840
CREATED:20230320T144224Z
LAST-MODIFIED:20230320T145056Z
UID:10003283-1685521800-1685532600@montgomerycatholic.org
SUMMARY:Baseball Summer Camp
DESCRIPTION:Baseball Camp is a 3 day camp from 8:30am – 11:30am on May 30 – June 1 at the High School Baseball Field. \nCamp is open to rising K5-6th grade boys. \nRegister online at www.montgomerycatholic.org/summercamps.
URL:https://montgomerycatholic.org/event/baseball-summer-camp-3/2023-05-31/
LOCATION:Montgomery Catholic Preparatory School\, 5350 Vaughn Rd\, Montgomery\, AL\, 36116\, United States
CATEGORIES:Athletics,Holy Spirit,St. Bede
ORGANIZER;CN="Cam Lewis":MAILTO:clewis@montgomerycatholic.org
GEO:32.3400861;-86.2160027
X-APPLE-STRUCTURED-LOCATION;VALUE=URI;X-ADDRESS=Montgomery Catholic Preparatory School 5350 Vaughn Rd Montgomery AL 36116 United States;X-APPLE-RADIUS=500;X-TITLE=5350 Vaughn Rd:geo:-86.2160027,32.3400861
END:VEVENT
BEGIN:VEVENT
DTSTART;TZID=America/Chicago:20230530T083000
DTEND;TZID=America/Chicago:20230530T113000
DTSTAMP:20260421T180840
CREATED:20230320T144527Z
LAST-MODIFIED:20230320T144926Z
UID:10004034-1685435400-1685446200@montgomerycatholic.org
SUMMARY:Softball Summer Camp
DESCRIPTION:Softball Camp is a 3 day camp from 8:30am – 11:30am on May 30 – June 1 at the High School Softball Field. \nCamp is open to rising K5-6th grade girls. \nRegister online at www.montgomerycatholic.org/summercamps.
URL:https://montgomerycatholic.org/event/softball-summer-camp-2/2023-05-30/
LOCATION:Montgomery Catholic Preparatory School\, 5350 Vaughn Rd\, Montgomery\, AL\, 36116\, United States
CATEGORIES:Athletics,Holy Spirit,St. Bede
ORGANIZER;CN="Whitney Toole":MAILTO:wtoole@montgomerycatholic.org
GEO:32.3400861;-86.2160027
X-APPLE-STRUCTURED-LOCATION;VALUE=URI;X-ADDRESS=Montgomery Catholic Preparatory School 5350 Vaughn Rd Montgomery AL 36116 United States;X-APPLE-RADIUS=500;X-TITLE=5350 Vaughn Rd:geo:-86.2160027,32.3400861
END:VEVENT
BEGIN:VEVENT
DTSTART;TZID=America/Chicago:20230530T083000
DTEND;TZID=America/Chicago:20230530T113000
DTSTAMP:20260421T180840
CREATED:20230320T144224Z
LAST-MODIFIED:20230320T145056Z
UID:10003282-1685435400-1685446200@montgomerycatholic.org
SUMMARY:Baseball Summer Camp
DESCRIPTION:Baseball Camp is a 3 day camp from 8:30am – 11:30am on May 30 – June 1 at the High School Baseball Field. \nCamp is open to rising K5-6th grade boys. \nRegister online at www.montgomerycatholic.org/summercamps.
URL:https://montgomerycatholic.org/event/baseball-summer-camp-3/2023-05-30/
LOCATION:Montgomery Catholic Preparatory School\, 5350 Vaughn Rd\, Montgomery\, AL\, 36116\, United States
CATEGORIES:Athletics,Holy Spirit,St. Bede
ORGANIZER;CN="Cam Lewis":MAILTO:clewis@montgomerycatholic.org
GEO:32.3400861;-86.2160027
X-APPLE-STRUCTURED-LOCATION;VALUE=URI;X-ADDRESS=Montgomery Catholic Preparatory School 5350 Vaughn Rd Montgomery AL 36116 United States;X-APPLE-RADIUS=500;X-TITLE=5350 Vaughn Rd:geo:-86.2160027,32.3400861
END:VEVENT
BEGIN:VEVENT
DTSTART;TZID=America/Chicago:20230524T183000
DTEND;TZID=America/Chicago:20230524T193000
DTSTAMP:20260421T180840
CREATED:20221214T163153Z
LAST-MODIFIED:20230103T025803Z
UID:10003856-1684953000-1684956600@montgomerycatholic.org
SUMMARY:Child Protection Training - Room #10 in the High School
DESCRIPTION:
URL:https://montgomerycatholic.org/event/child-protection-training-room-10-in-the-high-school-12/
LOCATION:Montgomery Catholic Preparatory School\, 5350 Vaughn Rd\, Montgomery\, AL\, 36116\, United States
CATEGORIES:High School,Holy Spirit,Middle School,St. Bede
GEO:32.3400861;-86.2160027
X-APPLE-STRUCTURED-LOCATION;VALUE=URI;X-ADDRESS=Montgomery Catholic Preparatory School 5350 Vaughn Rd Montgomery AL 36116 United States;X-APPLE-RADIUS=500;X-TITLE=5350 Vaughn Rd:geo:-86.2160027,32.3400861
END:VEVENT
BEGIN:VEVENT
DTSTART;TZID=America/Chicago:20230512T180000
DTEND;TZID=America/Chicago:20230512T200000
DTSTAMP:20260421T180840
CREATED:20230510T143211Z
LAST-MODIFIED:20230510T143211Z
UID:10004095-1683914400-1683921600@montgomerycatholic.org
SUMMARY:Spring Football game vs Homewood @ Catholic
DESCRIPTION:Our Spring Varsity Football Game against Homewood will be held on Friday\, May 12 starting at 6:00pm. Tickets are available through GoFan.
URL:https://montgomerycatholic.org/event/spring-football-game-vs-homewood-catholic/
LOCATION:Montgomery Catholic Preparatory School\, 5350 Vaughn Rd\, Montgomery\, AL\, 36116\, United States
GEO:32.3400861;-86.2160027
X-APPLE-STRUCTURED-LOCATION;VALUE=URI;X-ADDRESS=Montgomery Catholic Preparatory School 5350 Vaughn Rd Montgomery AL 36116 United States;X-APPLE-RADIUS=500;X-TITLE=5350 Vaughn Rd:geo:-86.2160027,32.3400861
END:VEVENT
BEGIN:VEVENT
DTSTART;TZID=America/Chicago:20230426T183000
DTEND;TZID=America/Chicago:20230426T193000
DTSTAMP:20260421T180840
CREATED:20221214T154452Z
LAST-MODIFIED:20221214T154452Z
UID:10003854-1682533800-1682537400@montgomerycatholic.org
SUMMARY:Child Protection Training - Room #10 in the High School
DESCRIPTION:
URL:https://montgomerycatholic.org/event/child-protection-training-room-10-in-the-high-school-11/
LOCATION:Montgomery Catholic Preparatory School\, 5350 Vaughn Rd\, Montgomery\, AL\, 36116\, United States
CATEGORIES:High School,Holy Spirit,Middle School,St. Bede
GEO:32.3400861;-86.2160027
X-APPLE-STRUCTURED-LOCATION;VALUE=URI;X-ADDRESS=Montgomery Catholic Preparatory School 5350 Vaughn Rd Montgomery AL 36116 United States;X-APPLE-RADIUS=500;X-TITLE=5350 Vaughn Rd:geo:-86.2160027,32.3400861
END:VEVENT
BEGIN:VEVENT
DTSTART;TZID=America/Chicago:20230425T190000
DTEND;TZID=America/Chicago:20230425T203000
DTSTAMP:20260421T180840
CREATED:20221114T184842Z
LAST-MODIFIED:20221114T184929Z
UID:10003828-1682449200-1682454600@montgomerycatholic.org
SUMMARY:V Boys Soccer Game vs. Pike Road (Senior Night)
DESCRIPTION:
URL:https://montgomerycatholic.org/event/v-boys-soccer-game-vs-pike-road-senior-night/
LOCATION:Montgomery Catholic Preparatory School\, 5350 Vaughn Rd\, Montgomery\, AL\, 36116\, United States
CATEGORIES:Athletics,High School
GEO:32.3400861;-86.2160027
X-APPLE-STRUCTURED-LOCATION;VALUE=URI;X-ADDRESS=Montgomery Catholic Preparatory School 5350 Vaughn Rd Montgomery AL 36116 United States;X-APPLE-RADIUS=500;X-TITLE=5350 Vaughn Rd:geo:-86.2160027,32.3400861
END:VEVENT
BEGIN:VEVENT
DTSTART;TZID=America/Chicago:20230425T173000
DTEND;TZID=America/Chicago:20230425T190000
DTSTAMP:20260421T180840
CREATED:20221114T184745Z
LAST-MODIFIED:20221114T184745Z
UID:10003825-1682443800-1682449200@montgomerycatholic.org
SUMMARY:V Girls Soccer Game vs. Pike Road (Senior Night)
DESCRIPTION:
URL:https://montgomerycatholic.org/event/v-girls-soccer-game-vs-pike-road-senior-night/
LOCATION:Montgomery Catholic Preparatory School\, 5350 Vaughn Rd\, Montgomery\, AL\, 36116\, United States
CATEGORIES:Athletics,High School
GEO:32.3400861;-86.2160027
X-APPLE-STRUCTURED-LOCATION;VALUE=URI;X-ADDRESS=Montgomery Catholic Preparatory School 5350 Vaughn Rd Montgomery AL 36116 United States;X-APPLE-RADIUS=500;X-TITLE=5350 Vaughn Rd:geo:-86.2160027,32.3400861
END:VEVENT
BEGIN:VEVENT
DTSTART;TZID=America/Chicago:20230420T190000
DTEND;TZID=America/Chicago:20230420T203000
DTSTAMP:20260421T180840
CREATED:20221114T184355Z
LAST-MODIFIED:20230123T184207Z
UID:10003151-1682017200-1682022600@montgomerycatholic.org
SUMMARY:V Girls Soccer Game vs. Oak Mountain
DESCRIPTION:
URL:https://montgomerycatholic.org/event/v-girls-soccer-game-vs-oak-mountain/
LOCATION:Montgomery Catholic Preparatory School\, 5350 Vaughn Rd\, Montgomery\, AL\, 36116\, United States
CATEGORIES:Athletics,High School
GEO:32.3400861;-86.2160027
X-APPLE-STRUCTURED-LOCATION;VALUE=URI;X-ADDRESS=Montgomery Catholic Preparatory School 5350 Vaughn Rd Montgomery AL 36116 United States;X-APPLE-RADIUS=500;X-TITLE=5350 Vaughn Rd:geo:-86.2160027,32.3400861
END:VEVENT
BEGIN:VEVENT
DTSTART;TZID=America/Chicago:20230420T173000
DTEND;TZID=America/Chicago:20230420T190000
DTSTAMP:20260421T180840
CREATED:20221114T184516Z
LAST-MODIFIED:20221114T184516Z
UID:10003153-1682011800-1682017200@montgomerycatholic.org
SUMMARY:V Boys Soccer Game vs. Andalusia
DESCRIPTION:
URL:https://montgomerycatholic.org/event/v-boys-soccer-game-vs-andalusia/
LOCATION:Montgomery Catholic Preparatory School\, 5350 Vaughn Rd\, Montgomery\, AL\, 36116\, United States
CATEGORIES:Athletics,High School
GEO:32.3400861;-86.2160027
X-APPLE-STRUCTURED-LOCATION;VALUE=URI;X-ADDRESS=Montgomery Catholic Preparatory School 5350 Vaughn Rd Montgomery AL 36116 United States;X-APPLE-RADIUS=500;X-TITLE=5350 Vaughn Rd:geo:-86.2160027,32.3400861
END:VEVENT
BEGIN:VEVENT
DTSTART;TZID=America/Chicago:20230418T190000
DTEND;TZID=America/Chicago:20230418T203000
DTSTAMP:20260421T180840
CREATED:20221114T183605Z
LAST-MODIFIED:20230406T174753Z
UID:10003150-1681844400-1681849800@montgomerycatholic.org
SUMMARY:V Boys Soccer Game vs LAMP
DESCRIPTION:
URL:https://montgomerycatholic.org/event/v-boys-soccer-game-lamp/
LOCATION:Montgomery Catholic Preparatory School\, 5350 Vaughn Rd\, Montgomery\, AL\, 36116\, United States
CATEGORIES:Athletics,High School
GEO:32.3400861;-86.2160027
X-APPLE-STRUCTURED-LOCATION;VALUE=URI;X-ADDRESS=Montgomery Catholic Preparatory School 5350 Vaughn Rd Montgomery AL 36116 United States;X-APPLE-RADIUS=500;X-TITLE=5350 Vaughn Rd:geo:-86.2160027,32.3400861
END:VEVENT
BEGIN:VEVENT
DTSTART;TZID=America/Chicago:20230418T173000
DTEND;TZID=America/Chicago:20230418T190000
DTSTAMP:20260421T180840
CREATED:20221114T183524Z
LAST-MODIFIED:20230406T174440Z
UID:10003149-1681839000-1681844400@montgomerycatholic.org
SUMMARY:V Girls Soccer Game vs LAMP
DESCRIPTION:
URL:https://montgomerycatholic.org/event/v-girls-soccer-game-lamp/
LOCATION:Montgomery Catholic Preparatory School\, 5350 Vaughn Rd\, Montgomery\, AL\, 36116\, United States
CATEGORIES:Athletics,High School
GEO:32.3400861;-86.2160027
X-APPLE-STRUCTURED-LOCATION;VALUE=URI;X-ADDRESS=Montgomery Catholic Preparatory School 5350 Vaughn Rd Montgomery AL 36116 United States;X-APPLE-RADIUS=500;X-TITLE=5350 Vaughn Rd:geo:-86.2160027,32.3400861
END:VEVENT
BEGIN:VEVENT
DTSTART;TZID=America/Chicago:20230418T171500
DTEND;TZID=America/Chicago:20230418T183000
DTSTAMP:20260421T180840
CREATED:20230213T205441Z
LAST-MODIFIED:20230213T205441Z
UID:10003254-1681838100-1681842600@montgomerycatholic.org
SUMMARY:JV Softball Game vs. PCA
DESCRIPTION:
URL:https://montgomerycatholic.org/event/jv-softball-game-vs-pca/
LOCATION:Montgomery Catholic Preparatory School\, 5350 Vaughn Rd\, Montgomery\, AL\, 36116\, United States
CATEGORIES:Athletics,High School
GEO:32.3400861;-86.2160027
X-APPLE-STRUCTURED-LOCATION;VALUE=URI;X-ADDRESS=Montgomery Catholic Preparatory School 5350 Vaughn Rd Montgomery AL 36116 United States;X-APPLE-RADIUS=500;X-TITLE=5350 Vaughn Rd:geo:-86.2160027,32.3400861
END:VEVENT
BEGIN:VEVENT
DTSTART;TZID=America/Chicago:20230418T154500
DTEND;TZID=America/Chicago:20230418T171500
DTSTAMP:20260421T180840
CREATED:20230213T205348Z
LAST-MODIFIED:20230213T205348Z
UID:10003252-1681832700-1681838100@montgomerycatholic.org
SUMMARY:V Softball Game vs. PCA
DESCRIPTION:
URL:https://montgomerycatholic.org/event/v-softball-game-vs-pca/
LOCATION:Montgomery Catholic Preparatory School\, 5350 Vaughn Rd\, Montgomery\, AL\, 36116\, United States
CATEGORIES:Athletics,High School
GEO:32.3400861;-86.2160027
X-APPLE-STRUCTURED-LOCATION;VALUE=URI;X-ADDRESS=Montgomery Catholic Preparatory School 5350 Vaughn Rd Montgomery AL 36116 United States;X-APPLE-RADIUS=500;X-TITLE=5350 Vaughn Rd:geo:-86.2160027,32.3400861
END:VEVENT
BEGIN:VEVENT
DTSTART;TZID=America/Chicago:20230413T153000
DTEND;TZID=America/Chicago:20230413T180000
DTSTAMP:20260421T180840
CREATED:20230117T182012Z
LAST-MODIFIED:20230117T182012Z
UID:10003945-1681399800-1681408800@montgomerycatholic.org
SUMMARY:V Baseball Game vs. LAMP
DESCRIPTION:
URL:https://montgomerycatholic.org/event/v-baseball-game-vs-lamp/
LOCATION:Montgomery Catholic Preparatory School\, 5350 Vaughn Rd\, Montgomery\, AL\, 36116\, United States
CATEGORIES:Athletics,High School
GEO:32.3400861;-86.2160027
X-APPLE-STRUCTURED-LOCATION;VALUE=URI;X-ADDRESS=Montgomery Catholic Preparatory School 5350 Vaughn Rd Montgomery AL 36116 United States;X-APPLE-RADIUS=500;X-TITLE=5350 Vaughn Rd:geo:-86.2160027,32.3400861
END:VEVENT
BEGIN:VEVENT
DTSTART;TZID=America/Chicago:20230411T153000
DTEND;TZID=America/Chicago:20230411T173000
DTSTAMP:20260421T180840
CREATED:20230113T185649Z
LAST-MODIFIED:20230310T171101Z
UID:10003912-1681227000-1681234200@montgomerycatholic.org
SUMMARY:JV Baseball Game vs. LAMP
DESCRIPTION:
URL:https://montgomerycatholic.org/event/jv-baseball-game-vs-lamp/
LOCATION:Montgomery Catholic Preparatory School\, 5350 Vaughn Rd\, Montgomery\, AL\, 36116\, United States
CATEGORIES:Athletics,High School
GEO:32.3400861;-86.2160027
X-APPLE-STRUCTURED-LOCATION;VALUE=URI;X-ADDRESS=Montgomery Catholic Preparatory School 5350 Vaughn Rd Montgomery AL 36116 United States;X-APPLE-RADIUS=500;X-TITLE=5350 Vaughn Rd:geo:-86.2160027,32.3400861
END:VEVENT
BEGIN:VEVENT
DTSTART;TZID=America/Chicago:20230405T153000
DTEND;TZID=America/Chicago:20230405T183000
DTSTAMP:20260421T180840
CREATED:20230213T192248Z
LAST-MODIFIED:20230213T192248Z
UID:10003249-1680708600-1680719400@montgomerycatholic.org
SUMMARY:V Softball Double Header vs. Bullock County
DESCRIPTION:
URL:https://montgomerycatholic.org/event/v-softball-double-header-vs-bullock-county/
LOCATION:Montgomery Catholic Preparatory School\, 5350 Vaughn Rd\, Montgomery\, AL\, 36116\, United States
CATEGORIES:Athletics,High School
GEO:32.3400861;-86.2160027
X-APPLE-STRUCTURED-LOCATION;VALUE=URI;X-ADDRESS=Montgomery Catholic Preparatory School 5350 Vaughn Rd Montgomery AL 36116 United States;X-APPLE-RADIUS=500;X-TITLE=5350 Vaughn Rd:geo:-86.2160027,32.3400861
END:VEVENT
BEGIN:VEVENT
DTSTART;TZID=America/Chicago:20230405T143000
DTEND;TZID=America/Chicago:20230405T183000
DTSTAMP:20260421T180840
CREATED:20230113T183126Z
LAST-MODIFIED:20230113T183126Z
UID:10003892-1680705000-1680719400@montgomerycatholic.org
SUMMARY:MS Baseball Doubleheader vs. MA
DESCRIPTION:
URL:https://montgomerycatholic.org/event/ms-baseball-doubleheader-vs-ma/
LOCATION:Montgomery Catholic Preparatory School\, 5350 Vaughn Rd\, Montgomery\, AL\, 36116\, United States
CATEGORIES:Athletics,Middle School
GEO:32.3400861;-86.2160027
X-APPLE-STRUCTURED-LOCATION;VALUE=URI;X-ADDRESS=Montgomery Catholic Preparatory School 5350 Vaughn Rd Montgomery AL 36116 United States;X-APPLE-RADIUS=500;X-TITLE=5350 Vaughn Rd:geo:-86.2160027,32.3400861
END:VEVENT
BEGIN:VEVENT
DTSTART;TZID=America/Chicago:20230404T190000
DTEND;TZID=America/Chicago:20230404T203000
DTSTAMP:20260421T180840
CREATED:20221114T181635Z
LAST-MODIFIED:20221114T181635Z
UID:10003823-1680634800-1680640200@montgomerycatholic.org
SUMMARY:V Boys Soccer Game vs. LAMP
DESCRIPTION:
URL:https://montgomerycatholic.org/event/v-boys-soccer-game-vs-lamp/
LOCATION:Montgomery Catholic Preparatory School\, 5350 Vaughn Rd\, Montgomery\, AL\, 36116\, United States
CATEGORIES:Athletics,High School
GEO:32.3400861;-86.2160027
X-APPLE-STRUCTURED-LOCATION;VALUE=URI;X-ADDRESS=Montgomery Catholic Preparatory School 5350 Vaughn Rd Montgomery AL 36116 United States;X-APPLE-RADIUS=500;X-TITLE=5350 Vaughn Rd:geo:-86.2160027,32.3400861
END:VEVENT
END:VCALENDAR