BEGIN:VCALENDAR
VERSION:2.0
PRODID:-//Montgomery Catholic - ECPv6.15.20//NONSGML v1.0//EN
CALSCALE:GREGORIAN
METHOD:PUBLISH
X-WR-CALNAME:Montgomery Catholic
X-ORIGINAL-URL:https://montgomerycatholic.org
X-WR-CALDESC:Events for Montgomery Catholic
REFRESH-INTERVAL;VALUE=DURATION:PT1H
X-Robots-Tag:noindex
X-PUBLISHED-TTL:PT1H
BEGIN:VTIMEZONE
TZID:America/Chicago
BEGIN:DAYLIGHT
TZOFFSETFROM:-0600
TZOFFSETTO:-0500
TZNAME:CDT
DTSTART:20200308T080000
END:DAYLIGHT
BEGIN:STANDARD
TZOFFSETFROM:-0500
TZOFFSETTO:-0600
TZNAME:CST
DTSTART:20201101T070000
END:STANDARD
BEGIN:DAYLIGHT
TZOFFSETFROM:-0600
TZOFFSETTO:-0500
TZNAME:CDT
DTSTART:20210314T080000
END:DAYLIGHT
BEGIN:STANDARD
TZOFFSETFROM:-0500
TZOFFSETTO:-0600
TZNAME:CST
DTSTART:20211107T070000
END:STANDARD
BEGIN:DAYLIGHT
TZOFFSETFROM:-0600
TZOFFSETTO:-0500
TZNAME:CDT
DTSTART:20220313T080000
END:DAYLIGHT
BEGIN:STANDARD
TZOFFSETFROM:-0500
TZOFFSETTO:-0600
TZNAME:CST
DTSTART:20221106T070000
END:STANDARD
END:VTIMEZONE
BEGIN:VEVENT
DTSTART;VALUE=DATE:20211018
DTEND;VALUE=DATE:20211023
DTSTAMP:20260423T215539
CREATED:20210728T211559Z
LAST-MODIFIED:20210728T211647Z
UID:10002507-1634515200-1634947199@montgomerycatholic.org
SUMMARY:Homecoming Week
DESCRIPTION:
URL:https://montgomerycatholic.org/event/homecoming-week/
LOCATION:Montgomery Catholic Preparatory School\, 5350 Vaughn Rd\, Montgomery\, AL\, 36116\, United States
CATEGORIES:High School,Middle School
GEO:32.3400861;-86.2160027
X-APPLE-STRUCTURED-LOCATION;VALUE=URI;X-ADDRESS=Montgomery Catholic Preparatory School 5350 Vaughn Rd Montgomery AL 36116 United States;X-APPLE-RADIUS=500;X-TITLE=5350 Vaughn Rd:geo:-86.2160027,32.3400861
END:VEVENT
BEGIN:VEVENT
DTSTART;TZID=America/Chicago:20211015T190000
DTEND;TZID=America/Chicago:20211015T220000
DTSTAMP:20260423T215539
CREATED:20210728T211435Z
LAST-MODIFIED:20210728T211435Z
UID:10002506-1634324400-1634335200@montgomerycatholic.org
SUMMARY:V Football vs Trinity
DESCRIPTION:
URL:https://montgomerycatholic.org/event/v-football-vs-trinity/
LOCATION:Montgomery Catholic Preparatory School\, 5350 Vaughn Rd\, Montgomery\, AL\, 36116\, United States
CATEGORIES:Athletics
GEO:32.3400861;-86.2160027
X-APPLE-STRUCTURED-LOCATION;VALUE=URI;X-ADDRESS=Montgomery Catholic Preparatory School 5350 Vaughn Rd Montgomery AL 36116 United States;X-APPLE-RADIUS=500;X-TITLE=5350 Vaughn Rd:geo:-86.2160027,32.3400861
END:VEVENT
BEGIN:VEVENT
DTSTART;VALUE=DATE:20211015
DTEND;VALUE=DATE:20211016
DTSTAMP:20260423T215539
CREATED:20210728T211349Z
LAST-MODIFIED:20210728T211349Z
UID:10002505-1634256000-1634342399@montgomerycatholic.org
SUMMARY:End of 1st Quarter
DESCRIPTION:
URL:https://montgomerycatholic.org/event/end-of-1st-quarter/
LOCATION:Montgomery Catholic Preparatory School\, 5350 Vaughn Rd\, Montgomery\, AL\, 36116\, United States
CATEGORIES:General
GEO:32.3400861;-86.2160027
X-APPLE-STRUCTURED-LOCATION;VALUE=URI;X-ADDRESS=Montgomery Catholic Preparatory School 5350 Vaughn Rd Montgomery AL 36116 United States;X-APPLE-RADIUS=500;X-TITLE=5350 Vaughn Rd:geo:-86.2160027,32.3400861
END:VEVENT
BEGIN:VEVENT
DTSTART;TZID=America/Chicago:20211014T173000
DTEND;TZID=America/Chicago:20211014T193000
DTSTAMP:20260423T215539
CREATED:20210922T190949Z
LAST-MODIFIED:20211008T175409Z
UID:10002502-1634232600-1634239800@montgomerycatholic.org
SUMMARY:V Volleyball  - Area Tournament @ Home
DESCRIPTION:We will play the winner of PCA vs Trinity @ 4:30pm \nOur game will immediately follow the completion of the previous game.
URL:https://montgomerycatholic.org/event/v-volleyball-ma/
LOCATION:Montgomery Catholic Preparatory School\, 5350 Vaughn Rd\, Montgomery\, AL\, 36116\, United States
CATEGORIES:Athletics,High School
GEO:32.3400861;-86.2160027
X-APPLE-STRUCTURED-LOCATION;VALUE=URI;X-ADDRESS=Montgomery Catholic Preparatory School 5350 Vaughn Rd Montgomery AL 36116 United States;X-APPLE-RADIUS=500;X-TITLE=5350 Vaughn Rd:geo:-86.2160027,32.3400861
END:VEVENT
BEGIN:VEVENT
DTSTART;TZID=America/Chicago:20211007T163000
DTEND;TZID=America/Chicago:20211007T173000
DTSTAMP:20260423T215539
CREATED:20210922T190542Z
LAST-MODIFIED:20210922T192005Z
UID:10002500-1633624200-1633627800@montgomerycatholic.org
SUMMARY:V Volleyball vs PCA
DESCRIPTION:
URL:https://montgomerycatholic.org/event/v-volleyball-vs-pca/
LOCATION:Montgomery Catholic Preparatory School\, 5350 Vaughn Rd\, Montgomery\, AL\, 36116\, United States
CATEGORIES:Athletics
GEO:32.3400861;-86.2160027
X-APPLE-STRUCTURED-LOCATION;VALUE=URI;X-ADDRESS=Montgomery Catholic Preparatory School 5350 Vaughn Rd Montgomery AL 36116 United States;X-APPLE-RADIUS=500;X-TITLE=5350 Vaughn Rd:geo:-86.2160027,32.3400861
END:VEVENT
BEGIN:VEVENT
DTSTART;TZID=America/Chicago:20211005T173000
DTEND;TZID=America/Chicago:20211005T193000
DTSTAMP:20260423T215539
CREATED:20210922T190503Z
LAST-MODIFIED:20211004T161617Z
UID:10002498-1633455000-1633462200@montgomerycatholic.org
SUMMARY:V Volleyball vs. Pike Road
DESCRIPTION:
URL:https://montgomerycatholic.org/event/v-volleyball-tri-match-prattville-vs-ma-and-prattville/
LOCATION:Montgomery Catholic Preparatory School\, 5350 Vaughn Rd\, Montgomery\, AL\, 36116\, United States
CATEGORIES:Athletics,High School
GEO:32.3400861;-86.2160027
X-APPLE-STRUCTURED-LOCATION;VALUE=URI;X-ADDRESS=Montgomery Catholic Preparatory School 5350 Vaughn Rd Montgomery AL 36116 United States;X-APPLE-RADIUS=500;X-TITLE=5350 Vaughn Rd:geo:-86.2160027,32.3400861
END:VEVENT
BEGIN:VEVENT
DTSTART;TZID=America/Chicago:20211001T190000
DTEND;TZID=America/Chicago:20211001T220000
DTSTAMP:20260423T215539
CREATED:20210728T210909Z
LAST-MODIFIED:20210728T210909Z
UID:10002497-1633114800-1633125600@montgomerycatholic.org
SUMMARY:V Football vs Pike County
DESCRIPTION:
URL:https://montgomerycatholic.org/event/v-football-vs-pike-county/
LOCATION:Montgomery Catholic Preparatory School\, 5350 Vaughn Rd\, Montgomery\, AL\, 36116\, United States
CATEGORIES:Athletics
GEO:32.3400861;-86.2160027
X-APPLE-STRUCTURED-LOCATION;VALUE=URI;X-ADDRESS=Montgomery Catholic Preparatory School 5350 Vaughn Rd Montgomery AL 36116 United States;X-APPLE-RADIUS=500;X-TITLE=5350 Vaughn Rd:geo:-86.2160027,32.3400861
END:VEVENT
BEGIN:VEVENT
DTSTART;TZID=America/Chicago:20210924T190000
DTEND;TZID=America/Chicago:20210924T220000
DTSTAMP:20260423T215539
CREATED:20210728T210650Z
LAST-MODIFIED:20210728T210650Z
UID:10002493-1632510000-1632520800@montgomerycatholic.org
SUMMARY:V Football vs MA
DESCRIPTION:
URL:https://montgomerycatholic.org/event/v-football-vs-ma/
LOCATION:Montgomery Catholic Preparatory School\, 5350 Vaughn Rd\, Montgomery\, AL\, 36116\, United States
CATEGORIES:Athletics
GEO:32.3400861;-86.2160027
X-APPLE-STRUCTURED-LOCATION;VALUE=URI;X-ADDRESS=Montgomery Catholic Preparatory School 5350 Vaughn Rd Montgomery AL 36116 United States;X-APPLE-RADIUS=500;X-TITLE=5350 Vaughn Rd:geo:-86.2160027,32.3400861
END:VEVENT
BEGIN:VEVENT
DTSTART;TZID=America/Chicago:20210910T190000
DTEND;TZID=America/Chicago:20210910T220000
DTSTAMP:20260423T215539
CREATED:20210728T210337Z
LAST-MODIFIED:20210728T210337Z
UID:10002488-1631300400-1631311200@montgomerycatholic.org
SUMMARY:V Football vs Reeltown
DESCRIPTION:
URL:https://montgomerycatholic.org/event/v-football-vs-reeltown/
LOCATION:Montgomery Catholic Preparatory School\, 5350 Vaughn Rd\, Montgomery\, AL\, 36116\, United States
CATEGORIES:Athletics
GEO:32.3400861;-86.2160027
X-APPLE-STRUCTURED-LOCATION;VALUE=URI;X-ADDRESS=Montgomery Catholic Preparatory School 5350 Vaughn Rd Montgomery AL 36116 United States;X-APPLE-RADIUS=500;X-TITLE=5350 Vaughn Rd:geo:-86.2160027,32.3400861
END:VEVENT
BEGIN:VEVENT
DTSTART;VALUE=DATE:20210906
DTEND;VALUE=DATE:20210918
DTSTAMP:20260423T215539
CREATED:20210728T210120Z
LAST-MODIFIED:20210728T210120Z
UID:10002485-1630886400-1631923199@montgomerycatholic.org
SUMMARY:PTC Cookie Dough Sale
DESCRIPTION:The PTC is selling everyone’s favorite– cookie dough! Keep an eye out for more information because you won’t want to miss this! \nAll proceeds support the Parent-Teacher Council’s efforts for the year\, teacher lunches\, campus parent events\, field days\, and general support for the school.
URL:https://montgomerycatholic.org/event/ptc-cookie-dough-sale/
LOCATION:Montgomery Catholic Preparatory School\, 5350 Vaughn Rd\, Montgomery\, AL\, 36116\, United States
CATEGORIES:Fundraising
GEO:32.3400861;-86.2160027
X-APPLE-STRUCTURED-LOCATION;VALUE=URI;X-ADDRESS=Montgomery Catholic Preparatory School 5350 Vaughn Rd Montgomery AL 36116 United States;X-APPLE-RADIUS=500;X-TITLE=5350 Vaughn Rd:geo:-86.2160027,32.3400861
END:VEVENT
BEGIN:VEVENT
DTSTART;TZID=America/Chicago:20210805T083000
DTEND;TZID=America/Chicago:20210805T113000
DTSTAMP:20260423T215539
CREATED:20210728T202936Z
LAST-MODIFIED:20210728T203006Z
UID:10002468-1628152200-1628163000@montgomerycatholic.org
SUMMARY:Art Summer Camp
DESCRIPTION:For Rising 1st-7th grade Boys & Girls\nAt the Holy Spirit Campus
URL:https://montgomerycatholic.org/event/art-summer-camp/2021-08-05/
LOCATION:Montgomery Catholic Preparatory School\, 5350 Vaughn Rd\, Montgomery\, AL\, 36116\, United States
CATEGORIES:General
GEO:32.3400861;-86.2160027
X-APPLE-STRUCTURED-LOCATION;VALUE=URI;X-ADDRESS=Montgomery Catholic Preparatory School 5350 Vaughn Rd Montgomery AL 36116 United States;X-APPLE-RADIUS=500;X-TITLE=5350 Vaughn Rd:geo:-86.2160027,32.3400861
END:VEVENT
BEGIN:VEVENT
DTSTART;TZID=America/Chicago:20210804T130000
DTEND;TZID=America/Chicago:20210804T160000
DTSTAMP:20260423T215539
CREATED:20210728T203130Z
LAST-MODIFIED:20210728T203130Z
UID:10002476-1628082000-1628092800@montgomerycatholic.org
SUMMARY:Cheerleading Summer Camp
DESCRIPTION:For Rising K-6th grade Boys \nIn the High School Field House
URL:https://montgomerycatholic.org/event/cheerleading-summer-camp/2021-08-04/
LOCATION:Montgomery Catholic Preparatory School\, 5350 Vaughn Rd\, Montgomery\, AL\, 36116\, United States
CATEGORIES:Athletics
GEO:32.3400861;-86.2160027
X-APPLE-STRUCTURED-LOCATION;VALUE=URI;X-ADDRESS=Montgomery Catholic Preparatory School 5350 Vaughn Rd Montgomery AL 36116 United States;X-APPLE-RADIUS=500;X-TITLE=5350 Vaughn Rd:geo:-86.2160027,32.3400861
END:VEVENT
BEGIN:VEVENT
DTSTART;TZID=America/Chicago:20210804T083000
DTEND;TZID=America/Chicago:20210804T113000
DTSTAMP:20260423T215539
CREATED:20210728T202936Z
LAST-MODIFIED:20210728T203006Z
UID:10002467-1628065800-1628076600@montgomerycatholic.org
SUMMARY:Art Summer Camp
DESCRIPTION:For Rising 1st-7th grade Boys & Girls\nAt the Holy Spirit Campus
URL:https://montgomerycatholic.org/event/art-summer-camp/2021-08-04/
LOCATION:Montgomery Catholic Preparatory School\, 5350 Vaughn Rd\, Montgomery\, AL\, 36116\, United States
CATEGORIES:General
GEO:32.3400861;-86.2160027
X-APPLE-STRUCTURED-LOCATION;VALUE=URI;X-ADDRESS=Montgomery Catholic Preparatory School 5350 Vaughn Rd Montgomery AL 36116 United States;X-APPLE-RADIUS=500;X-TITLE=5350 Vaughn Rd:geo:-86.2160027,32.3400861
END:VEVENT
BEGIN:VEVENT
DTSTART;TZID=America/Chicago:20210803T130000
DTEND;TZID=America/Chicago:20210803T160000
DTSTAMP:20260423T215539
CREATED:20210728T203130Z
LAST-MODIFIED:20210728T203130Z
UID:10002475-1627995600-1628006400@montgomerycatholic.org
SUMMARY:Cheerleading Summer Camp
DESCRIPTION:For Rising K-6th grade Boys \nIn the High School Field House
URL:https://montgomerycatholic.org/event/cheerleading-summer-camp/2021-08-03/
LOCATION:Montgomery Catholic Preparatory School\, 5350 Vaughn Rd\, Montgomery\, AL\, 36116\, United States
CATEGORIES:Athletics
GEO:32.3400861;-86.2160027
X-APPLE-STRUCTURED-LOCATION;VALUE=URI;X-ADDRESS=Montgomery Catholic Preparatory School 5350 Vaughn Rd Montgomery AL 36116 United States;X-APPLE-RADIUS=500;X-TITLE=5350 Vaughn Rd:geo:-86.2160027,32.3400861
END:VEVENT
BEGIN:VEVENT
DTSTART;TZID=America/Chicago:20210803T083000
DTEND;TZID=America/Chicago:20210803T113000
DTSTAMP:20260423T215539
CREATED:20210728T202936Z
LAST-MODIFIED:20210728T203006Z
UID:10002466-1627979400-1627990200@montgomerycatholic.org
SUMMARY:Art Summer Camp
DESCRIPTION:For Rising 1st-7th grade Boys & Girls\nAt the Holy Spirit Campus
URL:https://montgomerycatholic.org/event/art-summer-camp/2021-08-03/
LOCATION:Montgomery Catholic Preparatory School\, 5350 Vaughn Rd\, Montgomery\, AL\, 36116\, United States
CATEGORIES:General
GEO:32.3400861;-86.2160027
X-APPLE-STRUCTURED-LOCATION;VALUE=URI;X-ADDRESS=Montgomery Catholic Preparatory School 5350 Vaughn Rd Montgomery AL 36116 United States;X-APPLE-RADIUS=500;X-TITLE=5350 Vaughn Rd:geo:-86.2160027,32.3400861
END:VEVENT
BEGIN:VEVENT
DTSTART;TZID=America/Chicago:20210802T130000
DTEND;TZID=America/Chicago:20210802T160000
DTSTAMP:20260423T215539
CREATED:20210728T203130Z
LAST-MODIFIED:20210728T203130Z
UID:10002474-1627909200-1627920000@montgomerycatholic.org
SUMMARY:Cheerleading Summer Camp
DESCRIPTION:For Rising K-6th grade Boys \nIn the High School Field House
URL:https://montgomerycatholic.org/event/cheerleading-summer-camp/2021-08-02/
LOCATION:Montgomery Catholic Preparatory School\, 5350 Vaughn Rd\, Montgomery\, AL\, 36116\, United States
CATEGORIES:Athletics
GEO:32.3400861;-86.2160027
X-APPLE-STRUCTURED-LOCATION;VALUE=URI;X-ADDRESS=Montgomery Catholic Preparatory School 5350 Vaughn Rd Montgomery AL 36116 United States;X-APPLE-RADIUS=500;X-TITLE=5350 Vaughn Rd:geo:-86.2160027,32.3400861
END:VEVENT
BEGIN:VEVENT
DTSTART;TZID=America/Chicago:20210802T083000
DTEND;TZID=America/Chicago:20210802T113000
DTSTAMP:20260423T215539
CREATED:20210728T202936Z
LAST-MODIFIED:20210728T203006Z
UID:10002465-1627893000-1627903800@montgomerycatholic.org
SUMMARY:Art Summer Camp
DESCRIPTION:For Rising 1st-7th grade Boys & Girls\nAt the Holy Spirit Campus
URL:https://montgomerycatholic.org/event/art-summer-camp/2021-08-02/
LOCATION:Montgomery Catholic Preparatory School\, 5350 Vaughn Rd\, Montgomery\, AL\, 36116\, United States
CATEGORIES:General
GEO:32.3400861;-86.2160027
X-APPLE-STRUCTURED-LOCATION;VALUE=URI;X-ADDRESS=Montgomery Catholic Preparatory School 5350 Vaughn Rd Montgomery AL 36116 United States;X-APPLE-RADIUS=500;X-TITLE=5350 Vaughn Rd:geo:-86.2160027,32.3400861
END:VEVENT
BEGIN:VEVENT
DTSTART;VALUE=DATE:20210730
DTEND;VALUE=DATE:20210731
DTSTAMP:20260423T215539
CREATED:20210728T195525Z
LAST-MODIFIED:20210728T195525Z
UID:10002429-1627603200-1627689599@montgomerycatholic.org
SUMMARY:MCPS Office Closed
DESCRIPTION:
URL:https://montgomerycatholic.org/event/mcps-office-closed/2021-07-30/
LOCATION:Montgomery Catholic Preparatory School\, 5350 Vaughn Rd\, Montgomery\, AL\, 36116\, United States
CATEGORIES:General
GEO:32.3400861;-86.2160027
X-APPLE-STRUCTURED-LOCATION;VALUE=URI;X-ADDRESS=Montgomery Catholic Preparatory School 5350 Vaughn Rd Montgomery AL 36116 United States;X-APPLE-RADIUS=500;X-TITLE=5350 Vaughn Rd:geo:-86.2160027,32.3400861
END:VEVENT
BEGIN:VEVENT
DTSTART;TZID=America/Chicago:20210728T083000
DTEND;TZID=America/Chicago:20210728T113000
DTSTAMP:20260423T215539
CREATED:20210728T202109Z
LAST-MODIFIED:20210728T202629Z
UID:10002463-1627461000-1627471800@montgomerycatholic.org
SUMMARY:Football Summer Camp
DESCRIPTION:For Rising K-6th grade Boys \nOn the High School Football Field
URL:https://montgomerycatholic.org/event/football-summer-camp/2021-07-28/
LOCATION:Montgomery Catholic Preparatory School\, 5350 Vaughn Rd\, Montgomery\, AL\, 36116\, United States
CATEGORIES:Athletics
GEO:32.3400861;-86.2160027
X-APPLE-STRUCTURED-LOCATION;VALUE=URI;X-ADDRESS=Montgomery Catholic Preparatory School 5350 Vaughn Rd Montgomery AL 36116 United States;X-APPLE-RADIUS=500;X-TITLE=5350 Vaughn Rd:geo:-86.2160027,32.3400861
END:VEVENT
BEGIN:VEVENT
DTSTART;TZID=America/Chicago:20210727T083000
DTEND;TZID=America/Chicago:20210727T113000
DTSTAMP:20260423T215539
CREATED:20210728T202109Z
LAST-MODIFIED:20210728T202629Z
UID:10002462-1627374600-1627385400@montgomerycatholic.org
SUMMARY:Football Summer Camp
DESCRIPTION:For Rising K-6th grade Boys \nOn the High School Football Field
URL:https://montgomerycatholic.org/event/football-summer-camp/2021-07-27/
LOCATION:Montgomery Catholic Preparatory School\, 5350 Vaughn Rd\, Montgomery\, AL\, 36116\, United States
CATEGORIES:Athletics
GEO:32.3400861;-86.2160027
X-APPLE-STRUCTURED-LOCATION;VALUE=URI;X-ADDRESS=Montgomery Catholic Preparatory School 5350 Vaughn Rd Montgomery AL 36116 United States;X-APPLE-RADIUS=500;X-TITLE=5350 Vaughn Rd:geo:-86.2160027,32.3400861
END:VEVENT
BEGIN:VEVENT
DTSTART;TZID=America/Chicago:20210726T083000
DTEND;TZID=America/Chicago:20210726T113000
DTSTAMP:20260423T215539
CREATED:20210728T202109Z
LAST-MODIFIED:20210728T202629Z
UID:10002461-1627288200-1627299000@montgomerycatholic.org
SUMMARY:Football Summer Camp
DESCRIPTION:For Rising K-6th grade Boys \nOn the High School Football Field
URL:https://montgomerycatholic.org/event/football-summer-camp/2021-07-26/
LOCATION:Montgomery Catholic Preparatory School\, 5350 Vaughn Rd\, Montgomery\, AL\, 36116\, United States
CATEGORIES:Athletics
GEO:32.3400861;-86.2160027
X-APPLE-STRUCTURED-LOCATION;VALUE=URI;X-ADDRESS=Montgomery Catholic Preparatory School 5350 Vaughn Rd Montgomery AL 36116 United States;X-APPLE-RADIUS=500;X-TITLE=5350 Vaughn Rd:geo:-86.2160027,32.3400861
END:VEVENT
BEGIN:VEVENT
DTSTART;TZID=America/Chicago:20210723T090000
DTEND;TZID=America/Chicago:20210723T140000
DTSTAMP:20260423T215539
CREATED:20210728T201837Z
LAST-MODIFIED:20210728T201837Z
UID:10002459-1627030800-1627048800@montgomerycatholic.org
SUMMARY:Drama Summer Camp
DESCRIPTION:For Rising 1st-7th grade Boys & Girls\nAt the High School Campus
URL:https://montgomerycatholic.org/event/drama-summer-camp/2021-07-23/
LOCATION:Montgomery Catholic Preparatory School\, 5350 Vaughn Rd\, Montgomery\, AL\, 36116\, United States
CATEGORIES:General
GEO:32.3400861;-86.2160027
X-APPLE-STRUCTURED-LOCATION;VALUE=URI;X-ADDRESS=Montgomery Catholic Preparatory School 5350 Vaughn Rd Montgomery AL 36116 United States;X-APPLE-RADIUS=500;X-TITLE=5350 Vaughn Rd:geo:-86.2160027,32.3400861
END:VEVENT
BEGIN:VEVENT
DTSTART;VALUE=DATE:20210723
DTEND;VALUE=DATE:20210724
DTSTAMP:20260423T215539
CREATED:20210728T195525Z
LAST-MODIFIED:20210728T195525Z
UID:10002428-1626998400-1627084799@montgomerycatholic.org
SUMMARY:MCPS Office Closed
DESCRIPTION:
URL:https://montgomerycatholic.org/event/mcps-office-closed/2021-07-23/
LOCATION:Montgomery Catholic Preparatory School\, 5350 Vaughn Rd\, Montgomery\, AL\, 36116\, United States
CATEGORIES:General
GEO:32.3400861;-86.2160027
X-APPLE-STRUCTURED-LOCATION;VALUE=URI;X-ADDRESS=Montgomery Catholic Preparatory School 5350 Vaughn Rd Montgomery AL 36116 United States;X-APPLE-RADIUS=500;X-TITLE=5350 Vaughn Rd:geo:-86.2160027,32.3400861
END:VEVENT
BEGIN:VEVENT
DTSTART;TZID=America/Chicago:20210722T130000
DTEND;TZID=America/Chicago:20210722T160000
DTSTAMP:20260423T215539
CREATED:20210728T201837Z
LAST-MODIFIED:20210728T201837Z
UID:10002458-1626958800-1626969600@montgomerycatholic.org
SUMMARY:Drama Summer Camp
DESCRIPTION:For Rising 1st-7th grade Boys & Girls\nAt the High School Campus
URL:https://montgomerycatholic.org/event/drama-summer-camp/2021-07-22/
LOCATION:Montgomery Catholic Preparatory School\, 5350 Vaughn Rd\, Montgomery\, AL\, 36116\, United States
CATEGORIES:General
GEO:32.3400861;-86.2160027
X-APPLE-STRUCTURED-LOCATION;VALUE=URI;X-ADDRESS=Montgomery Catholic Preparatory School 5350 Vaughn Rd Montgomery AL 36116 United States;X-APPLE-RADIUS=500;X-TITLE=5350 Vaughn Rd:geo:-86.2160027,32.3400861
END:VEVENT
BEGIN:VEVENT
DTSTART;TZID=America/Chicago:20210722T130000
DTEND;TZID=America/Chicago:20210722T160000
DTSTAMP:20260423T215540
CREATED:20210728T201207Z
LAST-MODIFIED:20210728T202317Z
UID:10002448-1626958800-1626969600@montgomerycatholic.org
SUMMARY:Summer MakerSpace Institute
DESCRIPTION:
URL:https://montgomerycatholic.org/event/summer-makerspace-institute-3/2021-07-22/
LOCATION:Montgomery Catholic Preparatory School\, 5350 Vaughn Rd\, Montgomery\, AL\, 36116\, United States
CATEGORIES:General
GEO:32.3400861;-86.2160027
X-APPLE-STRUCTURED-LOCATION;VALUE=URI;X-ADDRESS=Montgomery Catholic Preparatory School 5350 Vaughn Rd Montgomery AL 36116 United States;X-APPLE-RADIUS=500;X-TITLE=5350 Vaughn Rd:geo:-86.2160027,32.3400861
END:VEVENT
BEGIN:VEVENT
DTSTART;TZID=America/Chicago:20210721T130000
DTEND;TZID=America/Chicago:20210721T160000
DTSTAMP:20260423T215540
CREATED:20210728T201837Z
LAST-MODIFIED:20210728T201837Z
UID:10002457-1626872400-1626883200@montgomerycatholic.org
SUMMARY:Drama Summer Camp
DESCRIPTION:For Rising 1st-7th grade Boys & Girls\nAt the High School Campus
URL:https://montgomerycatholic.org/event/drama-summer-camp/2021-07-21/
LOCATION:Montgomery Catholic Preparatory School\, 5350 Vaughn Rd\, Montgomery\, AL\, 36116\, United States
CATEGORIES:General
GEO:32.3400861;-86.2160027
X-APPLE-STRUCTURED-LOCATION;VALUE=URI;X-ADDRESS=Montgomery Catholic Preparatory School 5350 Vaughn Rd Montgomery AL 36116 United States;X-APPLE-RADIUS=500;X-TITLE=5350 Vaughn Rd:geo:-86.2160027,32.3400861
END:VEVENT
BEGIN:VEVENT
DTSTART;TZID=America/Chicago:20210721T130000
DTEND;TZID=America/Chicago:20210721T160000
DTSTAMP:20260423T215540
CREATED:20210728T201207Z
LAST-MODIFIED:20210728T202317Z
UID:10002447-1626872400-1626883200@montgomerycatholic.org
SUMMARY:Summer MakerSpace Institute
DESCRIPTION:
URL:https://montgomerycatholic.org/event/summer-makerspace-institute-3/2021-07-21/
LOCATION:Montgomery Catholic Preparatory School\, 5350 Vaughn Rd\, Montgomery\, AL\, 36116\, United States
CATEGORIES:General
GEO:32.3400861;-86.2160027
X-APPLE-STRUCTURED-LOCATION;VALUE=URI;X-ADDRESS=Montgomery Catholic Preparatory School 5350 Vaughn Rd Montgomery AL 36116 United States;X-APPLE-RADIUS=500;X-TITLE=5350 Vaughn Rd:geo:-86.2160027,32.3400861
END:VEVENT
BEGIN:VEVENT
DTSTART;TZID=America/Chicago:20210720T130000
DTEND;TZID=America/Chicago:20210720T160000
DTSTAMP:20260423T215540
CREATED:20210728T201837Z
LAST-MODIFIED:20210728T201837Z
UID:10002456-1626786000-1626796800@montgomerycatholic.org
SUMMARY:Drama Summer Camp
DESCRIPTION:For Rising 1st-7th grade Boys & Girls\nAt the High School Campus
URL:https://montgomerycatholic.org/event/drama-summer-camp/2021-07-20/
LOCATION:Montgomery Catholic Preparatory School\, 5350 Vaughn Rd\, Montgomery\, AL\, 36116\, United States
CATEGORIES:General
GEO:32.3400861;-86.2160027
X-APPLE-STRUCTURED-LOCATION;VALUE=URI;X-ADDRESS=Montgomery Catholic Preparatory School 5350 Vaughn Rd Montgomery AL 36116 United States;X-APPLE-RADIUS=500;X-TITLE=5350 Vaughn Rd:geo:-86.2160027,32.3400861
END:VEVENT
BEGIN:VEVENT
DTSTART;TZID=America/Chicago:20210720T130000
DTEND;TZID=America/Chicago:20210720T160000
DTSTAMP:20260423T215540
CREATED:20210728T201207Z
LAST-MODIFIED:20210728T202317Z
UID:10002446-1626786000-1626796800@montgomerycatholic.org
SUMMARY:Summer MakerSpace Institute
DESCRIPTION:
URL:https://montgomerycatholic.org/event/summer-makerspace-institute-3/2021-07-20/
LOCATION:Montgomery Catholic Preparatory School\, 5350 Vaughn Rd\, Montgomery\, AL\, 36116\, United States
CATEGORIES:General
GEO:32.3400861;-86.2160027
X-APPLE-STRUCTURED-LOCATION;VALUE=URI;X-ADDRESS=Montgomery Catholic Preparatory School 5350 Vaughn Rd Montgomery AL 36116 United States;X-APPLE-RADIUS=500;X-TITLE=5350 Vaughn Rd:geo:-86.2160027,32.3400861
END:VEVENT
BEGIN:VEVENT
DTSTART;TZID=America/Chicago:20210719T130000
DTEND;TZID=America/Chicago:20210719T160000
DTSTAMP:20260423T215540
CREATED:20210728T201837Z
LAST-MODIFIED:20210728T201837Z
UID:10002455-1626699600-1626710400@montgomerycatholic.org
SUMMARY:Drama Summer Camp
DESCRIPTION:For Rising 1st-7th grade Boys & Girls\nAt the High School Campus
URL:https://montgomerycatholic.org/event/drama-summer-camp/2021-07-19/
LOCATION:Montgomery Catholic Preparatory School\, 5350 Vaughn Rd\, Montgomery\, AL\, 36116\, United States
CATEGORIES:General
GEO:32.3400861;-86.2160027
X-APPLE-STRUCTURED-LOCATION;VALUE=URI;X-ADDRESS=Montgomery Catholic Preparatory School 5350 Vaughn Rd Montgomery AL 36116 United States;X-APPLE-RADIUS=500;X-TITLE=5350 Vaughn Rd:geo:-86.2160027,32.3400861
END:VEVENT
END:VCALENDAR