BEGIN:VCALENDAR
VERSION:2.0
PRODID:-//Montgomery Catholic - ECPv6.15.20//NONSGML v1.0//EN
CALSCALE:GREGORIAN
METHOD:PUBLISH
X-ORIGINAL-URL:https://montgomerycatholic.org
X-WR-CALDESC:Events for Montgomery Catholic
REFRESH-INTERVAL;VALUE=DURATION:PT1H
X-Robots-Tag:noindex
X-PUBLISHED-TTL:PT1H
BEGIN:VTIMEZONE
TZID:America/Chicago
BEGIN:DAYLIGHT
TZOFFSETFROM:-0600
TZOFFSETTO:-0500
TZNAME:CDT
DTSTART:20230312T080000
END:DAYLIGHT
BEGIN:STANDARD
TZOFFSETFROM:-0500
TZOFFSETTO:-0600
TZNAME:CST
DTSTART:20231105T070000
END:STANDARD
BEGIN:DAYLIGHT
TZOFFSETFROM:-0600
TZOFFSETTO:-0500
TZNAME:CDT
DTSTART:20240310T080000
END:DAYLIGHT
BEGIN:STANDARD
TZOFFSETFROM:-0500
TZOFFSETTO:-0600
TZNAME:CST
DTSTART:20241103T070000
END:STANDARD
BEGIN:DAYLIGHT
TZOFFSETFROM:-0600
TZOFFSETTO:-0500
TZNAME:CDT
DTSTART:20250309T080000
END:DAYLIGHT
BEGIN:STANDARD
TZOFFSETFROM:-0500
TZOFFSETTO:-0600
TZNAME:CST
DTSTART:20251102T070000
END:STANDARD
END:VTIMEZONE
BEGIN:VEVENT
DTSTART;TZID=America/Chicago:20240612T083000
DTEND;TZID=America/Chicago:20240612T113000
DTSTAMP:20260421T091615
CREATED:20240326T151100Z
LAST-MODIFIED:20240326T153323Z
UID:10003697-1718181000-1718191800@montgomerycatholic.org
SUMMARY:Softball Summer Camp
DESCRIPTION:Softball Summer Camp for rising K5 – 6th Grade girls will be held at the High School Softball Field. \nCamp Cost : $75 \nSign Up Here: https://montgomerycatholic.org/summercamps/ \n 
URL:https://montgomerycatholic.org/event/softball-summer-camp-3/2024-06-12/
LOCATION:Montgomery Catholic Preparatory School\, 5350 Vaughn Rd\, Montgomery\, AL\, 36116\, United States
CATEGORIES:Athletics,General
ORGANIZER;CN="Daniel Veres":MAILTO:dveres@montgomerycatholic.org
GEO:32.3400861;-86.2160027
X-APPLE-STRUCTURED-LOCATION;VALUE=URI;X-ADDRESS=Montgomery Catholic Preparatory School 5350 Vaughn Rd Montgomery AL 36116 United States;X-APPLE-RADIUS=500;X-TITLE=5350 Vaughn Rd:geo:-86.2160027,32.3400861
END:VEVENT
BEGIN:VEVENT
DTSTART;TZID=America/Chicago:20240611T083000
DTEND;TZID=America/Chicago:20240611T113000
DTSTAMP:20260421T091615
CREATED:20240326T151100Z
LAST-MODIFIED:20240326T153323Z
UID:10003696-1718094600-1718105400@montgomerycatholic.org
SUMMARY:Softball Summer Camp
DESCRIPTION:Softball Summer Camp for rising K5 – 6th Grade girls will be held at the High School Softball Field. \nCamp Cost : $75 \nSign Up Here: https://montgomerycatholic.org/summercamps/ \n 
URL:https://montgomerycatholic.org/event/softball-summer-camp-3/2024-06-11/
LOCATION:Montgomery Catholic Preparatory School\, 5350 Vaughn Rd\, Montgomery\, AL\, 36116\, United States
CATEGORIES:Athletics,General
ORGANIZER;CN="Daniel Veres":MAILTO:dveres@montgomerycatholic.org
GEO:32.3400861;-86.2160027
X-APPLE-STRUCTURED-LOCATION;VALUE=URI;X-ADDRESS=Montgomery Catholic Preparatory School 5350 Vaughn Rd Montgomery AL 36116 United States;X-APPLE-RADIUS=500;X-TITLE=5350 Vaughn Rd:geo:-86.2160027,32.3400861
END:VEVENT
BEGIN:VEVENT
DTSTART;TZID=America/Chicago:20240610T083000
DTEND;TZID=America/Chicago:20240610T113000
DTSTAMP:20260421T091615
CREATED:20240326T151100Z
LAST-MODIFIED:20240326T153323Z
UID:10003695-1718008200-1718019000@montgomerycatholic.org
SUMMARY:Softball Summer Camp
DESCRIPTION:Softball Summer Camp for rising K5 – 6th Grade girls will be held at the High School Softball Field. \nCamp Cost : $75 \nSign Up Here: https://montgomerycatholic.org/summercamps/ \n 
URL:https://montgomerycatholic.org/event/softball-summer-camp-3/2024-06-10/
LOCATION:Montgomery Catholic Preparatory School\, 5350 Vaughn Rd\, Montgomery\, AL\, 36116\, United States
CATEGORIES:Athletics,General
ORGANIZER;CN="Daniel Veres":MAILTO:dveres@montgomerycatholic.org
GEO:32.3400861;-86.2160027
X-APPLE-STRUCTURED-LOCATION;VALUE=URI;X-ADDRESS=Montgomery Catholic Preparatory School 5350 Vaughn Rd Montgomery AL 36116 United States;X-APPLE-RADIUS=500;X-TITLE=5350 Vaughn Rd:geo:-86.2160027,32.3400861
END:VEVENT
BEGIN:VEVENT
DTSTART;TZID=America/Chicago:20240423T183000
DTEND;TZID=America/Chicago:20240423T200000
DTSTAMP:20260421T091615
CREATED:20240118T203900Z
LAST-MODIFIED:20240123T160048Z
UID:10004414-1713897000-1713902400@montgomerycatholic.org
SUMMARY:V Boys Soccer Game vs. Houston Academy
DESCRIPTION:
URL:https://montgomerycatholic.org/event/v-boys-soccer-game-vs-houston-academy/
LOCATION:Montgomery Catholic Preparatory School\, 5350 Vaughn Rd\, Montgomery\, AL\, 36116\, United States
GEO:32.3400861;-86.2160027
X-APPLE-STRUCTURED-LOCATION;VALUE=URI;X-ADDRESS=Montgomery Catholic Preparatory School 5350 Vaughn Rd Montgomery AL 36116 United States;X-APPLE-RADIUS=500;X-TITLE=5350 Vaughn Rd:geo:-86.2160027,32.3400861
END:VEVENT
BEGIN:VEVENT
DTSTART;TZID=America/Chicago:20240423T170000
DTEND;TZID=America/Chicago:20240423T183000
DTSTAMP:20260421T091615
CREATED:20240118T203809Z
LAST-MODIFIED:20240118T203809Z
UID:10004413-1713891600-1713897000@montgomerycatholic.org
SUMMARY:V Girls Soccer Game vs. Houston Academy
DESCRIPTION:
URL:https://montgomerycatholic.org/event/v-girls-soccer-game-vs-houston-academy/
LOCATION:Montgomery Catholic Preparatory School\, 5350 Vaughn Rd\, Montgomery\, AL\, 36116\, United States
GEO:32.3400861;-86.2160027
X-APPLE-STRUCTURED-LOCATION;VALUE=URI;X-ADDRESS=Montgomery Catholic Preparatory School 5350 Vaughn Rd Montgomery AL 36116 United States;X-APPLE-RADIUS=500;X-TITLE=5350 Vaughn Rd:geo:-86.2160027,32.3400861
END:VEVENT
BEGIN:VEVENT
DTSTART;TZID=America/Chicago:20240413T110000
DTEND;TZID=America/Chicago:20240413T123000
DTSTAMP:20260421T091615
CREATED:20240118T173126Z
LAST-MODIFIED:20240118T173126Z
UID:10003616-1713006000-1713011400@montgomerycatholic.org
SUMMARY:V Boys Soccer Game vs. WHS
DESCRIPTION:
URL:https://montgomerycatholic.org/event/v-boys-soccer-game-vs-whs/
LOCATION:Montgomery Catholic Preparatory School\, 5350 Vaughn Rd\, Montgomery\, AL\, 36116\, United States
GEO:32.3400861;-86.2160027
X-APPLE-STRUCTURED-LOCATION;VALUE=URI;X-ADDRESS=Montgomery Catholic Preparatory School 5350 Vaughn Rd Montgomery AL 36116 United States;X-APPLE-RADIUS=500;X-TITLE=5350 Vaughn Rd:geo:-86.2160027,32.3400861
END:VEVENT
BEGIN:VEVENT
DTSTART;TZID=America/Chicago:20240413T093000
DTEND;TZID=America/Chicago:20240413T110000
DTSTAMP:20260421T091616
CREATED:20240118T173048Z
LAST-MODIFIED:20240118T173048Z
UID:10003615-1713000600-1713006000@montgomerycatholic.org
SUMMARY:V Girls Soccer Game vs. WHS
DESCRIPTION:
URL:https://montgomerycatholic.org/event/v-girls-soccer-game-vs-whs/
LOCATION:Montgomery Catholic Preparatory School\, 5350 Vaughn Rd\, Montgomery\, AL\, 36116\, United States
GEO:32.3400861;-86.2160027
X-APPLE-STRUCTURED-LOCATION;VALUE=URI;X-ADDRESS=Montgomery Catholic Preparatory School 5350 Vaughn Rd Montgomery AL 36116 United States;X-APPLE-RADIUS=500;X-TITLE=5350 Vaughn Rd:geo:-86.2160027,32.3400861
END:VEVENT
BEGIN:VEVENT
DTSTART;TZID=America/Chicago:20240409T190000
DTEND;TZID=America/Chicago:20240409T203000
DTSTAMP:20260421T091616
CREATED:20240118T172833Z
LAST-MODIFIED:20240118T172833Z
UID:10003610-1712689200-1712694600@montgomerycatholic.org
SUMMARY:V Boys Soccer Game vs. LAMP (Senior Night)
DESCRIPTION:
URL:https://montgomerycatholic.org/event/v-boys-soccer-game-vs-lamp-senior-night/
LOCATION:Montgomery Catholic Preparatory School\, 5350 Vaughn Rd\, Montgomery\, AL\, 36116\, United States
GEO:32.3400861;-86.2160027
X-APPLE-STRUCTURED-LOCATION;VALUE=URI;X-ADDRESS=Montgomery Catholic Preparatory School 5350 Vaughn Rd Montgomery AL 36116 United States;X-APPLE-RADIUS=500;X-TITLE=5350 Vaughn Rd:geo:-86.2160027,32.3400861
END:VEVENT
BEGIN:VEVENT
DTSTART;TZID=America/Chicago:20240409T173000
DTEND;TZID=America/Chicago:20240409T190000
DTSTAMP:20260421T091616
CREATED:20240118T172742Z
LAST-MODIFIED:20240118T172742Z
UID:10003606-1712683800-1712689200@montgomerycatholic.org
SUMMARY:V Girls Soccer Game vs. LAMP (Senior Night)
DESCRIPTION:
URL:https://montgomerycatholic.org/event/v-girls-soccer-game-vs-lamp-senior-night/
LOCATION:Montgomery Catholic Preparatory School\, 5350 Vaughn Rd\, Montgomery\, AL\, 36116\, United States
GEO:32.3400861;-86.2160027
X-APPLE-STRUCTURED-LOCATION;VALUE=URI;X-ADDRESS=Montgomery Catholic Preparatory School 5350 Vaughn Rd Montgomery AL 36116 United States;X-APPLE-RADIUS=500;X-TITLE=5350 Vaughn Rd:geo:-86.2160027,32.3400861
END:VEVENT
BEGIN:VEVENT
DTSTART;TZID=America/Chicago:20240325T173000
DTEND;TZID=America/Chicago:20240325T190000
DTSTAMP:20260421T091616
CREATED:20240118T171502Z
LAST-MODIFIED:20240118T171502Z
UID:10004411-1711387800-1711393200@montgomerycatholic.org
SUMMARY:JV Boys Soccer Game vs. Auburn
DESCRIPTION:
URL:https://montgomerycatholic.org/event/jv-boys-soccer-game-vs-auburn/
LOCATION:Montgomery Catholic Preparatory School\, 5350 Vaughn Rd\, Montgomery\, AL\, 36116\, United States
GEO:32.3400861;-86.2160027
X-APPLE-STRUCTURED-LOCATION;VALUE=URI;X-ADDRESS=Montgomery Catholic Preparatory School 5350 Vaughn Rd Montgomery AL 36116 United States;X-APPLE-RADIUS=500;X-TITLE=5350 Vaughn Rd:geo:-86.2160027,32.3400861
END:VEVENT
BEGIN:VEVENT
DTSTART;TZID=America/Chicago:20240322T173000
DTEND;TZID=America/Chicago:20240322T190000
DTSTAMP:20260421T091616
CREATED:20240118T171358Z
LAST-MODIFIED:20240118T171358Z
UID:10004410-1711128600-1711134000@montgomerycatholic.org
SUMMARY:JV Boys Soccer Game vs. WHS
DESCRIPTION:
URL:https://montgomerycatholic.org/event/jv-boys-soccer-game-vs-whs/
LOCATION:Montgomery Catholic Preparatory School\, 5350 Vaughn Rd\, Montgomery\, AL\, 36116\, United States
GEO:32.3400861;-86.2160027
X-APPLE-STRUCTURED-LOCATION;VALUE=URI;X-ADDRESS=Montgomery Catholic Preparatory School 5350 Vaughn Rd Montgomery AL 36116 United States;X-APPLE-RADIUS=500;X-TITLE=5350 Vaughn Rd:geo:-86.2160027,32.3400861
END:VEVENT
BEGIN:VEVENT
DTSTART;TZID=America/Chicago:20240319T190000
DTEND;TZID=America/Chicago:20240319T203000
DTSTAMP:20260421T091616
CREATED:20240118T171003Z
LAST-MODIFIED:20240118T171003Z
UID:10004405-1710874800-1710880200@montgomerycatholic.org
SUMMARY:V Boys Soccer Game vs. Dale Co
DESCRIPTION:
URL:https://montgomerycatholic.org/event/v-boys-soccer-game-vs-dale-co/
LOCATION:Montgomery Catholic Preparatory School\, 5350 Vaughn Rd\, Montgomery\, AL\, 36116\, United States
GEO:32.3400861;-86.2160027
X-APPLE-STRUCTURED-LOCATION;VALUE=URI;X-ADDRESS=Montgomery Catholic Preparatory School 5350 Vaughn Rd Montgomery AL 36116 United States;X-APPLE-RADIUS=500;X-TITLE=5350 Vaughn Rd:geo:-86.2160027,32.3400861
END:VEVENT
BEGIN:VEVENT
DTSTART;TZID=America/Chicago:20240319T173000
DTEND;TZID=America/Chicago:20240319T190000
DTSTAMP:20260421T091616
CREATED:20240118T170927Z
LAST-MODIFIED:20240118T170927Z
UID:10004404-1710869400-1710874800@montgomerycatholic.org
SUMMARY:V Girls Soccer Game vs. Dale Co
DESCRIPTION:
URL:https://montgomerycatholic.org/event/v-girls-soccer-game-vs-dale-co/
LOCATION:Montgomery Catholic Preparatory School\, 5350 Vaughn Rd\, Montgomery\, AL\, 36116\, United States
GEO:32.3400861;-86.2160027
X-APPLE-STRUCTURED-LOCATION;VALUE=URI;X-ADDRESS=Montgomery Catholic Preparatory School 5350 Vaughn Rd Montgomery AL 36116 United States;X-APPLE-RADIUS=500;X-TITLE=5350 Vaughn Rd:geo:-86.2160027,32.3400861
END:VEVENT
BEGIN:VEVENT
DTSTART;TZID=America/Chicago:20240314T173000
DTEND;TZID=America/Chicago:20240314T190000
DTSTAMP:20260421T091616
CREATED:20240118T170713Z
LAST-MODIFIED:20240118T170713Z
UID:10004402-1710437400-1710442800@montgomerycatholic.org
SUMMARY:JV Boys Soccer Game vs. PCA
DESCRIPTION:
URL:https://montgomerycatholic.org/event/jv-boys-soccer-game-vs-pca-2/
LOCATION:Montgomery Catholic Preparatory School\, 5350 Vaughn Rd\, Montgomery\, AL\, 36116\, United States
GEO:32.3400861;-86.2160027
X-APPLE-STRUCTURED-LOCATION;VALUE=URI;X-ADDRESS=Montgomery Catholic Preparatory School 5350 Vaughn Rd Montgomery AL 36116 United States;X-APPLE-RADIUS=500;X-TITLE=5350 Vaughn Rd:geo:-86.2160027,32.3400861
END:VEVENT
BEGIN:VEVENT
DTSTART;TZID=America/Chicago:20240312T190000
DTEND;TZID=America/Chicago:20240312T203000
DTSTAMP:20260421T091616
CREATED:20240118T170400Z
LAST-MODIFIED:20240118T170400Z
UID:10004399-1710270000-1710275400@montgomerycatholic.org
SUMMARY:V Boys Soccer Game vs. Trinity
DESCRIPTION:
URL:https://montgomerycatholic.org/event/v-boys-soccer-game-vs-trinity/
LOCATION:Montgomery Catholic Preparatory School\, 5350 Vaughn Rd\, Montgomery\, AL\, 36116\, United States
GEO:32.3400861;-86.2160027
X-APPLE-STRUCTURED-LOCATION;VALUE=URI;X-ADDRESS=Montgomery Catholic Preparatory School 5350 Vaughn Rd Montgomery AL 36116 United States;X-APPLE-RADIUS=500;X-TITLE=5350 Vaughn Rd:geo:-86.2160027,32.3400861
END:VEVENT
BEGIN:VEVENT
DTSTART;TZID=America/Chicago:20240312T173000
DTEND;TZID=America/Chicago:20240312T190000
DTSTAMP:20260421T091616
CREATED:20240118T170313Z
LAST-MODIFIED:20240118T170313Z
UID:10004398-1710264600-1710270000@montgomerycatholic.org
SUMMARY:V Girls Soccer Game vs. Trinity
DESCRIPTION:
URL:https://montgomerycatholic.org/event/v-girls-soccer-game-vs-trinity/
LOCATION:Montgomery Catholic Preparatory School\, 5350 Vaughn Rd\, Montgomery\, AL\, 36116\, United States
GEO:32.3400861;-86.2160027
X-APPLE-STRUCTURED-LOCATION;VALUE=URI;X-ADDRESS=Montgomery Catholic Preparatory School 5350 Vaughn Rd Montgomery AL 36116 United States;X-APPLE-RADIUS=500;X-TITLE=5350 Vaughn Rd:geo:-86.2160027,32.3400861
END:VEVENT
BEGIN:VEVENT
DTSTART;TZID=America/Chicago:20240308T173000
DTEND;TZID=America/Chicago:20240308T190000
DTSTAMP:20260421T091616
CREATED:20240118T170140Z
LAST-MODIFIED:20240118T170140Z
UID:10004396-1709919000-1709924400@montgomerycatholic.org
SUMMARY:JV Boys Soccer Game vs. Holtville
DESCRIPTION:
URL:https://montgomerycatholic.org/event/jv-boys-soccer-game-vs-holtville/
LOCATION:Montgomery Catholic Preparatory School\, 5350 Vaughn Rd\, Montgomery\, AL\, 36116\, United States
GEO:32.3400861;-86.2160027
X-APPLE-STRUCTURED-LOCATION;VALUE=URI;X-ADDRESS=Montgomery Catholic Preparatory School 5350 Vaughn Rd Montgomery AL 36116 United States;X-APPLE-RADIUS=500;X-TITLE=5350 Vaughn Rd:geo:-86.2160027,32.3400861
END:VEVENT
BEGIN:VEVENT
DTSTART;TZID=America/Chicago:20240307T190000
DTEND;TZID=America/Chicago:20240307T203000
DTSTAMP:20260421T091616
CREATED:20240118T170038Z
LAST-MODIFIED:20240118T170038Z
UID:10004395-1709838000-1709843400@montgomerycatholic.org
SUMMARY:V Boys Soccer Game vs. BTW Tuskegee
DESCRIPTION:
URL:https://montgomerycatholic.org/event/v-boys-soccer-game-vs-btw-tuskegee/
LOCATION:Montgomery Catholic Preparatory School\, 5350 Vaughn Rd\, Montgomery\, AL\, 36116\, United States
GEO:32.3400861;-86.2160027
X-APPLE-STRUCTURED-LOCATION;VALUE=URI;X-ADDRESS=Montgomery Catholic Preparatory School 5350 Vaughn Rd Montgomery AL 36116 United States;X-APPLE-RADIUS=500;X-TITLE=5350 Vaughn Rd:geo:-86.2160027,32.3400861
END:VEVENT
BEGIN:VEVENT
DTSTART;TZID=America/Chicago:20240307T173000
DTEND;TZID=America/Chicago:20240307T190000
DTSTAMP:20260421T091616
CREATED:20240118T165938Z
LAST-MODIFIED:20240118T165938Z
UID:10004394-1709832600-1709838000@montgomerycatholic.org
SUMMARY:V Girls Soccer Game vs. BTW Tuskegee
DESCRIPTION:
URL:https://montgomerycatholic.org/event/v-girls-soccer-game-vs-btw-tuskegee/
LOCATION:Montgomery Catholic Preparatory School\, 5350 Vaughn Rd\, Montgomery\, AL\, 36116\, United States
GEO:32.3400861;-86.2160027
X-APPLE-STRUCTURED-LOCATION;VALUE=URI;X-ADDRESS=Montgomery Catholic Preparatory School 5350 Vaughn Rd Montgomery AL 36116 United States;X-APPLE-RADIUS=500;X-TITLE=5350 Vaughn Rd:geo:-86.2160027,32.3400861
END:VEVENT
BEGIN:VEVENT
DTSTART;TZID=America/Chicago:20240305T190000
DTEND;TZID=America/Chicago:20240305T203000
DTSTAMP:20260421T091616
CREATED:20240118T165831Z
LAST-MODIFIED:20240118T165831Z
UID:10004393-1709665200-1709670600@montgomerycatholic.org
SUMMARY:V Boys Soccer Game vs. SJS
DESCRIPTION:
URL:https://montgomerycatholic.org/event/v-boys-soccer-game-vs-sjs/
LOCATION:Montgomery Catholic Preparatory School\, 5350 Vaughn Rd\, Montgomery\, AL\, 36116\, United States
GEO:32.3400861;-86.2160027
X-APPLE-STRUCTURED-LOCATION;VALUE=URI;X-ADDRESS=Montgomery Catholic Preparatory School 5350 Vaughn Rd Montgomery AL 36116 United States;X-APPLE-RADIUS=500;X-TITLE=5350 Vaughn Rd:geo:-86.2160027,32.3400861
END:VEVENT
BEGIN:VEVENT
DTSTART;TZID=America/Chicago:20240305T173000
DTEND;TZID=America/Chicago:20240305T190000
DTSTAMP:20260421T091616
CREATED:20240118T165740Z
LAST-MODIFIED:20240118T165740Z
UID:10004392-1709659800-1709665200@montgomerycatholic.org
SUMMARY:V Girls Soccer Game vs. SJS
DESCRIPTION:
URL:https://montgomerycatholic.org/event/v-girls-soccer-game-vs-sjs/
LOCATION:Montgomery Catholic Preparatory School\, 5350 Vaughn Rd\, Montgomery\, AL\, 36116\, United States
GEO:32.3400861;-86.2160027
X-APPLE-STRUCTURED-LOCATION;VALUE=URI;X-ADDRESS=Montgomery Catholic Preparatory School 5350 Vaughn Rd Montgomery AL 36116 United States;X-APPLE-RADIUS=500;X-TITLE=5350 Vaughn Rd:geo:-86.2160027,32.3400861
END:VEVENT
BEGIN:VEVENT
DTSTART;TZID=America/Chicago:20240304T173000
DTEND;TZID=America/Chicago:20240304T190000
DTSTAMP:20260421T091616
CREATED:20240118T165622Z
LAST-MODIFIED:20240118T165622Z
UID:10004391-1709573400-1709578800@montgomerycatholic.org
SUMMARY:JV Boys Soccer Game @ PCA
DESCRIPTION:
URL:https://montgomerycatholic.org/event/jv-boys-soccer-game-pca-2/
LOCATION:Montgomery Catholic Preparatory School\, 5350 Vaughn Rd\, Montgomery\, AL\, 36116\, United States
GEO:32.3400861;-86.2160027
X-APPLE-STRUCTURED-LOCATION;VALUE=URI;X-ADDRESS=Montgomery Catholic Preparatory School 5350 Vaughn Rd Montgomery AL 36116 United States;X-APPLE-RADIUS=500;X-TITLE=5350 Vaughn Rd:geo:-86.2160027,32.3400861
END:VEVENT
BEGIN:VEVENT
DTSTART;TZID=America/Chicago:20240229T173000
DTEND;TZID=America/Chicago:20240229T190000
DTSTAMP:20260421T091616
CREATED:20240118T164859Z
LAST-MODIFIED:20240118T164859Z
UID:10004389-1709227800-1709233200@montgomerycatholic.org
SUMMARY:V Boys Soccer Game vs. Andalusia
DESCRIPTION:
URL:https://montgomerycatholic.org/event/v-boys-soccer-game-vs-andalusia-2/
LOCATION:Montgomery Catholic Preparatory School\, 5350 Vaughn Rd\, Montgomery\, AL\, 36116\, United States
GEO:32.3400861;-86.2160027
X-APPLE-STRUCTURED-LOCATION;VALUE=URI;X-ADDRESS=Montgomery Catholic Preparatory School 5350 Vaughn Rd Montgomery AL 36116 United States;X-APPLE-RADIUS=500;X-TITLE=5350 Vaughn Rd:geo:-86.2160027,32.3400861
END:VEVENT
BEGIN:VEVENT
DTSTART;TZID=America/Chicago:20240227T190000
DTEND;TZID=America/Chicago:20240227T203000
DTSTAMP:20260421T091616
CREATED:20240118T164537Z
LAST-MODIFIED:20240118T164537Z
UID:10003597-1709060400-1709065800@montgomerycatholic.org
SUMMARY:V Boys Soccer Game vs. PCA
DESCRIPTION:
URL:https://montgomerycatholic.org/event/v-boys-soccer-game-vs-pca/
LOCATION:Montgomery Catholic Preparatory School\, 5350 Vaughn Rd\, Montgomery\, AL\, 36116\, United States
GEO:32.3400861;-86.2160027
X-APPLE-STRUCTURED-LOCATION;VALUE=URI;X-ADDRESS=Montgomery Catholic Preparatory School 5350 Vaughn Rd Montgomery AL 36116 United States;X-APPLE-RADIUS=500;X-TITLE=5350 Vaughn Rd:geo:-86.2160027,32.3400861
END:VEVENT
BEGIN:VEVENT
DTSTART;TZID=America/Chicago:20240227T173000
DTEND;TZID=America/Chicago:20240227T190000
DTSTAMP:20260421T091616
CREATED:20240118T164457Z
LAST-MODIFIED:20240118T164457Z
UID:10003595-1709055000-1709060400@montgomerycatholic.org
SUMMARY:V Girls Soccer Game vs. PCA
DESCRIPTION:
URL:https://montgomerycatholic.org/event/v-girls-soccer-game-vs-pca/
LOCATION:Montgomery Catholic Preparatory School\, 5350 Vaughn Rd\, Montgomery\, AL\, 36116\, United States
GEO:32.3400861;-86.2160027
X-APPLE-STRUCTURED-LOCATION;VALUE=URI;X-ADDRESS=Montgomery Catholic Preparatory School 5350 Vaughn Rd Montgomery AL 36116 United States;X-APPLE-RADIUS=500;X-TITLE=5350 Vaughn Rd:geo:-86.2160027,32.3400861
END:VEVENT
BEGIN:VEVENT
DTSTART;TZID=America/Chicago:20240226T173000
DTEND;TZID=America/Chicago:20240226T190000
DTSTAMP:20260421T091616
CREATED:20240118T164347Z
LAST-MODIFIED:20240118T164347Z
UID:10003593-1708968600-1708974000@montgomerycatholic.org
SUMMARY:JV Boys Soccer Game vs. Trinity
DESCRIPTION:
URL:https://montgomerycatholic.org/event/jv-boys-soccer-game-vs-trinity-2/
LOCATION:Montgomery Catholic Preparatory School\, 5350 Vaughn Rd\, Montgomery\, AL\, 36116\, United States
GEO:32.3400861;-86.2160027
X-APPLE-STRUCTURED-LOCATION;VALUE=URI;X-ADDRESS=Montgomery Catholic Preparatory School 5350 Vaughn Rd Montgomery AL 36116 United States;X-APPLE-RADIUS=500;X-TITLE=5350 Vaughn Rd:geo:-86.2160027,32.3400861
END:VEVENT
BEGIN:VEVENT
DTSTART;TZID=America/Chicago:20240222T173000
DTEND;TZID=America/Chicago:20240222T190000
DTSTAMP:20260421T091616
CREATED:20240118T164252Z
LAST-MODIFIED:20240118T164252Z
UID:10003591-1708623000-1708628400@montgomerycatholic.org
SUMMARY:JV Boys Soccer Game vs. Pike Road
DESCRIPTION:
URL:https://montgomerycatholic.org/event/jv-boys-soccer-game-vs-pike-road/
LOCATION:Montgomery Catholic Preparatory School\, 5350 Vaughn Rd\, Montgomery\, AL\, 36116\, United States
GEO:32.3400861;-86.2160027
X-APPLE-STRUCTURED-LOCATION;VALUE=URI;X-ADDRESS=Montgomery Catholic Preparatory School 5350 Vaughn Rd Montgomery AL 36116 United States;X-APPLE-RADIUS=500;X-TITLE=5350 Vaughn Rd:geo:-86.2160027,32.3400861
END:VEVENT
BEGIN:VEVENT
DTSTART;TZID=America/Chicago:20240220T190000
DTEND;TZID=America/Chicago:20240220T203000
DTSTAMP:20260421T091616
CREATED:20240118T163452Z
LAST-MODIFIED:20240118T163452Z
UID:10003585-1708455600-1708461000@montgomerycatholic.org
SUMMARY:V Boys Soccer Game vs. BTW
DESCRIPTION:
URL:https://montgomerycatholic.org/event/v-boys-soccer-game-vs-btw-2/
LOCATION:Montgomery Catholic Preparatory School\, 5350 Vaughn Rd\, Montgomery\, AL\, 36116\, United States
GEO:32.3400861;-86.2160027
X-APPLE-STRUCTURED-LOCATION;VALUE=URI;X-ADDRESS=Montgomery Catholic Preparatory School 5350 Vaughn Rd Montgomery AL 36116 United States;X-APPLE-RADIUS=500;X-TITLE=5350 Vaughn Rd:geo:-86.2160027,32.3400861
END:VEVENT
BEGIN:VEVENT
DTSTART;TZID=America/Chicago:20240220T173000
DTEND;TZID=America/Chicago:20240220T190000
DTSTAMP:20260421T091616
CREATED:20240118T163359Z
LAST-MODIFIED:20240118T163359Z
UID:10003584-1708450200-1708455600@montgomerycatholic.org
SUMMARY:V Girls Soccer Game vs. BTW
DESCRIPTION:
URL:https://montgomerycatholic.org/event/v-girls-soccer-game-vs-btw-2/
LOCATION:Montgomery Catholic Preparatory School\, 5350 Vaughn Rd\, Montgomery\, AL\, 36116\, United States
GEO:32.3400861;-86.2160027
X-APPLE-STRUCTURED-LOCATION;VALUE=URI;X-ADDRESS=Montgomery Catholic Preparatory School 5350 Vaughn Rd Montgomery AL 36116 United States;X-APPLE-RADIUS=500;X-TITLE=5350 Vaughn Rd:geo:-86.2160027,32.3400861
END:VEVENT
BEGIN:VEVENT
DTSTART;TZID=America/Chicago:20240202T173000
DTEND;TZID=America/Chicago:20240202T190000
DTSTAMP:20260421T091616
CREATED:20240112T180152Z
LAST-MODIFIED:20240112T180152Z
UID:10004379-1706895000-1706900400@montgomerycatholic.org
SUMMARY:JV Girls Soccer Game vs. St. James
DESCRIPTION:
URL:https://montgomerycatholic.org/event/jv-girls-soccer-game-vs-st-james-2/
LOCATION:Montgomery Catholic Preparatory School\, 5350 Vaughn Rd\, Montgomery\, AL\, 36116\, United States
GEO:32.3400861;-86.2160027
X-APPLE-STRUCTURED-LOCATION;VALUE=URI;X-ADDRESS=Montgomery Catholic Preparatory School 5350 Vaughn Rd Montgomery AL 36116 United States;X-APPLE-RADIUS=500;X-TITLE=5350 Vaughn Rd:geo:-86.2160027,32.3400861
END:VEVENT
END:VCALENDAR