BEGIN:VCALENDAR
VERSION:2.0
PRODID:-//Montgomery Catholic - ECPv6.15.20//NONSGML v1.0//EN
CALSCALE:GREGORIAN
METHOD:PUBLISH
X-ORIGINAL-URL:https://montgomerycatholic.org
X-WR-CALDESC:Events for Montgomery Catholic
REFRESH-INTERVAL;VALUE=DURATION:PT1H
X-Robots-Tag:noindex
X-PUBLISHED-TTL:PT1H
BEGIN:VTIMEZONE
TZID:UTC
BEGIN:STANDARD
TZOFFSETFROM:+0000
TZOFFSETTO:+0000
TZNAME:UTC
DTSTART:20200101T000000
END:STANDARD
END:VTIMEZONE
BEGIN:VTIMEZONE
TZID:America/Chicago
BEGIN:DAYLIGHT
TZOFFSETFROM:-0600
TZOFFSETTO:-0500
TZNAME:CDT
DTSTART:20200308T080000
END:DAYLIGHT
BEGIN:STANDARD
TZOFFSETFROM:-0500
TZOFFSETTO:-0600
TZNAME:CST
DTSTART:20201101T070000
END:STANDARD
BEGIN:DAYLIGHT
TZOFFSETFROM:-0600
TZOFFSETTO:-0500
TZNAME:CDT
DTSTART:20210314T080000
END:DAYLIGHT
BEGIN:STANDARD
TZOFFSETFROM:-0500
TZOFFSETTO:-0600
TZNAME:CST
DTSTART:20211107T070000
END:STANDARD
BEGIN:DAYLIGHT
TZOFFSETFROM:-0600
TZOFFSETTO:-0500
TZNAME:CDT
DTSTART:20220313T080000
END:DAYLIGHT
BEGIN:STANDARD
TZOFFSETFROM:-0500
TZOFFSETTO:-0600
TZNAME:CST
DTSTART:20221106T070000
END:STANDARD
BEGIN:DAYLIGHT
TZOFFSETFROM:-0600
TZOFFSETTO:-0500
TZNAME:CDT
DTSTART:20230312T080000
END:DAYLIGHT
BEGIN:STANDARD
TZOFFSETFROM:-0500
TZOFFSETTO:-0600
TZNAME:CST
DTSTART:20231105T070000
END:STANDARD
END:VTIMEZONE
BEGIN:VEVENT
DTSTART;TZID=UTC:20220218T173000
DTEND;TZID=UTC:20220218T190000
DTSTAMP:20260423T183328
CREATED:20220128T185146Z
LAST-MODIFIED:20220128T185146Z
UID:10002997-1645205400-1645210800@montgomerycatholic.org
SUMMARY:Varsity Girls Soccer vs LAMP
DESCRIPTION:
URL:https://montgomerycatholic.org/event/varsity-girls-soccer-vs-lamp/
LOCATION:Montgomery Catholic Preparatory School\, 5350 Vaughn Rd\, Montgomery\, AL\, 36116\, United States
CATEGORIES:Athletics,High School,Middle School
ORGANIZER;CN="Rick Aaron":MAILTO:raaron@montgomerycatholic.org
GEO:32.3400861;-86.2160027
X-APPLE-STRUCTURED-LOCATION;VALUE=URI;X-ADDRESS=Montgomery Catholic Preparatory School 5350 Vaughn Rd Montgomery AL 36116 United States;X-APPLE-RADIUS=500;X-TITLE=5350 Vaughn Rd:geo:-86.2160027,32.3400861
END:VEVENT
BEGIN:VEVENT
DTSTART;TZID=UTC:20220217T173000
DTEND;TZID=UTC:20220217T190000
DTSTAMP:20260423T183328
CREATED:20220128T193542Z
LAST-MODIFIED:20220128T193542Z
UID:10003001-1645119000-1645124400@montgomerycatholic.org
SUMMARY:Junior Varsity Boys Soccer vs St. James School
DESCRIPTION:
URL:https://montgomerycatholic.org/event/junior-varsity-boys-soccer-vs-st-james-school/
LOCATION:Montgomery Catholic Preparatory School\, 5350 Vaughn Rd\, Montgomery\, AL\, 36116\, United States
CATEGORIES:Athletics,High School,Middle School
ORGANIZER;CN="Rick Aaron":MAILTO:raaron@montgomerycatholic.org
GEO:32.3400861;-86.2160027
X-APPLE-STRUCTURED-LOCATION;VALUE=URI;X-ADDRESS=Montgomery Catholic Preparatory School 5350 Vaughn Rd Montgomery AL 36116 United States;X-APPLE-RADIUS=500;X-TITLE=5350 Vaughn Rd:geo:-86.2160027,32.3400861
END:VEVENT
BEGIN:VEVENT
DTSTART;TZID=UTC:20220215T190000
DTEND;TZID=UTC:20220215T203000
DTSTAMP:20260423T183328
CREATED:20220127T210812Z
LAST-MODIFIED:20220127T210812Z
UID:10002991-1644951600-1644957000@montgomerycatholic.org
SUMMARY:Varsity Boys Soccer vs New Brockton
DESCRIPTION:
URL:https://montgomerycatholic.org/event/varsity-boys-soccer-vs-new-brockton/
LOCATION:Montgomery Catholic Preparatory School\, 5350 Vaughn Rd\, Montgomery\, AL\, 36116\, United States
CATEGORIES:Athletics,High School,Middle School
ORGANIZER;CN="Rick Aaron":MAILTO:raaron@montgomerycatholic.org
GEO:32.3400861;-86.2160027
X-APPLE-STRUCTURED-LOCATION;VALUE=URI;X-ADDRESS=Montgomery Catholic Preparatory School 5350 Vaughn Rd Montgomery AL 36116 United States;X-APPLE-RADIUS=500;X-TITLE=5350 Vaughn Rd:geo:-86.2160027,32.3400861
END:VEVENT
BEGIN:VEVENT
DTSTART;TZID=UTC:20220215T173000
DTEND;TZID=UTC:20220215T190000
DTSTAMP:20260423T183328
CREATED:20220127T210533Z
LAST-MODIFIED:20220127T210533Z
UID:10002989-1644946200-1644951600@montgomerycatholic.org
SUMMARY:Varsity Girls Soccer vs New Brockton
DESCRIPTION:
URL:https://montgomerycatholic.org/event/varsity-girls-soccer-vs-new-brockton/
LOCATION:Montgomery Catholic Preparatory School\, 5350 Vaughn Rd\, Montgomery\, AL\, 36116\, United States
CATEGORIES:Athletics,High School,Middle School
ORGANIZER;CN="Rick Aaron":MAILTO:raaron@montgomerycatholic.org
GEO:32.3400861;-86.2160027
X-APPLE-STRUCTURED-LOCATION;VALUE=URI;X-ADDRESS=Montgomery Catholic Preparatory School 5350 Vaughn Rd Montgomery AL 36116 United States;X-APPLE-RADIUS=500;X-TITLE=5350 Vaughn Rd:geo:-86.2160027,32.3400861
END:VEVENT
BEGIN:VEVENT
DTSTART;TZID=UTC:20220208T190000
DTEND;TZID=UTC:20220208T213000
DTSTAMP:20260423T183328
CREATED:20220127T183241Z
LAST-MODIFIED:20220127T183241Z
UID:10002691-1644346800-1644355800@montgomerycatholic.org
SUMMARY:Varsity Girls Soccer vs MA
DESCRIPTION:
URL:https://montgomerycatholic.org/event/varsity-girls-soccer-vs-ma/
LOCATION:Montgomery Catholic Preparatory School\, 5350 Vaughn Rd\, Montgomery\, AL\, 36116\, United States
CATEGORIES:Athletics,High School,Middle School
GEO:32.3400861;-86.2160027
X-APPLE-STRUCTURED-LOCATION;VALUE=URI;X-ADDRESS=Montgomery Catholic Preparatory School 5350 Vaughn Rd Montgomery AL 36116 United States;X-APPLE-RADIUS=500;X-TITLE=5350 Vaughn Rd:geo:-86.2160027,32.3400861
END:VEVENT
BEGIN:VEVENT
DTSTART;TZID=UTC:20220208T173000
DTEND;TZID=UTC:20220208T190000
DTSTAMP:20260423T183328
CREATED:20220127T183458Z
LAST-MODIFIED:20220127T183458Z
UID:10002973-1644341400-1644346800@montgomerycatholic.org
SUMMARY:Varsity Boys Soccer vs Park Crossing
DESCRIPTION:
URL:https://montgomerycatholic.org/event/varsity-boys-soccer-vs-park-crossing/
LOCATION:Montgomery Catholic Preparatory School\, 5350 Vaughn Rd\, Montgomery\, AL\, 36116\, United States
CATEGORIES:Athletics,High School,Middle School
GEO:32.3400861;-86.2160027
X-APPLE-STRUCTURED-LOCATION;VALUE=URI;X-ADDRESS=Montgomery Catholic Preparatory School 5350 Vaughn Rd Montgomery AL 36116 United States;X-APPLE-RADIUS=500;X-TITLE=5350 Vaughn Rd:geo:-86.2160027,32.3400861
END:VEVENT
BEGIN:VEVENT
DTSTART;TZID=UTC:20220204T173000
DTEND;TZID=UTC:20220204T190000
DTSTAMP:20260423T183328
CREATED:20220127T182717Z
LAST-MODIFIED:20220127T182748Z
UID:10002687-1643995800-1644001200@montgomerycatholic.org
SUMMARY:JV Boys Soccer vs Wetumpka
DESCRIPTION:
URL:https://montgomerycatholic.org/event/jv-boys-soccer-home/
LOCATION:Montgomery Catholic Preparatory School\, 5350 Vaughn Rd\, Montgomery\, AL\, 36116\, United States
CATEGORIES:Athletics,High School,Middle School
GEO:32.3400861;-86.2160027
X-APPLE-STRUCTURED-LOCATION;VALUE=URI;X-ADDRESS=Montgomery Catholic Preparatory School 5350 Vaughn Rd Montgomery AL 36116 United States;X-APPLE-RADIUS=500;X-TITLE=5350 Vaughn Rd:geo:-86.2160027,32.3400861
END:VEVENT
BEGIN:VEVENT
DTSTART;VALUE=DATE:20220131
DTEND;VALUE=DATE:20220205
DTSTAMP:20260423T183328
CREATED:20210728T215037Z
LAST-MODIFIED:20210728T215037Z
UID:10002560-1643587200-1644019199@montgomerycatholic.org
SUMMARY:Catholic Schools Week
DESCRIPTION:
URL:https://montgomerycatholic.org/event/catholic-schools-week/
LOCATION:Montgomery Catholic Preparatory School\, 5350 Vaughn Rd\, Montgomery\, AL\, 36116\, United States
CATEGORIES:General
GEO:32.3400861;-86.2160027
X-APPLE-STRUCTURED-LOCATION;VALUE=URI;X-ADDRESS=Montgomery Catholic Preparatory School 5350 Vaughn Rd Montgomery AL 36116 United States;X-APPLE-RADIUS=500;X-TITLE=5350 Vaughn Rd:geo:-86.2160027,32.3400861
END:VEVENT
BEGIN:VEVENT
DTSTART;TZID=America/Chicago:20220126T183000
DTEND;TZID=America/Chicago:20220126T193000
DTSTAMP:20260423T183328
CREATED:20211110T154934Z
LAST-MODIFIED:20211110T155915Z
UID:10002892-1643221800-1643225400@montgomerycatholic.org
SUMMARY:Child Protection Training - Room #10 in the High School
DESCRIPTION:
URL:https://montgomerycatholic.org/event/child-protection-training-room-10-in-the-high-school/
LOCATION:Montgomery Catholic Preparatory School\, 5350 Vaughn Rd\, Montgomery\, AL\, 36116\, United States
CATEGORIES:High School,Holy Spirit,Middle School,St. Bede
GEO:32.3400861;-86.2160027
X-APPLE-STRUCTURED-LOCATION;VALUE=URI;X-ADDRESS=Montgomery Catholic Preparatory School 5350 Vaughn Rd Montgomery AL 36116 United States;X-APPLE-RADIUS=500;X-TITLE=5350 Vaughn Rd:geo:-86.2160027,32.3400861
END:VEVENT
BEGIN:VEVENT
DTSTART;VALUE=DATE:20220125
DTEND;VALUE=DATE:20220126
DTSTAMP:20260423T183328
CREATED:20210728T214403Z
LAST-MODIFIED:20220104T153653Z
UID:10002549-1643068800-1643155199@montgomerycatholic.org
SUMMARY:Day in the Life of a Middle Schooler
DESCRIPTION:
URL:https://montgomerycatholic.org/event/day-in-the-life-of-a-middle-schooler/
LOCATION:Montgomery Catholic Preparatory School\, 5350 Vaughn Rd\, Montgomery\, AL\, 36116\, United States
CATEGORIES:Middle School
GEO:32.3400861;-86.2160027
X-APPLE-STRUCTURED-LOCATION;VALUE=URI;X-ADDRESS=Montgomery Catholic Preparatory School 5350 Vaughn Rd Montgomery AL 36116 United States;X-APPLE-RADIUS=500;X-TITLE=5350 Vaughn Rd:geo:-86.2160027,32.3400861
END:VEVENT
BEGIN:VEVENT
DTSTART;VALUE=DATE:20220119
DTEND;VALUE=DATE:20220124
DTSTAMP:20260423T183328
CREATED:20210728T214843Z
LAST-MODIFIED:20210728T214843Z
UID:10002558-1642550400-1642982399@montgomerycatholic.org
SUMMARY:HS March for Life
DESCRIPTION:
URL:https://montgomerycatholic.org/event/hs-march-for-life/
LOCATION:Montgomery Catholic Preparatory School\, 5350 Vaughn Rd\, Montgomery\, AL\, 36116\, United States
CATEGORIES:High School
GEO:32.3400861;-86.2160027
X-APPLE-STRUCTURED-LOCATION;VALUE=URI;X-ADDRESS=Montgomery Catholic Preparatory School 5350 Vaughn Rd Montgomery AL 36116 United States;X-APPLE-RADIUS=500;X-TITLE=5350 Vaughn Rd:geo:-86.2160027,32.3400861
END:VEVENT
BEGIN:VEVENT
DTSTART;VALUE=DATE:20220118
DTEND;VALUE=DATE:20220128
DTSTAMP:20260423T183328
CREATED:20211203T150752Z
LAST-MODIFIED:20211203T150752Z
UID:10002925-1642464000-1643327999@montgomerycatholic.org
SUMMARY:Wrestling Team - Gift Card Raffle
DESCRIPTION:Support our Wrestling Team by purchasing a raffle ticket! The drawing will take place on January 27 for a $500 Gift Card. Contact your favorite Wrestler to purchase a ticket or contact Coach Coy Hunter at chunter@montgomerycatholic.org. \n 
URL:https://montgomerycatholic.org/event/wrestling-team-gift-card-raffle/
LOCATION:Montgomery Catholic Preparatory School\, 5350 Vaughn Rd\, Montgomery\, AL\, 36116\, United States
CATEGORIES:Athletics,Fundraising
ORGANIZER;CN="Coy Hunter":MAILTO:chunter@montgomerycatholic.org
GEO:32.3400861;-86.2160027
X-APPLE-STRUCTURED-LOCATION;VALUE=URI;X-ADDRESS=Montgomery Catholic Preparatory School 5350 Vaughn Rd Montgomery AL 36116 United States;X-APPLE-RADIUS=500;X-TITLE=5350 Vaughn Rd:geo:-86.2160027,32.3400861
END:VEVENT
BEGIN:VEVENT
DTSTART;VALUE=DATE:20220117
DTEND;VALUE=DATE:20220118
DTSTAMP:20260423T183328
CREATED:20210728T214745Z
LAST-MODIFIED:20210728T214745Z
UID:10002553-1642377600-1642463999@montgomerycatholic.org
SUMMARY:Martin Luther King Jr. Holiday - No School
DESCRIPTION:
URL:https://montgomerycatholic.org/event/martin-luther-king-jr-holiday-no-school/
LOCATION:Montgomery Catholic Preparatory School\, 5350 Vaughn Rd\, Montgomery\, AL\, 36116\, United States
CATEGORIES:General
GEO:32.3400861;-86.2160027
X-APPLE-STRUCTURED-LOCATION;VALUE=URI;X-ADDRESS=Montgomery Catholic Preparatory School 5350 Vaughn Rd Montgomery AL 36116 United States;X-APPLE-RADIUS=500;X-TITLE=5350 Vaughn Rd:geo:-86.2160027,32.3400861
END:VEVENT
BEGIN:VEVENT
DTSTART;VALUE=DATE:20220104
DTEND;VALUE=DATE:20220105
DTSTAMP:20260423T183328
CREATED:20210728T214259Z
LAST-MODIFIED:20210728T214259Z
UID:10002548-1641254400-1641340799@montgomerycatholic.org
SUMMARY:Classes Resume
DESCRIPTION:
URL:https://montgomerycatholic.org/event/classes-resume/
LOCATION:Montgomery Catholic Preparatory School\, 5350 Vaughn Rd\, Montgomery\, AL\, 36116\, United States
CATEGORIES:General
GEO:32.3400861;-86.2160027
X-APPLE-STRUCTURED-LOCATION;VALUE=URI;X-ADDRESS=Montgomery Catholic Preparatory School 5350 Vaughn Rd Montgomery AL 36116 United States;X-APPLE-RADIUS=500;X-TITLE=5350 Vaughn Rd:geo:-86.2160027,32.3400861
END:VEVENT
BEGIN:VEVENT
DTSTART;VALUE=DATE:20220103
DTEND;VALUE=DATE:20220118
DTSTAMP:20260423T183328
CREATED:20211110T225655Z
LAST-MODIFIED:20211110T225721Z
UID:10002905-1641168000-1642463999@montgomerycatholic.org
SUMMARY:Softball Discount Card Fundraiser
DESCRIPTION:Our softball team is having a Spirit/Discount Card fundraiser. \nContact your favorite softball player to purchase your card today! The fundraiser ends January 17.
URL:https://montgomerycatholic.org/event/softball-fundraiser/
LOCATION:Montgomery Catholic Preparatory School\, 5350 Vaughn Rd\, Montgomery\, AL\, 36116\, United States
CATEGORIES:Athletics,Fundraising,High School
ORGANIZER;CN="Whitney Toole":MAILTO:wtoole@montgomerycatholic.org
GEO:32.3400861;-86.2160027
X-APPLE-STRUCTURED-LOCATION;VALUE=URI;X-ADDRESS=Montgomery Catholic Preparatory School 5350 Vaughn Rd Montgomery AL 36116 United States;X-APPLE-RADIUS=500;X-TITLE=5350 Vaughn Rd:geo:-86.2160027,32.3400861
END:VEVENT
BEGIN:VEVENT
DTSTART;VALUE=DATE:20220103
DTEND;VALUE=DATE:20220104
DTSTAMP:20260423T183328
CREATED:20210728T214126Z
LAST-MODIFIED:20210728T214126Z
UID:10002547-1641168000-1641254399@montgomerycatholic.org
SUMMARY:Teacher Inservice
DESCRIPTION:
URL:https://montgomerycatholic.org/event/teacher-inservice/
LOCATION:Montgomery Catholic Preparatory School\, 5350 Vaughn Rd\, Montgomery\, AL\, 36116\, United States
CATEGORIES:High School
GEO:32.3400861;-86.2160027
X-APPLE-STRUCTURED-LOCATION;VALUE=URI;X-ADDRESS=Montgomery Catholic Preparatory School 5350 Vaughn Rd Montgomery AL 36116 United States;X-APPLE-RADIUS=500;X-TITLE=5350 Vaughn Rd:geo:-86.2160027,32.3400861
END:VEVENT
BEGIN:VEVENT
DTSTART;VALUE=DATE:20211220
DTEND;VALUE=DATE:20220104
DTSTAMP:20260423T183328
CREATED:20210728T214021Z
LAST-MODIFIED:20210728T214021Z
UID:10002545-1639958400-1641254399@montgomerycatholic.org
SUMMARY:Christmas Holidays (No School)
DESCRIPTION:
URL:https://montgomerycatholic.org/event/christmas-holidays-no-school/
LOCATION:Montgomery Catholic Preparatory School\, 5350 Vaughn Rd\, Montgomery\, AL\, 36116\, United States
CATEGORIES:General
GEO:32.3400861;-86.2160027
X-APPLE-STRUCTURED-LOCATION;VALUE=URI;X-ADDRESS=Montgomery Catholic Preparatory School 5350 Vaughn Rd Montgomery AL 36116 United States;X-APPLE-RADIUS=500;X-TITLE=5350 Vaughn Rd:geo:-86.2160027,32.3400861
END:VEVENT
BEGIN:VEVENT
DTSTART;TZID=UTC:20211217T075000
DTEND;TZID=UTC:20211217T091000
DTSTAMP:20260423T183328
CREATED:20210728T213905Z
LAST-MODIFIED:20211213T151700Z
UID:10002543-1639727400-1639732200@montgomerycatholic.org
SUMMARY:Middle School Exams
DESCRIPTION:Early Dismissal @ 9:10am.
URL:https://montgomerycatholic.org/event/ms-early-dismissal-1230-pm-2/
LOCATION:Montgomery Catholic Preparatory School\, 5350 Vaughn Rd\, Montgomery\, AL\, 36116\, United States
CATEGORIES:Middle School
GEO:32.3400861;-86.2160027
X-APPLE-STRUCTURED-LOCATION;VALUE=URI;X-ADDRESS=Montgomery Catholic Preparatory School 5350 Vaughn Rd Montgomery AL 36116 United States;X-APPLE-RADIUS=500;X-TITLE=5350 Vaughn Rd:geo:-86.2160027,32.3400861
END:VEVENT
BEGIN:VEVENT
DTSTART;VALUE=DATE:20211217
DTEND;VALUE=DATE:20211218
DTSTAMP:20260423T183328
CREATED:20210728T213726Z
LAST-MODIFIED:20210728T213726Z
UID:10002541-1639699200-1639785599@montgomerycatholic.org
SUMMARY:End of 2nd Quarter
DESCRIPTION:
URL:https://montgomerycatholic.org/event/end-of-2nd-quarter/
LOCATION:Montgomery Catholic Preparatory School\, 5350 Vaughn Rd\, Montgomery\, AL\, 36116\, United States
CATEGORIES:General
GEO:32.3400861;-86.2160027
X-APPLE-STRUCTURED-LOCATION;VALUE=URI;X-ADDRESS=Montgomery Catholic Preparatory School 5350 Vaughn Rd Montgomery AL 36116 United States;X-APPLE-RADIUS=500;X-TITLE=5350 Vaughn Rd:geo:-86.2160027,32.3400861
END:VEVENT
BEGIN:VEVENT
DTSTART;TZID=UTC:20211216T075000
DTEND;TZID=UTC:20211216T105500
DTSTAMP:20260423T183328
CREATED:20211213T150455Z
LAST-MODIFIED:20211213T151554Z
UID:10002658-1639641000-1639652100@montgomerycatholic.org
SUMMARY:Middle School Exams
DESCRIPTION:Early Dismissal @ 10:55am.
URL:https://montgomerycatholic.org/event/ms-exams/
LOCATION:Montgomery Catholic Preparatory School\, 5350 Vaughn Rd\, Montgomery\, AL\, 36116\, United States
CATEGORIES:Middle School
GEO:32.3400861;-86.2160027
X-APPLE-STRUCTURED-LOCATION;VALUE=URI;X-ADDRESS=Montgomery Catholic Preparatory School 5350 Vaughn Rd Montgomery AL 36116 United States;X-APPLE-RADIUS=500;X-TITLE=5350 Vaughn Rd:geo:-86.2160027,32.3400861
END:VEVENT
BEGIN:VEVENT
DTSTART;TZID=UTC:20211215T075000
DTEND;TZID=UTC:20211215T104500
DTSTAMP:20260423T183328
CREATED:20211213T150707Z
LAST-MODIFIED:20211213T151008Z
UID:10002660-1639554600-1639565100@montgomerycatholic.org
SUMMARY:Middle School Exams
DESCRIPTION:Early Dismissal @ 10:45am.
URL:https://montgomerycatholic.org/event/ms-exams-2/
LOCATION:Montgomery Catholic Preparatory School\, 5350 Vaughn Rd\, Montgomery\, AL\, 36116\, United States
CATEGORIES:Middle School
GEO:32.3400861;-86.2160027
X-APPLE-STRUCTURED-LOCATION;VALUE=URI;X-ADDRESS=Montgomery Catholic Preparatory School 5350 Vaughn Rd Montgomery AL 36116 United States;X-APPLE-RADIUS=500;X-TITLE=5350 Vaughn Rd:geo:-86.2160027,32.3400861
END:VEVENT
BEGIN:VEVENT
DTSTART;VALUE=DATE:20211214
DTEND;VALUE=DATE:20211221
DTSTAMP:20260423T183328
CREATED:20211203T144855Z
LAST-MODIFIED:20211203T144855Z
UID:10002923-1639440000-1640044799@montgomerycatholic.org
SUMMARY:Indoor Track - Krispie Kreme Voucher Sale
DESCRIPTION:The Indoor Track team will be selling Krispie Kreme Vouchers to help raise money for travel and equipment throughout the season. Please reach out to your favorite Indoor Track athlete to purchase a Voucher. \nOr contact Coach Tim Moore for more information. timmoore@montgomerycatholic.org
URL:https://montgomerycatholic.org/event/indoor-track-krispie-kreme-voucher-sale/
LOCATION:Montgomery Catholic Preparatory School\, 5350 Vaughn Rd\, Montgomery\, AL\, 36116\, United States
CATEGORIES:Athletics,Fundraising
ORGANIZER;CN="Tim Moore":MAILTO:timmoore@montgomerycatholic.org
GEO:32.3400861;-86.2160027
X-APPLE-STRUCTURED-LOCATION;VALUE=URI;X-ADDRESS=Montgomery Catholic Preparatory School 5350 Vaughn Rd Montgomery AL 36116 United States;X-APPLE-RADIUS=500;X-TITLE=5350 Vaughn Rd:geo:-86.2160027,32.3400861
END:VEVENT
BEGIN:VEVENT
DTSTART;VALUE=DATE:20211208
DTEND;VALUE=DATE:20211209
DTSTAMP:20260423T183328
CREATED:20210728T213336Z
LAST-MODIFIED:20210728T213336Z
UID:10002532-1638921600-1639007999@montgomerycatholic.org
SUMMARY:Feast of the Immaculate Conception (Holy Day of Obligation)
DESCRIPTION:
URL:https://montgomerycatholic.org/event/feast-of-the-immaculate-conception-holy-day-of-obligation/
LOCATION:Montgomery Catholic Preparatory School\, 5350 Vaughn Rd\, Montgomery\, AL\, 36116\, United States
CATEGORIES:General
GEO:32.3400861;-86.2160027
X-APPLE-STRUCTURED-LOCATION;VALUE=URI;X-ADDRESS=Montgomery Catholic Preparatory School 5350 Vaughn Rd Montgomery AL 36116 United States;X-APPLE-RADIUS=500;X-TITLE=5350 Vaughn Rd:geo:-86.2160027,32.3400861
END:VEVENT
BEGIN:VEVENT
DTSTART;VALUE=DATE:20211205
DTEND;VALUE=DATE:20211207
DTSTAMP:20260423T183328
CREATED:20210728T213245Z
LAST-MODIFIED:20210728T213245Z
UID:10002530-1638662400-1638835199@montgomerycatholic.org
SUMMARY:HS Junior Retreat
DESCRIPTION:
URL:https://montgomerycatholic.org/event/hs-junior-retreat/
LOCATION:Montgomery Catholic Preparatory School\, 5350 Vaughn Rd\, Montgomery\, AL\, 36116\, United States
CATEGORIES:High School
GEO:32.3400861;-86.2160027
X-APPLE-STRUCTURED-LOCATION;VALUE=URI;X-ADDRESS=Montgomery Catholic Preparatory School 5350 Vaughn Rd Montgomery AL 36116 United States;X-APPLE-RADIUS=500;X-TITLE=5350 Vaughn Rd:geo:-86.2160027,32.3400861
END:VEVENT
BEGIN:VEVENT
DTSTART;TZID=America/Chicago:20211204T160000
DTEND;TZID=America/Chicago:20211204T180000
DTSTAMP:20260423T183328
CREATED:20211013T134425Z
LAST-MODIFIED:20211013T143139Z
UID:10002673-1638633600-1638640800@montgomerycatholic.org
SUMMARY:Christmas Band Concert
DESCRIPTION:Our Montgomery Catholic band program will be hosting their Annual Christmas Concert on Dec 4 in the PICE Knights Arena.
URL:https://montgomerycatholic.org/event/christmas-band-concert/
LOCATION:Montgomery Catholic Preparatory School\, 5350 Vaughn Rd\, Montgomery\, AL\, 36116\, United States
CATEGORIES:Band,High School,Holy Spirit,Middle School,St. Bede
ORGANIZER;CN="Alex Johnson":MAILTO:alexjohnson@montgomerycatholic.org
GEO:32.3400861;-86.2160027
X-APPLE-STRUCTURED-LOCATION;VALUE=URI;X-ADDRESS=Montgomery Catholic Preparatory School 5350 Vaughn Rd Montgomery AL 36116 United States;X-APPLE-RADIUS=500;X-TITLE=5350 Vaughn Rd:geo:-86.2160027,32.3400861
END:VEVENT
BEGIN:VEVENT
DTSTART;VALUE=DATE:20211129
DTEND;VALUE=DATE:20211214
DTSTAMP:20260423T183328
CREATED:20211110T225403Z
LAST-MODIFIED:20211110T225403Z
UID:10002903-1638144000-1639439999@montgomerycatholic.org
SUMMARY:Cheerleading "Sponsor A Day" Calendar Fundraiser
DESCRIPTION:Cheerleaders will be asking our community to “Sponsor a Day”. Sponsors will choose a date on their calendar and donate the dollar amount that corresponds to the date they chose. \nContact your favorite cheerleader to help sponsor their calendar today! The fundraiser ends December 13th. \n 
URL:https://montgomerycatholic.org/event/cheerleading-sponsor-a-day-calendar-fundraiser/
LOCATION:Montgomery Catholic Preparatory School\, 5350 Vaughn Rd\, Montgomery\, AL\, 36116\, United States
CATEGORIES:Athletics,Fundraising,High School
ORGANIZER;CN="Mary Kelley":MAILTO:mkelley@montgomerycatholic.org
GEO:32.3400861;-86.2160027
X-APPLE-STRUCTURED-LOCATION;VALUE=URI;X-ADDRESS=Montgomery Catholic Preparatory School 5350 Vaughn Rd Montgomery AL 36116 United States;X-APPLE-RADIUS=500;X-TITLE=5350 Vaughn Rd:geo:-86.2160027,32.3400861
END:VEVENT
BEGIN:VEVENT
DTSTART;VALUE=DATE:20211124
DTEND;VALUE=DATE:20211127
DTSTAMP:20260423T183328
CREATED:20210728T213141Z
LAST-MODIFIED:20210728T213141Z
UID:10002529-1637712000-1637971199@montgomerycatholic.org
SUMMARY:Thanksgiving Holiday - No School
DESCRIPTION:
URL:https://montgomerycatholic.org/event/thanksgiving-holiday-no-school/
LOCATION:Montgomery Catholic Preparatory School\, 5350 Vaughn Rd\, Montgomery\, AL\, 36116\, United States
CATEGORIES:General
GEO:32.3400861;-86.2160027
X-APPLE-STRUCTURED-LOCATION;VALUE=URI;X-ADDRESS=Montgomery Catholic Preparatory School 5350 Vaughn Rd Montgomery AL 36116 United States;X-APPLE-RADIUS=500;X-TITLE=5350 Vaughn Rd:geo:-86.2160027,32.3400861
END:VEVENT
BEGIN:VEVENT
DTSTART;TZID=America/Chicago:20211120T160000
DTEND;TZID=America/Chicago:20211120T210000
DTSTAMP:20260423T183328
CREATED:20210929T183025Z
LAST-MODIFIED:20211022T142421Z
UID:10002524-1637424000-1637442000@montgomerycatholic.org
SUMMARY:Booster Club Turkey Toss
DESCRIPTION:Come support Montgomery Catholic Clubs & Athletics while partaking in a funfilled night of Cornhole\, Comradery\, & Common Bond Brewery! Join us as a team in the Social or Advanced division\, or as a spectator. Register online or at the gate (but space will be limited). *This is a 21 and older event* \n\n4:00PM – Check In \n\n\n\n5:00PM – Tournament Begins \n\n\n\n9:00PM – Tournament Ends \nRegister using the link below: \nhttps://montgomerycatholic.org/parent-info/booster-club/
URL:https://montgomerycatholic.org/event/booster-club-turkey-toss/
LOCATION:Montgomery Catholic Preparatory School\, 5350 Vaughn Rd\, Montgomery\, AL\, 36116\, United States
CATEGORIES:Athletics,Fundraising
ORGANIZER;CN="Booster Club":MAILTO:boosterclub@montgomerycatholic.org
GEO:32.3400861;-86.2160027
X-APPLE-STRUCTURED-LOCATION;VALUE=URI;X-ADDRESS=Montgomery Catholic Preparatory School 5350 Vaughn Rd Montgomery AL 36116 United States;X-APPLE-RADIUS=500;X-TITLE=5350 Vaughn Rd:geo:-86.2160027,32.3400861
END:VEVENT
BEGIN:VEVENT
DTSTART;TZID=UTC:20211119T190000
DTEND;TZID=UTC:20211119T210000
DTSTAMP:20260423T183328
CREATED:20211117T143550Z
LAST-MODIFIED:20211117T143550Z
UID:10002918-1637348400-1637355600@montgomerycatholic.org
SUMMARY:V Football vs Hillcrest Evergreen
DESCRIPTION:
URL:https://montgomerycatholic.org/event/v-football-vs-hillcrest-evergreen/
LOCATION:Montgomery Catholic Preparatory School\, 5350 Vaughn Rd\, Montgomery\, AL\, 36116\, United States
CATEGORIES:Athletics,High School
GEO:32.3400861;-86.2160027
X-APPLE-STRUCTURED-LOCATION;VALUE=URI;X-ADDRESS=Montgomery Catholic Preparatory School 5350 Vaughn Rd Montgomery AL 36116 United States;X-APPLE-RADIUS=500;X-TITLE=5350 Vaughn Rd:geo:-86.2160027,32.3400861
END:VEVENT
BEGIN:VEVENT
DTSTART;TZID=America/Chicago:20211117T183000
DTEND;TZID=America/Chicago:20211117T193000
DTSTAMP:20260423T183328
CREATED:20210728T213041Z
LAST-MODIFIED:20210728T213041Z
UID:10002528-1637173800-1637177400@montgomerycatholic.org
SUMMARY:Child Protection Training
DESCRIPTION:
URL:https://montgomerycatholic.org/event/child-protection-training-3/
LOCATION:Montgomery Catholic Preparatory School\, 5350 Vaughn Rd\, Montgomery\, AL\, 36116\, United States
CATEGORIES:General
GEO:32.3400861;-86.2160027
X-APPLE-STRUCTURED-LOCATION;VALUE=URI;X-ADDRESS=Montgomery Catholic Preparatory School 5350 Vaughn Rd Montgomery AL 36116 United States;X-APPLE-RADIUS=500;X-TITLE=5350 Vaughn Rd:geo:-86.2160027,32.3400861
END:VEVENT
END:VCALENDAR