BEGIN:VCALENDAR
VERSION:2.0
PRODID:-//Montgomery Catholic - ECPv6.15.20//NONSGML v1.0//EN
CALSCALE:GREGORIAN
METHOD:PUBLISH
X-WR-CALNAME:Montgomery Catholic
X-ORIGINAL-URL:https://montgomerycatholic.org
X-WR-CALDESC:Events for Montgomery Catholic
REFRESH-INTERVAL;VALUE=DURATION:PT1H
X-Robots-Tag:noindex
X-PUBLISHED-TTL:PT1H
BEGIN:VTIMEZONE
TZID:America/Chicago
BEGIN:DAYLIGHT
TZOFFSETFROM:-0600
TZOFFSETTO:-0500
TZNAME:CDT
DTSTART:20210314T080000
END:DAYLIGHT
BEGIN:STANDARD
TZOFFSETFROM:-0500
TZOFFSETTO:-0600
TZNAME:CST
DTSTART:20211107T070000
END:STANDARD
BEGIN:DAYLIGHT
TZOFFSETFROM:-0600
TZOFFSETTO:-0500
TZNAME:CDT
DTSTART:20220313T080000
END:DAYLIGHT
BEGIN:STANDARD
TZOFFSETFROM:-0500
TZOFFSETTO:-0600
TZNAME:CST
DTSTART:20221106T070000
END:STANDARD
BEGIN:DAYLIGHT
TZOFFSETFROM:-0600
TZOFFSETTO:-0500
TZNAME:CDT
DTSTART:20230312T080000
END:DAYLIGHT
BEGIN:STANDARD
TZOFFSETFROM:-0500
TZOFFSETTO:-0600
TZNAME:CST
DTSTART:20231105T070000
END:STANDARD
END:VTIMEZONE
BEGIN:VTIMEZONE
TZID:UTC
BEGIN:STANDARD
TZOFFSETFROM:+0000
TZOFFSETTO:+0000
TZNAME:UTC
DTSTART:20210101T000000
END:STANDARD
END:VTIMEZONE
BEGIN:VEVENT
DTSTART;TZID=America/Chicago:20220726T083000
DTEND;TZID=America/Chicago:20220726T113000
DTSTAMP:20260423T014715
CREATED:20220411T191650Z
LAST-MODIFIED:20220411T191650Z
UID:10003215-1658824200-1658835000@montgomerycatholic.org
SUMMARY:Football Summer Camp
DESCRIPTION:Football Camp is a 3 day camp from 8:30am – 11:30am on July 25-27 at the High School Football Field. \nCamp is open to rising K5-6th grade boys. \nRegister online at www.montgomerycatholic.org/camps.
URL:https://montgomerycatholic.org/event/football-summer-camp-2/2022-07-26/
LOCATION:Montgomery Catholic Preparatory School\, 5350 Vaughn Rd\, Montgomery\, AL\, 36116\, United States
CATEGORIES:Athletics
ORGANIZER;CN="Daniel Veres":MAILTO:dveres@montgomerycatholic.org
GEO:32.3400861;-86.2160027
X-APPLE-STRUCTURED-LOCATION;VALUE=URI;X-ADDRESS=Montgomery Catholic Preparatory School 5350 Vaughn Rd Montgomery AL 36116 United States;X-APPLE-RADIUS=500;X-TITLE=5350 Vaughn Rd:geo:-86.2160027,32.3400861
END:VEVENT
BEGIN:VEVENT
DTSTART;TZID=America/Chicago:20220725T083000
DTEND;TZID=America/Chicago:20220725T113000
DTSTAMP:20260423T014715
CREATED:20220411T191650Z
LAST-MODIFIED:20220411T191650Z
UID:10003214-1658737800-1658748600@montgomerycatholic.org
SUMMARY:Football Summer Camp
DESCRIPTION:Football Camp is a 3 day camp from 8:30am – 11:30am on July 25-27 at the High School Football Field. \nCamp is open to rising K5-6th grade boys. \nRegister online at www.montgomerycatholic.org/camps.
URL:https://montgomerycatholic.org/event/football-summer-camp-2/2022-07-25/
LOCATION:Montgomery Catholic Preparatory School\, 5350 Vaughn Rd\, Montgomery\, AL\, 36116\, United States
CATEGORIES:Athletics
ORGANIZER;CN="Daniel Veres":MAILTO:dveres@montgomerycatholic.org
GEO:32.3400861;-86.2160027
X-APPLE-STRUCTURED-LOCATION;VALUE=URI;X-ADDRESS=Montgomery Catholic Preparatory School 5350 Vaughn Rd Montgomery AL 36116 United States;X-APPLE-RADIUS=500;X-TITLE=5350 Vaughn Rd:geo:-86.2160027,32.3400861
END:VEVENT
BEGIN:VEVENT
DTSTART;TZID=America/Chicago:20220623T130000
DTEND;TZID=America/Chicago:20220623T160000
DTSTAMP:20260423T014715
CREATED:20220411T201504Z
LAST-MODIFIED:20220620T180344Z
UID:10002817-1655989200-1656000000@montgomerycatholic.org
SUMMARY:Jr. Engineers Summer Camp (6th-9th graders)
DESCRIPTION:Jr. Engineers Camp (6th-9th graders) is a 3 day camp from 1:00pm – 4:00pm on June 21-23 in the Makers Space at the Middle School Campus. \nCamp is open to all rising 6th-9th graders. There is a 12 participant limit to this camp. \nRegister online at www.montgomerycatholic.org/camps.
URL:https://montgomerycatholic.org/event/jr-engineers-summer-camp-6th-9th-graders/2022-06-23/
LOCATION:Montgomery Catholic Preparatory School\, 5350 Vaughn Rd\, Montgomery\, AL\, 36116\, United States
CATEGORIES:Athletics
ORGANIZER;CN="Daniel Veres":MAILTO:dveres@montgomerycatholic.org
GEO:32.3400861;-86.2160027
X-APPLE-STRUCTURED-LOCATION;VALUE=URI;X-ADDRESS=Montgomery Catholic Preparatory School 5350 Vaughn Rd Montgomery AL 36116 United States;X-APPLE-RADIUS=500;X-TITLE=5350 Vaughn Rd:geo:-86.2160027,32.3400861
END:VEVENT
BEGIN:VEVENT
DTSTART;TZID=America/Chicago:20220622T130000
DTEND;TZID=America/Chicago:20220622T160000
DTSTAMP:20260423T014715
CREATED:20220411T201504Z
LAST-MODIFIED:20220620T180344Z
UID:10002816-1655902800-1655913600@montgomerycatholic.org
SUMMARY:Jr. Engineers Summer Camp (6th-9th graders)
DESCRIPTION:Jr. Engineers Camp (6th-9th graders) is a 3 day camp from 1:00pm – 4:00pm on June 21-23 in the Makers Space at the Middle School Campus. \nCamp is open to all rising 6th-9th graders. There is a 12 participant limit to this camp. \nRegister online at www.montgomerycatholic.org/camps.
URL:https://montgomerycatholic.org/event/jr-engineers-summer-camp-6th-9th-graders/2022-06-22/
LOCATION:Montgomery Catholic Preparatory School\, 5350 Vaughn Rd\, Montgomery\, AL\, 36116\, United States
CATEGORIES:Athletics
ORGANIZER;CN="Daniel Veres":MAILTO:dveres@montgomerycatholic.org
GEO:32.3400861;-86.2160027
X-APPLE-STRUCTURED-LOCATION;VALUE=URI;X-ADDRESS=Montgomery Catholic Preparatory School 5350 Vaughn Rd Montgomery AL 36116 United States;X-APPLE-RADIUS=500;X-TITLE=5350 Vaughn Rd:geo:-86.2160027,32.3400861
END:VEVENT
BEGIN:VEVENT
DTSTART;TZID=America/Chicago:20220622T083000
DTEND;TZID=America/Chicago:20220622T113000
DTSTAMP:20260423T014715
CREATED:20220411T191150Z
LAST-MODIFIED:20220411T191150Z
UID:10003209-1655886600-1655897400@montgomerycatholic.org
SUMMARY:Softball Summer Camp
DESCRIPTION:Softball Camp is a 3 day camp from 8:30am – 11:30am on June 20-22 at the High School Softball Field. \nCamp is open to rising K5-6th grade girls. \nRegister online at www.montgomerycatholic.org/camps.
URL:https://montgomerycatholic.org/event/softball-summer-camp/2022-06-22/
LOCATION:Montgomery Catholic Preparatory School\, 5350 Vaughn Rd\, Montgomery\, AL\, 36116\, United States
CATEGORIES:Athletics
ORGANIZER;CN="Daniel Veres":MAILTO:dveres@montgomerycatholic.org
GEO:32.3400861;-86.2160027
X-APPLE-STRUCTURED-LOCATION;VALUE=URI;X-ADDRESS=Montgomery Catholic Preparatory School 5350 Vaughn Rd Montgomery AL 36116 United States;X-APPLE-RADIUS=500;X-TITLE=5350 Vaughn Rd:geo:-86.2160027,32.3400861
END:VEVENT
BEGIN:VEVENT
DTSTART;TZID=America/Chicago:20220621T130000
DTEND;TZID=America/Chicago:20220621T160000
DTSTAMP:20260423T014715
CREATED:20220411T201504Z
LAST-MODIFIED:20220620T180344Z
UID:10002815-1655816400-1655827200@montgomerycatholic.org
SUMMARY:Jr. Engineers Summer Camp (6th-9th graders)
DESCRIPTION:Jr. Engineers Camp (6th-9th graders) is a 3 day camp from 1:00pm – 4:00pm on June 21-23 in the Makers Space at the Middle School Campus. \nCamp is open to all rising 6th-9th graders. There is a 12 participant limit to this camp. \nRegister online at www.montgomerycatholic.org/camps.
URL:https://montgomerycatholic.org/event/jr-engineers-summer-camp-6th-9th-graders/2022-06-21/
LOCATION:Montgomery Catholic Preparatory School\, 5350 Vaughn Rd\, Montgomery\, AL\, 36116\, United States
CATEGORIES:Athletics
ORGANIZER;CN="Daniel Veres":MAILTO:dveres@montgomerycatholic.org
GEO:32.3400861;-86.2160027
X-APPLE-STRUCTURED-LOCATION;VALUE=URI;X-ADDRESS=Montgomery Catholic Preparatory School 5350 Vaughn Rd Montgomery AL 36116 United States;X-APPLE-RADIUS=500;X-TITLE=5350 Vaughn Rd:geo:-86.2160027,32.3400861
END:VEVENT
BEGIN:VEVENT
DTSTART;TZID=America/Chicago:20220621T083000
DTEND;TZID=America/Chicago:20220621T113000
DTSTAMP:20260423T014715
CREATED:20220411T191150Z
LAST-MODIFIED:20220411T191150Z
UID:10003208-1655800200-1655811000@montgomerycatholic.org
SUMMARY:Softball Summer Camp
DESCRIPTION:Softball Camp is a 3 day camp from 8:30am – 11:30am on June 20-22 at the High School Softball Field. \nCamp is open to rising K5-6th grade girls. \nRegister online at www.montgomerycatholic.org/camps.
URL:https://montgomerycatholic.org/event/softball-summer-camp/2022-06-21/
LOCATION:Montgomery Catholic Preparatory School\, 5350 Vaughn Rd\, Montgomery\, AL\, 36116\, United States
CATEGORIES:Athletics
ORGANIZER;CN="Daniel Veres":MAILTO:dveres@montgomerycatholic.org
GEO:32.3400861;-86.2160027
X-APPLE-STRUCTURED-LOCATION;VALUE=URI;X-ADDRESS=Montgomery Catholic Preparatory School 5350 Vaughn Rd Montgomery AL 36116 United States;X-APPLE-RADIUS=500;X-TITLE=5350 Vaughn Rd:geo:-86.2160027,32.3400861
END:VEVENT
BEGIN:VEVENT
DTSTART;TZID=America/Chicago:20220620T083000
DTEND;TZID=America/Chicago:20220620T113000
DTSTAMP:20260423T014715
CREATED:20220411T191150Z
LAST-MODIFIED:20220411T191150Z
UID:10003207-1655713800-1655724600@montgomerycatholic.org
SUMMARY:Softball Summer Camp
DESCRIPTION:Softball Camp is a 3 day camp from 8:30am – 11:30am on June 20-22 at the High School Softball Field. \nCamp is open to rising K5-6th grade girls. \nRegister online at www.montgomerycatholic.org/camps.
URL:https://montgomerycatholic.org/event/softball-summer-camp/2022-06-20/
LOCATION:Montgomery Catholic Preparatory School\, 5350 Vaughn Rd\, Montgomery\, AL\, 36116\, United States
CATEGORIES:Athletics
ORGANIZER;CN="Daniel Veres":MAILTO:dveres@montgomerycatholic.org
GEO:32.3400861;-86.2160027
X-APPLE-STRUCTURED-LOCATION;VALUE=URI;X-ADDRESS=Montgomery Catholic Preparatory School 5350 Vaughn Rd Montgomery AL 36116 United States;X-APPLE-RADIUS=500;X-TITLE=5350 Vaughn Rd:geo:-86.2160027,32.3400861
END:VEVENT
BEGIN:VEVENT
DTSTART;TZID=America/Chicago:20220616T130000
DTEND;TZID=America/Chicago:20220616T160000
DTSTAMP:20260423T014715
CREATED:20220411T200015Z
LAST-MODIFIED:20220411T200015Z
UID:10002808-1655384400-1655395200@montgomerycatholic.org
SUMMARY:Jr. Engineers Summer Camp (2nd - 5th Graders)
DESCRIPTION:Jr. Engineers Camp (2nd-5th graders) is a 3 day camp from 1:00pm – 4:00pm on June 14-16 in the Makers Space at the Middle School Campus. \nCamp is open to all rising 2nd-5th graders. There is a 12 participant limit to this camp. \nRegister online at www.montgomerycatholic.org/camps.
URL:https://montgomerycatholic.org/event/jr-engineers-summer-camp-2nd-5th-graders/2022-06-16/
LOCATION:Montgomery Catholic Preparatory School\, 5350 Vaughn Rd\, Montgomery\, AL\, 36116\, United States
CATEGORIES:Athletics
ORGANIZER;CN="Daniel Veres":MAILTO:dveres@montgomerycatholic.org
GEO:32.3400861;-86.2160027
X-APPLE-STRUCTURED-LOCATION;VALUE=URI;X-ADDRESS=Montgomery Catholic Preparatory School 5350 Vaughn Rd Montgomery AL 36116 United States;X-APPLE-RADIUS=500;X-TITLE=5350 Vaughn Rd:geo:-86.2160027,32.3400861
END:VEVENT
BEGIN:VEVENT
DTSTART;TZID=America/Chicago:20220616T083000
DTEND;TZID=America/Chicago:20220616T113000
DTSTAMP:20260423T014715
CREATED:20220411T190602Z
LAST-MODIFIED:20220411T190602Z
UID:10003205-1655368200-1655379000@montgomerycatholic.org
SUMMARY:Baseball Summer Camp
DESCRIPTION:Baseball Camp is a 3 day camp from 8:30am – 11:30am on June 14-16 at the High School Baseball Field. \nCamp is open to rising K5-6th grade boys. \nRegister online at www.montgomerycatholic.org/camps.
URL:https://montgomerycatholic.org/event/baseball-summer-camp-2/2022-06-16/
LOCATION:Montgomery Catholic Preparatory School\, 5350 Vaughn Rd\, Montgomery\, AL\, 36116\, United States
CATEGORIES:Athletics
ORGANIZER;CN="Daniel Veres":MAILTO:dveres@montgomerycatholic.org
GEO:32.3400861;-86.2160027
X-APPLE-STRUCTURED-LOCATION;VALUE=URI;X-ADDRESS=Montgomery Catholic Preparatory School 5350 Vaughn Rd Montgomery AL 36116 United States;X-APPLE-RADIUS=500;X-TITLE=5350 Vaughn Rd:geo:-86.2160027,32.3400861
END:VEVENT
BEGIN:VEVENT
DTSTART;TZID=America/Chicago:20220615T130000
DTEND;TZID=America/Chicago:20220615T160000
DTSTAMP:20260423T014715
CREATED:20220411T200015Z
LAST-MODIFIED:20220411T200015Z
UID:10002807-1655298000-1655308800@montgomerycatholic.org
SUMMARY:Jr. Engineers Summer Camp (2nd - 5th Graders)
DESCRIPTION:Jr. Engineers Camp (2nd-5th graders) is a 3 day camp from 1:00pm – 4:00pm on June 14-16 in the Makers Space at the Middle School Campus. \nCamp is open to all rising 2nd-5th graders. There is a 12 participant limit to this camp. \nRegister online at www.montgomerycatholic.org/camps.
URL:https://montgomerycatholic.org/event/jr-engineers-summer-camp-2nd-5th-graders/2022-06-15/
LOCATION:Montgomery Catholic Preparatory School\, 5350 Vaughn Rd\, Montgomery\, AL\, 36116\, United States
CATEGORIES:Athletics
ORGANIZER;CN="Daniel Veres":MAILTO:dveres@montgomerycatholic.org
GEO:32.3400861;-86.2160027
X-APPLE-STRUCTURED-LOCATION;VALUE=URI;X-ADDRESS=Montgomery Catholic Preparatory School 5350 Vaughn Rd Montgomery AL 36116 United States;X-APPLE-RADIUS=500;X-TITLE=5350 Vaughn Rd:geo:-86.2160027,32.3400861
END:VEVENT
BEGIN:VEVENT
DTSTART;TZID=America/Chicago:20220615T083000
DTEND;TZID=America/Chicago:20220615T113000
DTSTAMP:20260423T014715
CREATED:20220411T190602Z
LAST-MODIFIED:20220411T190602Z
UID:10003204-1655281800-1655292600@montgomerycatholic.org
SUMMARY:Baseball Summer Camp
DESCRIPTION:Baseball Camp is a 3 day camp from 8:30am – 11:30am on June 14-16 at the High School Baseball Field. \nCamp is open to rising K5-6th grade boys. \nRegister online at www.montgomerycatholic.org/camps.
URL:https://montgomerycatholic.org/event/baseball-summer-camp-2/2022-06-15/
LOCATION:Montgomery Catholic Preparatory School\, 5350 Vaughn Rd\, Montgomery\, AL\, 36116\, United States
CATEGORIES:Athletics
ORGANIZER;CN="Daniel Veres":MAILTO:dveres@montgomerycatholic.org
GEO:32.3400861;-86.2160027
X-APPLE-STRUCTURED-LOCATION;VALUE=URI;X-ADDRESS=Montgomery Catholic Preparatory School 5350 Vaughn Rd Montgomery AL 36116 United States;X-APPLE-RADIUS=500;X-TITLE=5350 Vaughn Rd:geo:-86.2160027,32.3400861
END:VEVENT
BEGIN:VEVENT
DTSTART;TZID=America/Chicago:20220614T130000
DTEND;TZID=America/Chicago:20220614T160000
DTSTAMP:20260423T014715
CREATED:20220411T200015Z
LAST-MODIFIED:20220411T200015Z
UID:10002806-1655211600-1655222400@montgomerycatholic.org
SUMMARY:Jr. Engineers Summer Camp (2nd - 5th Graders)
DESCRIPTION:Jr. Engineers Camp (2nd-5th graders) is a 3 day camp from 1:00pm – 4:00pm on June 14-16 in the Makers Space at the Middle School Campus. \nCamp is open to all rising 2nd-5th graders. There is a 12 participant limit to this camp. \nRegister online at www.montgomerycatholic.org/camps.
URL:https://montgomerycatholic.org/event/jr-engineers-summer-camp-2nd-5th-graders/2022-06-14/
LOCATION:Montgomery Catholic Preparatory School\, 5350 Vaughn Rd\, Montgomery\, AL\, 36116\, United States
CATEGORIES:Athletics
ORGANIZER;CN="Daniel Veres":MAILTO:dveres@montgomerycatholic.org
GEO:32.3400861;-86.2160027
X-APPLE-STRUCTURED-LOCATION;VALUE=URI;X-ADDRESS=Montgomery Catholic Preparatory School 5350 Vaughn Rd Montgomery AL 36116 United States;X-APPLE-RADIUS=500;X-TITLE=5350 Vaughn Rd:geo:-86.2160027,32.3400861
END:VEVENT
BEGIN:VEVENT
DTSTART;TZID=America/Chicago:20220614T083000
DTEND;TZID=America/Chicago:20220614T113000
DTSTAMP:20260423T014715
CREATED:20220411T190602Z
LAST-MODIFIED:20220411T190602Z
UID:10003203-1655195400-1655206200@montgomerycatholic.org
SUMMARY:Baseball Summer Camp
DESCRIPTION:Baseball Camp is a 3 day camp from 8:30am – 11:30am on June 14-16 at the High School Baseball Field. \nCamp is open to rising K5-6th grade boys. \nRegister online at www.montgomerycatholic.org/camps.
URL:https://montgomerycatholic.org/event/baseball-summer-camp-2/2022-06-14/
LOCATION:Montgomery Catholic Preparatory School\, 5350 Vaughn Rd\, Montgomery\, AL\, 36116\, United States
CATEGORIES:Athletics
ORGANIZER;CN="Daniel Veres":MAILTO:dveres@montgomerycatholic.org
GEO:32.3400861;-86.2160027
X-APPLE-STRUCTURED-LOCATION;VALUE=URI;X-ADDRESS=Montgomery Catholic Preparatory School 5350 Vaughn Rd Montgomery AL 36116 United States;X-APPLE-RADIUS=500;X-TITLE=5350 Vaughn Rd:geo:-86.2160027,32.3400861
END:VEVENT
BEGIN:VEVENT
DTSTART;TZID=America/Chicago:20220609T130000
DTEND;TZID=America/Chicago:20220609T160000
DTSTAMP:20260423T014715
CREATED:20220411T195541Z
LAST-MODIFIED:20220411T200116Z
UID:10002804-1654779600-1654790400@montgomerycatholic.org
SUMMARY:Robotics Summer Camp
DESCRIPTION:Robotics Camp is a 3 day camp from 1:00pm – 4:00pm on June 7-9 at the Middle School Campus. \nCamp is open to all rising 7th-12th graders. This camp is limited to 10 participants. \nRegister online at www.montgomerycatholic.org/camps.
URL:https://montgomerycatholic.org/event/robotics-summer-camp/2022-06-09/
LOCATION:Montgomery Catholic Preparatory School\, 5350 Vaughn Rd\, Montgomery\, AL\, 36116\, United States
CATEGORIES:Athletics
ORGANIZER;CN="Daniel Veres":MAILTO:dveres@montgomerycatholic.org
GEO:32.3400861;-86.2160027
X-APPLE-STRUCTURED-LOCATION;VALUE=URI;X-ADDRESS=Montgomery Catholic Preparatory School 5350 Vaughn Rd Montgomery AL 36116 United States;X-APPLE-RADIUS=500;X-TITLE=5350 Vaughn Rd:geo:-86.2160027,32.3400861
END:VEVENT
BEGIN:VEVENT
DTSTART;TZID=America/Chicago:20220608T130000
DTEND;TZID=America/Chicago:20220608T160000
DTSTAMP:20260423T014715
CREATED:20220411T195541Z
LAST-MODIFIED:20220411T200116Z
UID:10002803-1654693200-1654704000@montgomerycatholic.org
SUMMARY:Robotics Summer Camp
DESCRIPTION:Robotics Camp is a 3 day camp from 1:00pm – 4:00pm on June 7-9 at the Middle School Campus. \nCamp is open to all rising 7th-12th graders. This camp is limited to 10 participants. \nRegister online at www.montgomerycatholic.org/camps.
URL:https://montgomerycatholic.org/event/robotics-summer-camp/2022-06-08/
LOCATION:Montgomery Catholic Preparatory School\, 5350 Vaughn Rd\, Montgomery\, AL\, 36116\, United States
CATEGORIES:Athletics
ORGANIZER;CN="Daniel Veres":MAILTO:dveres@montgomerycatholic.org
GEO:32.3400861;-86.2160027
X-APPLE-STRUCTURED-LOCATION;VALUE=URI;X-ADDRESS=Montgomery Catholic Preparatory School 5350 Vaughn Rd Montgomery AL 36116 United States;X-APPLE-RADIUS=500;X-TITLE=5350 Vaughn Rd:geo:-86.2160027,32.3400861
END:VEVENT
BEGIN:VEVENT
DTSTART;TZID=America/Chicago:20220607T130000
DTEND;TZID=America/Chicago:20220607T160000
DTSTAMP:20260423T014715
CREATED:20220411T195541Z
LAST-MODIFIED:20220411T200116Z
UID:10002802-1654606800-1654617600@montgomerycatholic.org
SUMMARY:Robotics Summer Camp
DESCRIPTION:Robotics Camp is a 3 day camp from 1:00pm – 4:00pm on June 7-9 at the Middle School Campus. \nCamp is open to all rising 7th-12th graders. This camp is limited to 10 participants. \nRegister online at www.montgomerycatholic.org/camps.
URL:https://montgomerycatholic.org/event/robotics-summer-camp/2022-06-07/
LOCATION:Montgomery Catholic Preparatory School\, 5350 Vaughn Rd\, Montgomery\, AL\, 36116\, United States
CATEGORIES:Athletics
ORGANIZER;CN="Daniel Veres":MAILTO:dveres@montgomerycatholic.org
GEO:32.3400861;-86.2160027
X-APPLE-STRUCTURED-LOCATION;VALUE=URI;X-ADDRESS=Montgomery Catholic Preparatory School 5350 Vaughn Rd Montgomery AL 36116 United States;X-APPLE-RADIUS=500;X-TITLE=5350 Vaughn Rd:geo:-86.2160027,32.3400861
END:VEVENT
BEGIN:VEVENT
DTSTART;TZID=America/Chicago:20220602T130000
DTEND;TZID=America/Chicago:20220602T160000
DTSTAMP:20260423T014715
CREATED:20220411T184229Z
LAST-MODIFIED:20220411T190849Z
UID:10003193-1654174800-1654185600@montgomerycatholic.org
SUMMARY:Soccer Summer Camp
DESCRIPTION:Soccer Camp is a 3 day camp from 1:00pm – 4:00pm on May 31 – June 2 at the High School Soccer Field. \nCamp is open to all rising K5-8th graders. \nRegister online at www.montgomerycatholic.org/camps.
URL:https://montgomerycatholic.org/event/soccer-summer-camp/2022-06-02/
LOCATION:Montgomery Catholic Preparatory School\, 5350 Vaughn Rd\, Montgomery\, AL\, 36116\, United States
CATEGORIES:Athletics
ORGANIZER;CN="Daniel Veres":MAILTO:dveres@montgomerycatholic.org
GEO:32.3400861;-86.2160027
X-APPLE-STRUCTURED-LOCATION;VALUE=URI;X-ADDRESS=Montgomery Catholic Preparatory School 5350 Vaughn Rd Montgomery AL 36116 United States;X-APPLE-RADIUS=500;X-TITLE=5350 Vaughn Rd:geo:-86.2160027,32.3400861
END:VEVENT
BEGIN:VEVENT
DTSTART;TZID=America/Chicago:20220601T130000
DTEND;TZID=America/Chicago:20220601T160000
DTSTAMP:20260423T014715
CREATED:20220411T184229Z
LAST-MODIFIED:20220411T190849Z
UID:10003192-1654088400-1654099200@montgomerycatholic.org
SUMMARY:Soccer Summer Camp
DESCRIPTION:Soccer Camp is a 3 day camp from 1:00pm – 4:00pm on May 31 – June 2 at the High School Soccer Field. \nCamp is open to all rising K5-8th graders. \nRegister online at www.montgomerycatholic.org/camps.
URL:https://montgomerycatholic.org/event/soccer-summer-camp/2022-06-01/
LOCATION:Montgomery Catholic Preparatory School\, 5350 Vaughn Rd\, Montgomery\, AL\, 36116\, United States
CATEGORIES:Athletics
ORGANIZER;CN="Daniel Veres":MAILTO:dveres@montgomerycatholic.org
GEO:32.3400861;-86.2160027
X-APPLE-STRUCTURED-LOCATION;VALUE=URI;X-ADDRESS=Montgomery Catholic Preparatory School 5350 Vaughn Rd Montgomery AL 36116 United States;X-APPLE-RADIUS=500;X-TITLE=5350 Vaughn Rd:geo:-86.2160027,32.3400861
END:VEVENT
BEGIN:VEVENT
DTSTART;TZID=America/Chicago:20220531T130000
DTEND;TZID=America/Chicago:20220531T160000
DTSTAMP:20260423T014715
CREATED:20220411T184229Z
LAST-MODIFIED:20220411T190849Z
UID:10003191-1654002000-1654012800@montgomerycatholic.org
SUMMARY:Soccer Summer Camp
DESCRIPTION:Soccer Camp is a 3 day camp from 1:00pm – 4:00pm on May 31 – June 2 at the High School Soccer Field. \nCamp is open to all rising K5-8th graders. \nRegister online at www.montgomerycatholic.org/camps.
URL:https://montgomerycatholic.org/event/soccer-summer-camp/2022-05-31/
LOCATION:Montgomery Catholic Preparatory School\, 5350 Vaughn Rd\, Montgomery\, AL\, 36116\, United States
CATEGORIES:Athletics
ORGANIZER;CN="Daniel Veres":MAILTO:dveres@montgomerycatholic.org
GEO:32.3400861;-86.2160027
X-APPLE-STRUCTURED-LOCATION;VALUE=URI;X-ADDRESS=Montgomery Catholic Preparatory School 5350 Vaughn Rd Montgomery AL 36116 United States;X-APPLE-RADIUS=500;X-TITLE=5350 Vaughn Rd:geo:-86.2160027,32.3400861
END:VEVENT
BEGIN:VEVENT
DTSTART;VALUE=DATE:20220527
DTEND;VALUE=DATE:20220528
DTSTAMP:20260423T014715
CREATED:20210729T031402Z
LAST-MODIFIED:20210729T031402Z
UID:10002588-1653609600-1653695999@montgomerycatholic.org
SUMMARY:MS Early Dismissal
DESCRIPTION:
URL:https://montgomerycatholic.org/event/ms-early-dismissal/
LOCATION:Montgomery Catholic Preparatory School\, 5350 Vaughn Rd\, Montgomery\, AL\, 36116\, United States
CATEGORIES:Middle School
GEO:32.3400861;-86.2160027
X-APPLE-STRUCTURED-LOCATION;VALUE=URI;X-ADDRESS=Montgomery Catholic Preparatory School 5350 Vaughn Rd Montgomery AL 36116 United States;X-APPLE-RADIUS=500;X-TITLE=5350 Vaughn Rd:geo:-86.2160027,32.3400861
END:VEVENT
BEGIN:VEVENT
DTSTART;VALUE=DATE:20220527
DTEND;VALUE=DATE:20220528
DTSTAMP:20260423T014715
CREATED:20210729T031309Z
LAST-MODIFIED:20210729T031309Z
UID:10002586-1653609600-1653695999@montgomerycatholic.org
SUMMARY:HS Early Dismissal
DESCRIPTION:
URL:https://montgomerycatholic.org/event/hs-early-dismissal/
LOCATION:Montgomery Catholic Preparatory School\, 5350 Vaughn Rd\, Montgomery\, AL\, 36116\, United States
CATEGORIES:High School
GEO:32.3400861;-86.2160027
X-APPLE-STRUCTURED-LOCATION;VALUE=URI;X-ADDRESS=Montgomery Catholic Preparatory School 5350 Vaughn Rd Montgomery AL 36116 United States;X-APPLE-RADIUS=500;X-TITLE=5350 Vaughn Rd:geo:-86.2160027,32.3400861
END:VEVENT
BEGIN:VEVENT
DTSTART;VALUE=DATE:20220527
DTEND;VALUE=DATE:20220528
DTSTAMP:20260423T014715
CREATED:20210729T031229Z
LAST-MODIFIED:20210729T031229Z
UID:10002584-1653609600-1653695999@montgomerycatholic.org
SUMMARY:Last Day of School
DESCRIPTION:
URL:https://montgomerycatholic.org/event/last-day-of-school/
LOCATION:Montgomery Catholic Preparatory School\, 5350 Vaughn Rd\, Montgomery\, AL\, 36116\, United States
CATEGORIES:General
GEO:32.3400861;-86.2160027
X-APPLE-STRUCTURED-LOCATION;VALUE=URI;X-ADDRESS=Montgomery Catholic Preparatory School 5350 Vaughn Rd Montgomery AL 36116 United States;X-APPLE-RADIUS=500;X-TITLE=5350 Vaughn Rd:geo:-86.2160027,32.3400861
END:VEVENT
BEGIN:VEVENT
DTSTART;TZID=America/Chicago:20220525T183000
DTEND;TZID=America/Chicago:20220525T193000
DTSTAMP:20260423T014715
CREATED:20211110T162117Z
LAST-MODIFIED:20211110T162117Z
UID:10002896-1653503400-1653507000@montgomerycatholic.org
SUMMARY:Child Protection Training - Room #10 in the High School
DESCRIPTION:
URL:https://montgomerycatholic.org/event/child-protection-training-room-10-in-the-high-school-5/
LOCATION:Montgomery Catholic Preparatory School\, 5350 Vaughn Rd\, Montgomery\, AL\, 36116\, United States
CATEGORIES:High School,Holy Spirit,Middle School,St. Bede
GEO:32.3400861;-86.2160027
X-APPLE-STRUCTURED-LOCATION;VALUE=URI;X-ADDRESS=Montgomery Catholic Preparatory School 5350 Vaughn Rd Montgomery AL 36116 United States;X-APPLE-RADIUS=500;X-TITLE=5350 Vaughn Rd:geo:-86.2160027,32.3400861
END:VEVENT
BEGIN:VEVENT
DTSTART;TZID=America/Chicago:20220518T090000
DTEND;TZID=America/Chicago:20220518T103000
DTSTAMP:20260423T014715
CREATED:20220509T205922Z
LAST-MODIFIED:20220509T205922Z
UID:10003226-1652864400-1652869800@montgomerycatholic.org
SUMMARY:Senior Science Exams
DESCRIPTION:
URL:https://montgomerycatholic.org/event/senior-science-exams/
LOCATION:Montgomery Catholic Preparatory School\, 5350 Vaughn Rd\, Montgomery\, AL\, 36116\, United States
CATEGORIES:High School
GEO:32.3400861;-86.2160027
X-APPLE-STRUCTURED-LOCATION;VALUE=URI;X-ADDRESS=Montgomery Catholic Preparatory School 5350 Vaughn Rd Montgomery AL 36116 United States;X-APPLE-RADIUS=500;X-TITLE=5350 Vaughn Rd:geo:-86.2160027,32.3400861
END:VEVENT
BEGIN:VEVENT
DTSTART;TZID=America/Chicago:20220517T104500
DTEND;TZID=America/Chicago:20220517T121500
DTSTAMP:20260423T014715
CREATED:20220509T180710Z
LAST-MODIFIED:20220509T180710Z
UID:10002825-1652784300-1652789700@montgomerycatholic.org
SUMMARY:Senior History Exams
DESCRIPTION:
URL:https://montgomerycatholic.org/event/senior-history-exams/
LOCATION:Montgomery Catholic Preparatory School\, 5350 Vaughn Rd\, Montgomery\, AL\, 36116\, United States
CATEGORIES:High School
GEO:32.3400861;-86.2160027
X-APPLE-STRUCTURED-LOCATION;VALUE=URI;X-ADDRESS=Montgomery Catholic Preparatory School 5350 Vaughn Rd Montgomery AL 36116 United States;X-APPLE-RADIUS=500;X-TITLE=5350 Vaughn Rd:geo:-86.2160027,32.3400861
END:VEVENT
BEGIN:VEVENT
DTSTART;TZID=America/Chicago:20220517T090000
DTEND;TZID=America/Chicago:20220517T103000
DTSTAMP:20260423T014715
CREATED:20220509T180523Z
LAST-MODIFIED:20220509T180523Z
UID:10002824-1652778000-1652783400@montgomerycatholic.org
SUMMARY:Senior Math Exams
DESCRIPTION:
URL:https://montgomerycatholic.org/event/senior-math-exams/
LOCATION:Montgomery Catholic Preparatory School\, 5350 Vaughn Rd\, Montgomery\, AL\, 36116\, United States
CATEGORIES:High School
GEO:32.3400861;-86.2160027
X-APPLE-STRUCTURED-LOCATION;VALUE=URI;X-ADDRESS=Montgomery Catholic Preparatory School 5350 Vaughn Rd Montgomery AL 36116 United States;X-APPLE-RADIUS=500;X-TITLE=5350 Vaughn Rd:geo:-86.2160027,32.3400861
END:VEVENT
BEGIN:VEVENT
DTSTART;TZID=America/Chicago:20220516T104500
DTEND;TZID=America/Chicago:20220516T121500
DTSTAMP:20260423T014715
CREATED:20220509T175056Z
LAST-MODIFIED:20220509T175056Z
UID:10002823-1652697900-1652703300@montgomerycatholic.org
SUMMARY:Senior Elective Exams
DESCRIPTION:
URL:https://montgomerycatholic.org/event/senior-elective-exams/
LOCATION:Montgomery Catholic Preparatory School\, 5350 Vaughn Rd\, Montgomery\, AL\, 36116\, United States
CATEGORIES:High School
GEO:32.3400861;-86.2160027
X-APPLE-STRUCTURED-LOCATION;VALUE=URI;X-ADDRESS=Montgomery Catholic Preparatory School 5350 Vaughn Rd Montgomery AL 36116 United States;X-APPLE-RADIUS=500;X-TITLE=5350 Vaughn Rd:geo:-86.2160027,32.3400861
END:VEVENT
BEGIN:VEVENT
DTSTART;TZID=America/Chicago:20220516T090000
DTEND;TZID=America/Chicago:20220516T103000
DTSTAMP:20260423T014715
CREATED:20220509T174901Z
LAST-MODIFIED:20220509T174901Z
UID:10002822-1652691600-1652697000@montgomerycatholic.org
SUMMARY:Senior English Exams
DESCRIPTION:
URL:https://montgomerycatholic.org/event/senior-english-exams/
LOCATION:Montgomery Catholic Preparatory School\, 5350 Vaughn Rd\, Montgomery\, AL\, 36116\, United States
GEO:32.3400861;-86.2160027
X-APPLE-STRUCTURED-LOCATION;VALUE=URI;X-ADDRESS=Montgomery Catholic Preparatory School 5350 Vaughn Rd Montgomery AL 36116 United States;X-APPLE-RADIUS=500;X-TITLE=5350 Vaughn Rd:geo:-86.2160027,32.3400861
END:VEVENT
BEGIN:VEVENT
DTSTART;TZID=UTC:20220510T153000
DTEND;TZID=UTC:20220510T163000
DTSTAMP:20260423T014715
CREATED:20220121T162845Z
LAST-MODIFIED:20220504T160045Z
UID:10002680-1652196600-1652200200@montgomerycatholic.org
SUMMARY:Spring Signing Day
DESCRIPTION:Join us at 3:30pm as our Senior Athletes sign to play their respective sport at the collegiate level.
URL:https://montgomerycatholic.org/event/spring-signing-day/
LOCATION:Montgomery Catholic Preparatory School\, 5350 Vaughn Rd\, Montgomery\, AL\, 36116\, United States
ORGANIZER;CN="Daniel Veres":MAILTO:dveres@montgomerycatholic.org
GEO:32.3400861;-86.2160027
X-APPLE-STRUCTURED-LOCATION;VALUE=URI;X-ADDRESS=Montgomery Catholic Preparatory School 5350 Vaughn Rd Montgomery AL 36116 United States;X-APPLE-RADIUS=500;X-TITLE=5350 Vaughn Rd:geo:-86.2160027,32.3400861
END:VEVENT
END:VCALENDAR