BEGIN:VCALENDAR
VERSION:2.0
PRODID:-//Montgomery Catholic - ECPv6.15.20//NONSGML v1.0//EN
CALSCALE:GREGORIAN
METHOD:PUBLISH
X-ORIGINAL-URL:https://montgomerycatholic.org
X-WR-CALDESC:Events for Montgomery Catholic
REFRESH-INTERVAL;VALUE=DURATION:PT1H
X-Robots-Tag:noindex
X-PUBLISHED-TTL:PT1H
BEGIN:VTIMEZONE
TZID:UTC
BEGIN:STANDARD
TZOFFSETFROM:+0000
TZOFFSETTO:+0000
TZNAME:UTC
DTSTART:20210101T000000
END:STANDARD
END:VTIMEZONE
BEGIN:VTIMEZONE
TZID:America/Chicago
BEGIN:DAYLIGHT
TZOFFSETFROM:-0600
TZOFFSETTO:-0500
TZNAME:CDT
DTSTART:20210314T080000
END:DAYLIGHT
BEGIN:STANDARD
TZOFFSETFROM:-0500
TZOFFSETTO:-0600
TZNAME:CST
DTSTART:20211107T070000
END:STANDARD
BEGIN:DAYLIGHT
TZOFFSETFROM:-0600
TZOFFSETTO:-0500
TZNAME:CDT
DTSTART:20220313T080000
END:DAYLIGHT
BEGIN:STANDARD
TZOFFSETFROM:-0500
TZOFFSETTO:-0600
TZNAME:CST
DTSTART:20221106T070000
END:STANDARD
BEGIN:DAYLIGHT
TZOFFSETFROM:-0600
TZOFFSETTO:-0500
TZNAME:CDT
DTSTART:20230312T080000
END:DAYLIGHT
BEGIN:STANDARD
TZOFFSETFROM:-0500
TZOFFSETTO:-0600
TZNAME:CST
DTSTART:20231105T070000
END:STANDARD
END:VTIMEZONE
BEGIN:VEVENT
DTSTART;TZID=UTC:20220830T173000
DTEND;TZID=UTC:20220830T183000
DTSTAMP:20260422T203356
CREATED:20220811T195033Z
LAST-MODIFIED:20220811T195033Z
UID:10003489-1661880600-1661884200@montgomerycatholic.org
SUMMARY:JV Volleyball Game vs. PCA
DESCRIPTION:
URL:https://montgomerycatholic.org/event/jv-volleyball-game-vs-pca/
LOCATION:Montgomery Catholic Preparatory School\, 5350 Vaughn Rd\, Montgomery\, AL\, 36116\, United States
CATEGORIES:Athletics,High School
GEO:32.3400861;-86.2160027
X-APPLE-STRUCTURED-LOCATION;VALUE=URI;X-ADDRESS=Montgomery Catholic Preparatory School 5350 Vaughn Rd Montgomery AL 36116 United States;X-APPLE-RADIUS=500;X-TITLE=5350 Vaughn Rd:geo:-86.2160027,32.3400861
END:VEVENT
BEGIN:VEVENT
DTSTART;TZID=UTC:20220829T183000
DTEND;TZID=UTC:20220829T200000
DTSTAMP:20260422T203356
CREATED:20220809T180703Z
LAST-MODIFIED:20220809T180703Z
UID:10003464-1661797800-1661803200@montgomerycatholic.org
SUMMARY:JV Football Game vs. Holtville
DESCRIPTION:
URL:https://montgomerycatholic.org/event/jv-football-game-vs-holtville/
LOCATION:Montgomery Catholic Preparatory School\, 5350 Vaughn Rd\, Montgomery\, AL\, 36116\, United States
CATEGORIES:Athletics,High School
GEO:32.3400861;-86.2160027
X-APPLE-STRUCTURED-LOCATION;VALUE=URI;X-ADDRESS=Montgomery Catholic Preparatory School 5350 Vaughn Rd Montgomery AL 36116 United States;X-APPLE-RADIUS=500;X-TITLE=5350 Vaughn Rd:geo:-86.2160027,32.3400861
END:VEVENT
BEGIN:VEVENT
DTSTART;TZID=UTC:20220829T170000
DTEND;TZID=UTC:20220829T183000
DTSTAMP:20260422T203356
CREATED:20220809T185317Z
LAST-MODIFIED:20220809T185317Z
UID:10003477-1661792400-1661797800@montgomerycatholic.org
SUMMARY:MS Football Game vs. Holtville
DESCRIPTION:
URL:https://montgomerycatholic.org/event/ms-football-game-vs-holtville/
LOCATION:Montgomery Catholic Preparatory School\, 5350 Vaughn Rd\, Montgomery\, AL\, 36116\, United States
CATEGORIES:Athletics,Middle School
GEO:32.3400861;-86.2160027
X-APPLE-STRUCTURED-LOCATION;VALUE=URI;X-ADDRESS=Montgomery Catholic Preparatory School 5350 Vaughn Rd Montgomery AL 36116 United States;X-APPLE-RADIUS=500;X-TITLE=5350 Vaughn Rd:geo:-86.2160027,32.3400861
END:VEVENT
BEGIN:VEVENT
DTSTART;TZID=UTC:20220829T160000
DTEND;TZID=UTC:20220829T190000
DTSTAMP:20260422T203356
CREATED:20220811T194217Z
LAST-MODIFIED:20220811T194217Z
UID:10003485-1661788800-1661799600@montgomerycatholic.org
SUMMARY:JV Volleyball Games vs. MA/ACA
DESCRIPTION:Games are 4:00 and 6:00
URL:https://montgomerycatholic.org/event/jv-volleyball-games-vs-ma-aca/
LOCATION:Montgomery Catholic Preparatory School\, 5350 Vaughn Rd\, Montgomery\, AL\, 36116\, United States
CATEGORIES:Athletics,High School
GEO:32.3400861;-86.2160027
X-APPLE-STRUCTURED-LOCATION;VALUE=URI;X-ADDRESS=Montgomery Catholic Preparatory School 5350 Vaughn Rd Montgomery AL 36116 United States;X-APPLE-RADIUS=500;X-TITLE=5350 Vaughn Rd:geo:-86.2160027,32.3400861
END:VEVENT
BEGIN:VEVENT
DTSTART;TZID=America/Chicago:20220825T180000
DTEND;TZID=America/Chicago:20220825T180000
DTSTAMP:20260422T203356
CREATED:20220608T201032Z
LAST-MODIFIED:20220608T201032Z
UID:10003277-1661450400-1661450400@montgomerycatholic.org
SUMMARY:Middle School Back to School Night
DESCRIPTION:
URL:https://montgomerycatholic.org/event/middle-school-back-to-school-night/
LOCATION:Montgomery Catholic Preparatory School\, 5350 Vaughn Rd\, Montgomery\, AL\, 36116\, United States
CATEGORIES:Middle School
GEO:32.3400861;-86.2160027
X-APPLE-STRUCTURED-LOCATION;VALUE=URI;X-ADDRESS=Montgomery Catholic Preparatory School 5350 Vaughn Rd Montgomery AL 36116 United States;X-APPLE-RADIUS=500;X-TITLE=5350 Vaughn Rd:geo:-86.2160027,32.3400861
END:VEVENT
BEGIN:VEVENT
DTSTART;TZID=UTC:20220825T163000
DTEND;TZID=UTC:20220825T193000
DTSTAMP:20260422T203356
CREATED:20220811T193030Z
LAST-MODIFIED:20220811T193030Z
UID:10002978-1661445000-1661455800@montgomerycatholic.org
SUMMARY:V Volleyball Game vs. ACA and Carver
DESCRIPTION:Games are at 4:30 and 6:30
URL:https://montgomerycatholic.org/event/v-volleyball-game-vs-aca-and-carver/
LOCATION:Montgomery Catholic Preparatory School\, 5350 Vaughn Rd\, Montgomery\, AL\, 36116\, United States
CATEGORIES:Athletics,High School
GEO:32.3400861;-86.2160027
X-APPLE-STRUCTURED-LOCATION;VALUE=URI;X-ADDRESS=Montgomery Catholic Preparatory School 5350 Vaughn Rd Montgomery AL 36116 United States;X-APPLE-RADIUS=500;X-TITLE=5350 Vaughn Rd:geo:-86.2160027,32.3400861
END:VEVENT
BEGIN:VEVENT
DTSTART;TZID=America/Chicago:20220824T183000
DTEND;TZID=America/Chicago:20220824T193000
DTSTAMP:20260422T203356
CREATED:20220608T200809Z
LAST-MODIFIED:20220608T200809Z
UID:10003274-1661365800-1661369400@montgomerycatholic.org
SUMMARY:Child Protect Training
DESCRIPTION:High School Campus \nRoom #10
URL:https://montgomerycatholic.org/event/child-protect-training-2/2022-08-24/
LOCATION:Montgomery Catholic Preparatory School\, 5350 Vaughn Rd\, Montgomery\, AL\, 36116\, United States
CATEGORIES:High School,Holy Spirit,Middle School,St. Bede
GEO:32.3400861;-86.2160027
X-APPLE-STRUCTURED-LOCATION;VALUE=URI;X-ADDRESS=Montgomery Catholic Preparatory School 5350 Vaughn Rd Montgomery AL 36116 United States;X-APPLE-RADIUS=500;X-TITLE=5350 Vaughn Rd:geo:-86.2160027,32.3400861
END:VEVENT
BEGIN:VEVENT
DTSTART;TZID=America/Chicago:20220824T180000
DTEND;TZID=America/Chicago:20220824T183000
DTSTAMP:20260422T203356
CREATED:20220608T200145Z
LAST-MODIFIED:20220608T200145Z
UID:10003270-1661364000-1661365800@montgomerycatholic.org
SUMMARY:Field Trip Prep
DESCRIPTION:Field Trip Prep allows parents to fill out all necessary paperwork to chaperone field trips at MCPS. \nHigh School Campus in Room #10
URL:https://montgomerycatholic.org/event/field-trip-prep-2/2022-08-24/
LOCATION:Montgomery Catholic Preparatory School\, 5350 Vaughn Rd\, Montgomery\, AL\, 36116\, United States
CATEGORIES:High School,Holy Spirit,Middle School,St. Bede
GEO:32.3400861;-86.2160027
X-APPLE-STRUCTURED-LOCATION;VALUE=URI;X-ADDRESS=Montgomery Catholic Preparatory School 5350 Vaughn Rd Montgomery AL 36116 United States;X-APPLE-RADIUS=500;X-TITLE=5350 Vaughn Rd:geo:-86.2160027,32.3400861
END:VEVENT
BEGIN:VEVENT
DTSTART;TZID=America/Chicago:20220823T183000
DTEND;TZID=America/Chicago:20220823T193000
DTSTAMP:20260422T203356
CREATED:20220608T200809Z
LAST-MODIFIED:20220608T200809Z
UID:10003273-1661279400-1661283000@montgomerycatholic.org
SUMMARY:Child Protect Training
DESCRIPTION:High School Campus \nRoom #10
URL:https://montgomerycatholic.org/event/child-protect-training-2/2022-08-23/
LOCATION:Montgomery Catholic Preparatory School\, 5350 Vaughn Rd\, Montgomery\, AL\, 36116\, United States
CATEGORIES:High School,Holy Spirit,Middle School,St. Bede
GEO:32.3400861;-86.2160027
X-APPLE-STRUCTURED-LOCATION;VALUE=URI;X-ADDRESS=Montgomery Catholic Preparatory School 5350 Vaughn Rd Montgomery AL 36116 United States;X-APPLE-RADIUS=500;X-TITLE=5350 Vaughn Rd:geo:-86.2160027,32.3400861
END:VEVENT
BEGIN:VEVENT
DTSTART;TZID=America/Chicago:20220823T180000
DTEND;TZID=America/Chicago:20220823T183000
DTSTAMP:20260422T203356
CREATED:20220608T200145Z
LAST-MODIFIED:20220608T200145Z
UID:10003269-1661277600-1661279400@montgomerycatholic.org
SUMMARY:Field Trip Prep
DESCRIPTION:Field Trip Prep allows parents to fill out all necessary paperwork to chaperone field trips at MCPS. \nHigh School Campus in Room #10
URL:https://montgomerycatholic.org/event/field-trip-prep-2/2022-08-23/
LOCATION:Montgomery Catholic Preparatory School\, 5350 Vaughn Rd\, Montgomery\, AL\, 36116\, United States
CATEGORIES:High School,Holy Spirit,Middle School,St. Bede
GEO:32.3400861;-86.2160027
X-APPLE-STRUCTURED-LOCATION;VALUE=URI;X-ADDRESS=Montgomery Catholic Preparatory School 5350 Vaughn Rd Montgomery AL 36116 United States;X-APPLE-RADIUS=500;X-TITLE=5350 Vaughn Rd:geo:-86.2160027,32.3400861
END:VEVENT
BEGIN:VEVENT
DTSTART;TZID=America/Chicago:20220819T190000
DTEND;TZID=America/Chicago:20220819T220000
DTSTAMP:20260422T203356
CREATED:20220608T195212Z
LAST-MODIFIED:20220608T195212Z
UID:10002867-1660935600-1660946400@montgomerycatholic.org
SUMMARY:1st Football Game vs. McGill-Toolen
DESCRIPTION:
URL:https://montgomerycatholic.org/event/1st-football-game-vs-mcgill-toolen/
LOCATION:Montgomery Catholic Preparatory School\, 5350 Vaughn Rd\, Montgomery\, AL\, 36116\, United States
CATEGORIES:Athletics
ORGANIZER;CN="Kirk Johnson":MAILTO:kjohnson@montgomerycatholic.org
GEO:32.3400861;-86.2160027
X-APPLE-STRUCTURED-LOCATION;VALUE=URI;X-ADDRESS=Montgomery Catholic Preparatory School 5350 Vaughn Rd Montgomery AL 36116 United States;X-APPLE-RADIUS=500;X-TITLE=5350 Vaughn Rd:geo:-86.2160027,32.3400861
END:VEVENT
BEGIN:VEVENT
DTSTART;TZID=UTC:20220818T170000
DTEND;TZID=UTC:20220818T180000
DTSTAMP:20260422T203356
CREATED:20220811T182444Z
LAST-MODIFIED:20220811T182444Z
UID:10002970-1660842000-1660845600@montgomerycatholic.org
SUMMARY:V Volleyball Game vs. Park Crossing
DESCRIPTION:
URL:https://montgomerycatholic.org/event/v-volleyball-game-vs-park-crossing/
LOCATION:Montgomery Catholic Preparatory School\, 5350 Vaughn Rd\, Montgomery\, AL\, 36116\, United States
CATEGORIES:Athletics,High School
GEO:32.3400861;-86.2160027
X-APPLE-STRUCTURED-LOCATION;VALUE=URI;X-ADDRESS=Montgomery Catholic Preparatory School 5350 Vaughn Rd Montgomery AL 36116 United States;X-APPLE-RADIUS=500;X-TITLE=5350 Vaughn Rd:geo:-86.2160027,32.3400861
END:VEVENT
BEGIN:VEVENT
DTSTART;TZID=UTC:20220818T160000
DTEND;TZID=UTC:20220818T170000
DTSTAMP:20260422T203356
CREATED:20220809T193134Z
LAST-MODIFIED:20220809T193134Z
UID:10002969-1660838400-1660842000@montgomerycatholic.org
SUMMARY:JV Volleyball vs. Park Crossing
DESCRIPTION:
URL:https://montgomerycatholic.org/event/jv-volleyball-vs-park-crossing/
LOCATION:Montgomery Catholic Preparatory School\, 5350 Vaughn Rd\, Montgomery\, AL\, 36116\, United States
CATEGORIES:Athletics,High School
GEO:32.3400861;-86.2160027
X-APPLE-STRUCTURED-LOCATION;VALUE=URI;X-ADDRESS=Montgomery Catholic Preparatory School 5350 Vaughn Rd Montgomery AL 36116 United States;X-APPLE-RADIUS=500;X-TITLE=5350 Vaughn Rd:geo:-86.2160027,32.3400861
END:VEVENT
BEGIN:VEVENT
DTSTART;TZID=America/Chicago:20220815T093000
DTEND;TZID=America/Chicago:20220815T120000
DTSTAMP:20260422T203356
CREATED:20220608T194009Z
LAST-MODIFIED:20220608T194009Z
UID:10002865-1660555800-1660564800@montgomerycatholic.org
SUMMARY:Archdiocesan Orientation for Faculty & Staff
DESCRIPTION:
URL:https://montgomerycatholic.org/event/archdiocesan-orientation-for-faculty-staff/
LOCATION:Montgomery Catholic Preparatory School\, 5350 Vaughn Rd\, Montgomery\, AL\, 36116\, United States
CATEGORIES:General,High School,Holy Spirit,Middle School,St. Bede
GEO:32.3400861;-86.2160027
X-APPLE-STRUCTURED-LOCATION;VALUE=URI;X-ADDRESS=Montgomery Catholic Preparatory School 5350 Vaughn Rd Montgomery AL 36116 United States;X-APPLE-RADIUS=500;X-TITLE=5350 Vaughn Rd:geo:-86.2160027,32.3400861
END:VEVENT
BEGIN:VEVENT
DTSTART;TZID=America/Chicago:20220810T130000
DTEND;TZID=America/Chicago:20220810T160000
DTSTAMP:20260422T203356
CREATED:20220411T195032Z
LAST-MODIFIED:20220808T022218Z
UID:10003224-1660136400-1660147200@montgomerycatholic.org
SUMMARY:Color Guard Summer Camp
DESCRIPTION:Color Guard Camp is a 3 day camp from 1:00pm – 4:00am on August 8-10 in the High School Band Room. \nCamp is open to rising 4th-7th grade girls. \nRegister online at www.montgomerycatholic.org/camps.
URL:https://montgomerycatholic.org/event/color-guard-summer-camp/2022-08-10/
LOCATION:Montgomery Catholic Preparatory School\, 5350 Vaughn Rd\, Montgomery\, AL\, 36116\, United States
CATEGORIES:Athletics
ORGANIZER;CN="Daniel Veres":MAILTO:dveres@montgomerycatholic.org
GEO:32.3400861;-86.2160027
X-APPLE-STRUCTURED-LOCATION;VALUE=URI;X-ADDRESS=Montgomery Catholic Preparatory School 5350 Vaughn Rd Montgomery AL 36116 United States;X-APPLE-RADIUS=500;X-TITLE=5350 Vaughn Rd:geo:-86.2160027,32.3400861
END:VEVENT
BEGIN:VEVENT
DTSTART;TZID=America/Chicago:20220809T130000
DTEND;TZID=America/Chicago:20220809T160000
DTSTAMP:20260422T203356
CREATED:20220411T195032Z
LAST-MODIFIED:20220808T022218Z
UID:10003223-1660050000-1660060800@montgomerycatholic.org
SUMMARY:Color Guard Summer Camp
DESCRIPTION:Color Guard Camp is a 3 day camp from 1:00pm – 4:00am on August 8-10 in the High School Band Room. \nCamp is open to rising 4th-7th grade girls. \nRegister online at www.montgomerycatholic.org/camps.
URL:https://montgomerycatholic.org/event/color-guard-summer-camp/2022-08-09/
LOCATION:Montgomery Catholic Preparatory School\, 5350 Vaughn Rd\, Montgomery\, AL\, 36116\, United States
CATEGORIES:Athletics
ORGANIZER;CN="Daniel Veres":MAILTO:dveres@montgomerycatholic.org
GEO:32.3400861;-86.2160027
X-APPLE-STRUCTURED-LOCATION;VALUE=URI;X-ADDRESS=Montgomery Catholic Preparatory School 5350 Vaughn Rd Montgomery AL 36116 United States;X-APPLE-RADIUS=500;X-TITLE=5350 Vaughn Rd:geo:-86.2160027,32.3400861
END:VEVENT
BEGIN:VEVENT
DTSTART;TZID=America/Chicago:20220808T130000
DTEND;TZID=America/Chicago:20220808T160000
DTSTAMP:20260422T203356
CREATED:20220411T195032Z
LAST-MODIFIED:20220808T022218Z
UID:10003222-1659963600-1659974400@montgomerycatholic.org
SUMMARY:Color Guard Summer Camp
DESCRIPTION:Color Guard Camp is a 3 day camp from 1:00pm – 4:00am on August 8-10 in the High School Band Room. \nCamp is open to rising 4th-7th grade girls. \nRegister online at www.montgomerycatholic.org/camps.
URL:https://montgomerycatholic.org/event/color-guard-summer-camp/2022-08-08/
LOCATION:Montgomery Catholic Preparatory School\, 5350 Vaughn Rd\, Montgomery\, AL\, 36116\, United States
CATEGORIES:Athletics
ORGANIZER;CN="Daniel Veres":MAILTO:dveres@montgomerycatholic.org
GEO:32.3400861;-86.2160027
X-APPLE-STRUCTURED-LOCATION;VALUE=URI;X-ADDRESS=Montgomery Catholic Preparatory School 5350 Vaughn Rd Montgomery AL 36116 United States;X-APPLE-RADIUS=500;X-TITLE=5350 Vaughn Rd:geo:-86.2160027,32.3400861
END:VEVENT
BEGIN:VEVENT
DTSTART;TZID=America/Chicago:20220805T090000
DTEND;TZID=America/Chicago:20220805T120000
DTSTAMP:20260422T203356
CREATED:20220411T192126Z
LAST-MODIFIED:20220712T155106Z
UID:10003220-1659690000-1659700800@montgomerycatholic.org
SUMMARY:Cheerleading Summer Camp
DESCRIPTION:Cheerleading Camp is a 3 day camp from 9:00am – 12:00pm on August 3-5 in the High School Gym. \nCamp is open to girls ages 4-12. \nRegister online at www.montgomerycatholic.org/camps.
URL:https://montgomerycatholic.org/event/cheerleading-summer-camp-2/2022-08-05/
LOCATION:Montgomery Catholic Preparatory School\, 5350 Vaughn Rd\, Montgomery\, AL\, 36116\, United States
CATEGORIES:Athletics
ORGANIZER;CN="Daniel Veres":MAILTO:dveres@montgomerycatholic.org
GEO:32.3400861;-86.2160027
X-APPLE-STRUCTURED-LOCATION;VALUE=URI;X-ADDRESS=Montgomery Catholic Preparatory School 5350 Vaughn Rd Montgomery AL 36116 United States;X-APPLE-RADIUS=500;X-TITLE=5350 Vaughn Rd:geo:-86.2160027,32.3400861
END:VEVENT
BEGIN:VEVENT
DTSTART;TZID=America/Chicago:20220804T090000
DTEND;TZID=America/Chicago:20220804T120000
DTSTAMP:20260422T203356
CREATED:20220411T192126Z
LAST-MODIFIED:20220712T155106Z
UID:10003219-1659603600-1659614400@montgomerycatholic.org
SUMMARY:Cheerleading Summer Camp
DESCRIPTION:Cheerleading Camp is a 3 day camp from 9:00am – 12:00pm on August 3-5 in the High School Gym. \nCamp is open to girls ages 4-12. \nRegister online at www.montgomerycatholic.org/camps.
URL:https://montgomerycatholic.org/event/cheerleading-summer-camp-2/2022-08-04/
LOCATION:Montgomery Catholic Preparatory School\, 5350 Vaughn Rd\, Montgomery\, AL\, 36116\, United States
CATEGORIES:Athletics
ORGANIZER;CN="Daniel Veres":MAILTO:dveres@montgomerycatholic.org
GEO:32.3400861;-86.2160027
X-APPLE-STRUCTURED-LOCATION;VALUE=URI;X-ADDRESS=Montgomery Catholic Preparatory School 5350 Vaughn Rd Montgomery AL 36116 United States;X-APPLE-RADIUS=500;X-TITLE=5350 Vaughn Rd:geo:-86.2160027,32.3400861
END:VEVENT
BEGIN:VEVENT
DTSTART;TZID=America/Chicago:20220803T183000
DTEND;TZID=America/Chicago:20220803T193000
DTSTAMP:20260422T203357
CREATED:20220608T190105Z
LAST-MODIFIED:20220608T200330Z
UID:10003259-1659551400-1659555000@montgomerycatholic.org
SUMMARY:Child Protect Training
DESCRIPTION:High School Campus \nRoom #10
URL:https://montgomerycatholic.org/event/child-protect-training/
LOCATION:Montgomery Catholic Preparatory School\, 5350 Vaughn Rd\, Montgomery\, AL\, 36116\, United States
CATEGORIES:High School,Holy Spirit,Middle School,St. Bede
GEO:32.3400861;-86.2160027
X-APPLE-STRUCTURED-LOCATION;VALUE=URI;X-ADDRESS=Montgomery Catholic Preparatory School 5350 Vaughn Rd Montgomery AL 36116 United States;X-APPLE-RADIUS=500;X-TITLE=5350 Vaughn Rd:geo:-86.2160027,32.3400861
END:VEVENT
BEGIN:VEVENT
DTSTART;TZID=America/Chicago:20220803T180000
DTEND;TZID=America/Chicago:20220803T183000
DTSTAMP:20260422T203357
CREATED:20220608T185601Z
LAST-MODIFIED:20220608T185601Z
UID:10003257-1659549600-1659551400@montgomerycatholic.org
SUMMARY:Substitute Training
DESCRIPTION:
URL:https://montgomerycatholic.org/event/substitute-training/
LOCATION:Montgomery Catholic Preparatory School\, 5350 Vaughn Rd\, Montgomery\, AL\, 36116\, United States
CATEGORIES:High School,Holy Spirit,Middle School,St. Bede
GEO:32.3400861;-86.2160027
X-APPLE-STRUCTURED-LOCATION;VALUE=URI;X-ADDRESS=Montgomery Catholic Preparatory School 5350 Vaughn Rd Montgomery AL 36116 United States;X-APPLE-RADIUS=500;X-TITLE=5350 Vaughn Rd:geo:-86.2160027,32.3400861
END:VEVENT
BEGIN:VEVENT
DTSTART;TZID=America/Chicago:20220803T100000
DTEND;TZID=America/Chicago:20220803T120000
DTSTAMP:20260422T203357
CREATED:20220608T185008Z
LAST-MODIFIED:20220608T185008Z
UID:10003255-1659520800-1659528000@montgomerycatholic.org
SUMMARY:Middle/High School Placement Testing
DESCRIPTION:
URL:https://montgomerycatholic.org/event/middle-high-school-placement-testing/
LOCATION:Montgomery Catholic Preparatory School\, 5350 Vaughn Rd\, Montgomery\, AL\, 36116\, United States
CATEGORIES:High School,Middle School
ORGANIZER;CN="Alana Barranco":MAILTO:abbaranco@montgomerycatholic.org
GEO:32.3400861;-86.2160027
X-APPLE-STRUCTURED-LOCATION;VALUE=URI;X-ADDRESS=Montgomery Catholic Preparatory School 5350 Vaughn Rd Montgomery AL 36116 United States;X-APPLE-RADIUS=500;X-TITLE=5350 Vaughn Rd:geo:-86.2160027,32.3400861
END:VEVENT
BEGIN:VEVENT
DTSTART;TZID=America/Chicago:20220803T090000
DTEND;TZID=America/Chicago:20220803T120000
DTSTAMP:20260422T203357
CREATED:20220411T192126Z
LAST-MODIFIED:20220712T155106Z
UID:10003218-1659517200-1659528000@montgomerycatholic.org
SUMMARY:Cheerleading Summer Camp
DESCRIPTION:Cheerleading Camp is a 3 day camp from 9:00am – 12:00pm on August 3-5 in the High School Gym. \nCamp is open to girls ages 4-12. \nRegister online at www.montgomerycatholic.org/camps.
URL:https://montgomerycatholic.org/event/cheerleading-summer-camp-2/2022-08-03/
LOCATION:Montgomery Catholic Preparatory School\, 5350 Vaughn Rd\, Montgomery\, AL\, 36116\, United States
CATEGORIES:Athletics
ORGANIZER;CN="Daniel Veres":MAILTO:dveres@montgomerycatholic.org
GEO:32.3400861;-86.2160027
X-APPLE-STRUCTURED-LOCATION;VALUE=URI;X-ADDRESS=Montgomery Catholic Preparatory School 5350 Vaughn Rd Montgomery AL 36116 United States;X-APPLE-RADIUS=500;X-TITLE=5350 Vaughn Rd:geo:-86.2160027,32.3400861
END:VEVENT
BEGIN:VEVENT
DTSTART;TZID=America/Chicago:20220727T083000
DTEND;TZID=America/Chicago:20220727T113000
DTSTAMP:20260422T203357
CREATED:20220411T191650Z
LAST-MODIFIED:20220411T191650Z
UID:10003216-1658910600-1658921400@montgomerycatholic.org
SUMMARY:Football Summer Camp
DESCRIPTION:Football Camp is a 3 day camp from 8:30am – 11:30am on July 25-27 at the High School Football Field. \nCamp is open to rising K5-6th grade boys. \nRegister online at www.montgomerycatholic.org/camps.
URL:https://montgomerycatholic.org/event/football-summer-camp-2/2022-07-27/
LOCATION:Montgomery Catholic Preparatory School\, 5350 Vaughn Rd\, Montgomery\, AL\, 36116\, United States
CATEGORIES:Athletics
ORGANIZER;CN="Daniel Veres":MAILTO:dveres@montgomerycatholic.org
GEO:32.3400861;-86.2160027
X-APPLE-STRUCTURED-LOCATION;VALUE=URI;X-ADDRESS=Montgomery Catholic Preparatory School 5350 Vaughn Rd Montgomery AL 36116 United States;X-APPLE-RADIUS=500;X-TITLE=5350 Vaughn Rd:geo:-86.2160027,32.3400861
END:VEVENT
BEGIN:VEVENT
DTSTART;TZID=America/Chicago:20220726T083000
DTEND;TZID=America/Chicago:20220726T113000
DTSTAMP:20260422T203357
CREATED:20220411T191650Z
LAST-MODIFIED:20220411T191650Z
UID:10003215-1658824200-1658835000@montgomerycatholic.org
SUMMARY:Football Summer Camp
DESCRIPTION:Football Camp is a 3 day camp from 8:30am – 11:30am on July 25-27 at the High School Football Field. \nCamp is open to rising K5-6th grade boys. \nRegister online at www.montgomerycatholic.org/camps.
URL:https://montgomerycatholic.org/event/football-summer-camp-2/2022-07-26/
LOCATION:Montgomery Catholic Preparatory School\, 5350 Vaughn Rd\, Montgomery\, AL\, 36116\, United States
CATEGORIES:Athletics
ORGANIZER;CN="Daniel Veres":MAILTO:dveres@montgomerycatholic.org
GEO:32.3400861;-86.2160027
X-APPLE-STRUCTURED-LOCATION;VALUE=URI;X-ADDRESS=Montgomery Catholic Preparatory School 5350 Vaughn Rd Montgomery AL 36116 United States;X-APPLE-RADIUS=500;X-TITLE=5350 Vaughn Rd:geo:-86.2160027,32.3400861
END:VEVENT
BEGIN:VEVENT
DTSTART;TZID=America/Chicago:20220725T083000
DTEND;TZID=America/Chicago:20220725T113000
DTSTAMP:20260422T203357
CREATED:20220411T191650Z
LAST-MODIFIED:20220411T191650Z
UID:10003214-1658737800-1658748600@montgomerycatholic.org
SUMMARY:Football Summer Camp
DESCRIPTION:Football Camp is a 3 day camp from 8:30am – 11:30am on July 25-27 at the High School Football Field. \nCamp is open to rising K5-6th grade boys. \nRegister online at www.montgomerycatholic.org/camps.
URL:https://montgomerycatholic.org/event/football-summer-camp-2/2022-07-25/
LOCATION:Montgomery Catholic Preparatory School\, 5350 Vaughn Rd\, Montgomery\, AL\, 36116\, United States
CATEGORIES:Athletics
ORGANIZER;CN="Daniel Veres":MAILTO:dveres@montgomerycatholic.org
GEO:32.3400861;-86.2160027
X-APPLE-STRUCTURED-LOCATION;VALUE=URI;X-ADDRESS=Montgomery Catholic Preparatory School 5350 Vaughn Rd Montgomery AL 36116 United States;X-APPLE-RADIUS=500;X-TITLE=5350 Vaughn Rd:geo:-86.2160027,32.3400861
END:VEVENT
BEGIN:VEVENT
DTSTART;TZID=America/Chicago:20220623T130000
DTEND;TZID=America/Chicago:20220623T160000
DTSTAMP:20260422T203357
CREATED:20220411T201504Z
LAST-MODIFIED:20220620T180344Z
UID:10002817-1655989200-1656000000@montgomerycatholic.org
SUMMARY:Jr. Engineers Summer Camp (6th-9th graders)
DESCRIPTION:Jr. Engineers Camp (6th-9th graders) is a 3 day camp from 1:00pm – 4:00pm on June 21-23 in the Makers Space at the Middle School Campus. \nCamp is open to all rising 6th-9th graders. There is a 12 participant limit to this camp. \nRegister online at www.montgomerycatholic.org/camps.
URL:https://montgomerycatholic.org/event/jr-engineers-summer-camp-6th-9th-graders/2022-06-23/
LOCATION:Montgomery Catholic Preparatory School\, 5350 Vaughn Rd\, Montgomery\, AL\, 36116\, United States
CATEGORIES:Athletics
ORGANIZER;CN="Daniel Veres":MAILTO:dveres@montgomerycatholic.org
GEO:32.3400861;-86.2160027
X-APPLE-STRUCTURED-LOCATION;VALUE=URI;X-ADDRESS=Montgomery Catholic Preparatory School 5350 Vaughn Rd Montgomery AL 36116 United States;X-APPLE-RADIUS=500;X-TITLE=5350 Vaughn Rd:geo:-86.2160027,32.3400861
END:VEVENT
BEGIN:VEVENT
DTSTART;TZID=America/Chicago:20220622T130000
DTEND;TZID=America/Chicago:20220622T160000
DTSTAMP:20260422T203357
CREATED:20220411T201504Z
LAST-MODIFIED:20220620T180344Z
UID:10002816-1655902800-1655913600@montgomerycatholic.org
SUMMARY:Jr. Engineers Summer Camp (6th-9th graders)
DESCRIPTION:Jr. Engineers Camp (6th-9th graders) is a 3 day camp from 1:00pm – 4:00pm on June 21-23 in the Makers Space at the Middle School Campus. \nCamp is open to all rising 6th-9th graders. There is a 12 participant limit to this camp. \nRegister online at www.montgomerycatholic.org/camps.
URL:https://montgomerycatholic.org/event/jr-engineers-summer-camp-6th-9th-graders/2022-06-22/
LOCATION:Montgomery Catholic Preparatory School\, 5350 Vaughn Rd\, Montgomery\, AL\, 36116\, United States
CATEGORIES:Athletics
ORGANIZER;CN="Daniel Veres":MAILTO:dveres@montgomerycatholic.org
GEO:32.3400861;-86.2160027
X-APPLE-STRUCTURED-LOCATION;VALUE=URI;X-ADDRESS=Montgomery Catholic Preparatory School 5350 Vaughn Rd Montgomery AL 36116 United States;X-APPLE-RADIUS=500;X-TITLE=5350 Vaughn Rd:geo:-86.2160027,32.3400861
END:VEVENT
BEGIN:VEVENT
DTSTART;TZID=America/Chicago:20220622T083000
DTEND;TZID=America/Chicago:20220622T113000
DTSTAMP:20260422T203357
CREATED:20220411T191150Z
LAST-MODIFIED:20220411T191150Z
UID:10003209-1655886600-1655897400@montgomerycatholic.org
SUMMARY:Softball Summer Camp
DESCRIPTION:Softball Camp is a 3 day camp from 8:30am – 11:30am on June 20-22 at the High School Softball Field. \nCamp is open to rising K5-6th grade girls. \nRegister online at www.montgomerycatholic.org/camps.
URL:https://montgomerycatholic.org/event/softball-summer-camp/2022-06-22/
LOCATION:Montgomery Catholic Preparatory School\, 5350 Vaughn Rd\, Montgomery\, AL\, 36116\, United States
CATEGORIES:Athletics
ORGANIZER;CN="Daniel Veres":MAILTO:dveres@montgomerycatholic.org
GEO:32.3400861;-86.2160027
X-APPLE-STRUCTURED-LOCATION;VALUE=URI;X-ADDRESS=Montgomery Catholic Preparatory School 5350 Vaughn Rd Montgomery AL 36116 United States;X-APPLE-RADIUS=500;X-TITLE=5350 Vaughn Rd:geo:-86.2160027,32.3400861
END:VEVENT
BEGIN:VEVENT
DTSTART;TZID=America/Chicago:20220621T130000
DTEND;TZID=America/Chicago:20220621T160000
DTSTAMP:20260422T203357
CREATED:20220411T201504Z
LAST-MODIFIED:20220620T180344Z
UID:10002815-1655816400-1655827200@montgomerycatholic.org
SUMMARY:Jr. Engineers Summer Camp (6th-9th graders)
DESCRIPTION:Jr. Engineers Camp (6th-9th graders) is a 3 day camp from 1:00pm – 4:00pm on June 21-23 in the Makers Space at the Middle School Campus. \nCamp is open to all rising 6th-9th graders. There is a 12 participant limit to this camp. \nRegister online at www.montgomerycatholic.org/camps.
URL:https://montgomerycatholic.org/event/jr-engineers-summer-camp-6th-9th-graders/2022-06-21/
LOCATION:Montgomery Catholic Preparatory School\, 5350 Vaughn Rd\, Montgomery\, AL\, 36116\, United States
CATEGORIES:Athletics
ORGANIZER;CN="Daniel Veres":MAILTO:dveres@montgomerycatholic.org
GEO:32.3400861;-86.2160027
X-APPLE-STRUCTURED-LOCATION;VALUE=URI;X-ADDRESS=Montgomery Catholic Preparatory School 5350 Vaughn Rd Montgomery AL 36116 United States;X-APPLE-RADIUS=500;X-TITLE=5350 Vaughn Rd:geo:-86.2160027,32.3400861
END:VEVENT
END:VCALENDAR