BEGIN:VCALENDAR
VERSION:2.0
PRODID:-//Montgomery Catholic - ECPv6.15.20//NONSGML v1.0//EN
CALSCALE:GREGORIAN
METHOD:PUBLISH
X-WR-CALNAME:Montgomery Catholic
X-ORIGINAL-URL:https://montgomerycatholic.org
X-WR-CALDESC:Events for Montgomery Catholic
REFRESH-INTERVAL;VALUE=DURATION:PT1H
X-Robots-Tag:noindex
X-PUBLISHED-TTL:PT1H
BEGIN:VTIMEZONE
TZID:UTC
BEGIN:STANDARD
TZOFFSETFROM:+0000
TZOFFSETTO:+0000
TZNAME:UTC
DTSTART:20210101T000000
END:STANDARD
END:VTIMEZONE
BEGIN:VTIMEZONE
TZID:America/Chicago
BEGIN:DAYLIGHT
TZOFFSETFROM:-0600
TZOFFSETTO:-0500
TZNAME:CDT
DTSTART:20210314T080000
END:DAYLIGHT
BEGIN:STANDARD
TZOFFSETFROM:-0500
TZOFFSETTO:-0600
TZNAME:CST
DTSTART:20211107T070000
END:STANDARD
BEGIN:DAYLIGHT
TZOFFSETFROM:-0600
TZOFFSETTO:-0500
TZNAME:CDT
DTSTART:20220313T080000
END:DAYLIGHT
BEGIN:STANDARD
TZOFFSETFROM:-0500
TZOFFSETTO:-0600
TZNAME:CST
DTSTART:20221106T070000
END:STANDARD
BEGIN:DAYLIGHT
TZOFFSETFROM:-0600
TZOFFSETTO:-0500
TZNAME:CDT
DTSTART:20230312T080000
END:DAYLIGHT
BEGIN:STANDARD
TZOFFSETFROM:-0500
TZOFFSETTO:-0600
TZNAME:CST
DTSTART:20231105T070000
END:STANDARD
END:VTIMEZONE
BEGIN:VEVENT
DTSTART;TZID=UTC:20221003T170000
DTEND;TZID=UTC:20221003T183000
DTSTAMP:20260422T165843
CREATED:20220809T190743Z
LAST-MODIFIED:20220809T190743Z
UID:10002967-1664816400-1664821800@montgomerycatholic.org
SUMMARY:MS Football Game vs. Greenville
DESCRIPTION:
URL:https://montgomerycatholic.org/event/ms-football-game-vs-greenville/
LOCATION:Montgomery Catholic Preparatory School\, 5350 Vaughn Rd\, Montgomery\, AL\, 36116\, United States
CATEGORIES:Athletics,Middle School
GEO:32.3400861;-86.2160027
X-APPLE-STRUCTURED-LOCATION;VALUE=URI;X-ADDRESS=Montgomery Catholic Preparatory School 5350 Vaughn Rd Montgomery AL 36116 United States;X-APPLE-RADIUS=500;X-TITLE=5350 Vaughn Rd:geo:-86.2160027,32.3400861
END:VEVENT
BEGIN:VEVENT
DTSTART;TZID=UTC:20221003T160000
DTEND;TZID=UTC:20221003T190000
DTSTAMP:20260422T165843
CREATED:20220812T141639Z
LAST-MODIFIED:20220812T141639Z
UID:10002998-1664812800-1664823600@montgomerycatholic.org
SUMMARY:V Volleyball Games vs. STJ/Lanier
DESCRIPTION:
URL:https://montgomerycatholic.org/event/v-volleyball-games-vs-stj-lanier/
LOCATION:Montgomery Catholic Preparatory School\, 5350 Vaughn Rd\, Montgomery\, AL\, 36116\, United States
CATEGORIES:Athletics,High School
GEO:32.3400861;-86.2160027
X-APPLE-STRUCTURED-LOCATION;VALUE=URI;X-ADDRESS=Montgomery Catholic Preparatory School 5350 Vaughn Rd Montgomery AL 36116 United States;X-APPLE-RADIUS=500;X-TITLE=5350 Vaughn Rd:geo:-86.2160027,32.3400861
END:VEVENT
BEGIN:VEVENT
DTSTART;TZID=UTC:20220930T190000
DTEND;TZID=UTC:20220930T220000
DTSTAMP:20260422T165843
CREATED:20220808T193729Z
LAST-MODIFIED:20220808T194752Z
UID:10003455-1664564400-1664575200@montgomerycatholic.org
SUMMARY:Varsity Football Game vs. Montgomery Academy
DESCRIPTION:
URL:https://montgomerycatholic.org/event/varsity-football-vs-montgomery-academy/
LOCATION:Montgomery Catholic Preparatory School\, 5350 Vaughn Rd\, Montgomery\, AL\, 36116\, United States
CATEGORIES:Athletics,High School
GEO:32.3400861;-86.2160027
X-APPLE-STRUCTURED-LOCATION;VALUE=URI;X-ADDRESS=Montgomery Catholic Preparatory School 5350 Vaughn Rd Montgomery AL 36116 United States;X-APPLE-RADIUS=500;X-TITLE=5350 Vaughn Rd:geo:-86.2160027,32.3400861
END:VEVENT
BEGIN:VEVENT
DTSTART;TZID=UTC:20220929T180000
DTEND;TZID=UTC:20220929T190000
DTSTAMP:20260422T165843
CREATED:20220812T141124Z
LAST-MODIFIED:20220926T150053Z
UID:10002994-1664474400-1664478000@montgomerycatholic.org
SUMMARY:V Volleyball Game vs Trinity
DESCRIPTION:
URL:https://montgomerycatholic.org/event/v-volleyball-game-trinity/
LOCATION:Montgomery Catholic Preparatory School\, 5350 Vaughn Rd\, Montgomery\, AL\, 36116\, United States
CATEGORIES:Athletics,High School
GEO:32.3400861;-86.2160027
X-APPLE-STRUCTURED-LOCATION;VALUE=URI;X-ADDRESS=Montgomery Catholic Preparatory School 5350 Vaughn Rd Montgomery AL 36116 United States;X-APPLE-RADIUS=500;X-TITLE=5350 Vaughn Rd:geo:-86.2160027,32.3400861
END:VEVENT
BEGIN:VEVENT
DTSTART;TZID=UTC:20220929T170000
DTEND;TZID=UTC:20220929T180000
DTSTAMP:20260422T165843
CREATED:20220812T140830Z
LAST-MODIFIED:20220926T145941Z
UID:10002992-1664470800-1664474400@montgomerycatholic.org
SUMMARY:JV Volleyball Game vs. Trinity
DESCRIPTION:
URL:https://montgomerycatholic.org/event/jv-volleyball-game-vs-trinity/
LOCATION:Montgomery Catholic Preparatory School\, 5350 Vaughn Rd\, Montgomery\, AL\, 36116\, United States
CATEGORIES:Athletics,High School
GEO:32.3400861;-86.2160027
X-APPLE-STRUCTURED-LOCATION;VALUE=URI;X-ADDRESS=Montgomery Catholic Preparatory School 5350 Vaughn Rd Montgomery AL 36116 United States;X-APPLE-RADIUS=500;X-TITLE=5350 Vaughn Rd:geo:-86.2160027,32.3400861
END:VEVENT
BEGIN:VEVENT
DTSTART;TZID=UTC:20220929T160000
DTEND;TZID=UTC:20220929T170000
DTSTAMP:20260422T165843
CREATED:20220812T140622Z
LAST-MODIFIED:20220926T145831Z
UID:10002990-1664467200-1664470800@montgomerycatholic.org
SUMMARY:MS Volleyball Game vs. Trinity
DESCRIPTION:
URL:https://montgomerycatholic.org/event/ms-volleyball-game-vs-trinity/
LOCATION:Montgomery Catholic Preparatory School\, 5350 Vaughn Rd\, Montgomery\, AL\, 36116\, United States
CATEGORIES:Athletics,Middle School
GEO:32.3400861;-86.2160027
X-APPLE-STRUCTURED-LOCATION;VALUE=URI;X-ADDRESS=Montgomery Catholic Preparatory School 5350 Vaughn Rd Montgomery AL 36116 United States;X-APPLE-RADIUS=500;X-TITLE=5350 Vaughn Rd:geo:-86.2160027,32.3400861
END:VEVENT
BEGIN:VEVENT
DTSTART;TZID=America/Chicago:20220928T183000
DTEND;TZID=America/Chicago:20220928T193000
DTSTAMP:20260422T165843
CREATED:20220608T200809Z
LAST-MODIFIED:20220608T200809Z
UID:10003275-1664389800-1664393400@montgomerycatholic.org
SUMMARY:Child Protect Training
DESCRIPTION:High School Campus \nRoom #10
URL:https://montgomerycatholic.org/event/child-protect-training-2/2022-09-28/
LOCATION:Montgomery Catholic Preparatory School\, 5350 Vaughn Rd\, Montgomery\, AL\, 36116\, United States
CATEGORIES:High School,Holy Spirit,Middle School,St. Bede
GEO:32.3400861;-86.2160027
X-APPLE-STRUCTURED-LOCATION;VALUE=URI;X-ADDRESS=Montgomery Catholic Preparatory School 5350 Vaughn Rd Montgomery AL 36116 United States;X-APPLE-RADIUS=500;X-TITLE=5350 Vaughn Rd:geo:-86.2160027,32.3400861
END:VEVENT
BEGIN:VEVENT
DTSTART;TZID=America/Chicago:20220928T180000
DTEND;TZID=America/Chicago:20220928T183000
DTSTAMP:20260422T165843
CREATED:20220608T200145Z
LAST-MODIFIED:20220608T200145Z
UID:10003271-1664388000-1664389800@montgomerycatholic.org
SUMMARY:Field Trip Prep
DESCRIPTION:Field Trip Prep allows parents to fill out all necessary paperwork to chaperone field trips at MCPS. \nHigh School Campus in Room #10
URL:https://montgomerycatholic.org/event/field-trip-prep-2/2022-09-28/
LOCATION:Montgomery Catholic Preparatory School\, 5350 Vaughn Rd\, Montgomery\, AL\, 36116\, United States
CATEGORIES:High School,Holy Spirit,Middle School,St. Bede
GEO:32.3400861;-86.2160027
X-APPLE-STRUCTURED-LOCATION;VALUE=URI;X-ADDRESS=Montgomery Catholic Preparatory School 5350 Vaughn Rd Montgomery AL 36116 United States;X-APPLE-RADIUS=500;X-TITLE=5350 Vaughn Rd:geo:-86.2160027,32.3400861
END:VEVENT
BEGIN:VEVENT
DTSTART;TZID=UTC:20220927T160000
DTEND;TZID=UTC:20220927T170000
DTSTAMP:20260422T165843
CREATED:20220812T140040Z
LAST-MODIFIED:20220926T145424Z
UID:10002987-1664294400-1664298000@montgomerycatholic.org
SUMMARY:MS Volleyball vs. MA
DESCRIPTION:
URL:https://montgomerycatholic.org/event/ms-volleyball-game-vs-ma-time-tbd/
LOCATION:Montgomery Catholic Preparatory School\, 5350 Vaughn Rd\, Montgomery\, AL\, 36116\, United States
CATEGORIES:Athletics,Middle School
GEO:32.3400861;-86.2160027
X-APPLE-STRUCTURED-LOCATION;VALUE=URI;X-ADDRESS=Montgomery Catholic Preparatory School 5350 Vaughn Rd Montgomery AL 36116 United States;X-APPLE-RADIUS=500;X-TITLE=5350 Vaughn Rd:geo:-86.2160027,32.3400861
END:VEVENT
BEGIN:VEVENT
DTSTART;TZID=UTC:20220920T183000
DTEND;TZID=UTC:20220920T200000
DTSTAMP:20260422T165843
CREATED:20220809T182003Z
LAST-MODIFIED:20220809T182003Z
UID:10003471-1663698600-1663704000@montgomerycatholic.org
SUMMARY:JV Football Game vs. Anniston
DESCRIPTION:
URL:https://montgomerycatholic.org/event/jv-football-game-vs-anniston/
LOCATION:Montgomery Catholic Preparatory School\, 5350 Vaughn Rd\, Montgomery\, AL\, 36116\, United States
CATEGORIES:Athletics,High School
GEO:32.3400861;-86.2160027
X-APPLE-STRUCTURED-LOCATION;VALUE=URI;X-ADDRESS=Montgomery Catholic Preparatory School 5350 Vaughn Rd Montgomery AL 36116 United States;X-APPLE-RADIUS=500;X-TITLE=5350 Vaughn Rd:geo:-86.2160027,32.3400861
END:VEVENT
BEGIN:VEVENT
DTSTART;TZID=UTC:20220920T080000
DTEND;TZID=UTC:20220920T170000
DTSTAMP:20260422T165843
CREATED:20220809T185902Z
LAST-MODIFIED:20220809T185902Z
UID:10003483-1663660800-1663693200@montgomerycatholic.org
SUMMARY:MS Football Game vs. Anniston
DESCRIPTION:
URL:https://montgomerycatholic.org/event/ms-football-game-vs-anniston/
LOCATION:Montgomery Catholic Preparatory School\, 5350 Vaughn Rd\, Montgomery\, AL\, 36116\, United States
CATEGORIES:Athletics,Middle School
GEO:32.3400861;-86.2160027
X-APPLE-STRUCTURED-LOCATION;VALUE=URI;X-ADDRESS=Montgomery Catholic Preparatory School 5350 Vaughn Rd Montgomery AL 36116 United States;X-APPLE-RADIUS=500;X-TITLE=5350 Vaughn Rd:geo:-86.2160027,32.3400861
END:VEVENT
BEGIN:VEVENT
DTSTART;TZID=UTC:20220916T190000
DTEND;TZID=UTC:20220916T220000
DTSTAMP:20260422T165843
CREATED:20220808T192309Z
LAST-MODIFIED:20220808T195127Z
UID:10003453-1663354800-1663365600@montgomerycatholic.org
SUMMARY:Varsity Football Game vs. Geneva
DESCRIPTION:
URL:https://montgomerycatholic.org/event/varsity-football-vs-geneva/
LOCATION:Montgomery Catholic Preparatory School\, 5350 Vaughn Rd\, Montgomery\, AL\, 36116\, United States
CATEGORIES:Athletics,High School
GEO:32.3400861;-86.2160027
X-APPLE-STRUCTURED-LOCATION;VALUE=URI;X-ADDRESS=Montgomery Catholic Preparatory School 5350 Vaughn Rd Montgomery AL 36116 United States;X-APPLE-RADIUS=500;X-TITLE=5350 Vaughn Rd:geo:-86.2160027,32.3400861
END:VEVENT
BEGIN:VEVENT
DTSTART;TZID=UTC:20220912T180000
DTEND;TZID=UTC:20220912T190000
DTSTAMP:20260422T165843
CREATED:20220812T133156Z
LAST-MODIFIED:20220909T173522Z
UID:10003507-1663005600-1663009200@montgomerycatholic.org
SUMMARY:V Volleyball Game vs Pike Road
DESCRIPTION:
URL:https://montgomerycatholic.org/event/v-volleyball-game-pike-road-time-tbd/
LOCATION:Montgomery Catholic Preparatory School\, 5350 Vaughn Rd\, Montgomery\, AL\, 36116\, United States
CATEGORIES:Athletics,High School
ORGANIZER;CN="Sellers Dubberley":MAILTO:sdubberley@montgomerycatholic.org
GEO:32.3400861;-86.2160027
X-APPLE-STRUCTURED-LOCATION;VALUE=URI;X-ADDRESS=Montgomery Catholic Preparatory School 5350 Vaughn Rd Montgomery AL 36116 United States;X-APPLE-RADIUS=500;X-TITLE=5350 Vaughn Rd:geo:-86.2160027,32.3400861
END:VEVENT
BEGIN:VEVENT
DTSTART;TZID=UTC:20220912T170000
DTEND;TZID=UTC:20220912T180000
DTSTAMP:20260422T165843
CREATED:20220812T132912Z
LAST-MODIFIED:20220812T132912Z
UID:10003505-1663002000-1663005600@montgomerycatholic.org
SUMMARY:JV Volleyball Game vs. STJ
DESCRIPTION:
URL:https://montgomerycatholic.org/event/jv-volleyball-game-vs-stj/
LOCATION:Montgomery Catholic Preparatory School\, 5350 Vaughn Rd\, Montgomery\, AL\, 36116\, United States
CATEGORIES:Athletics,High School
GEO:32.3400861;-86.2160027
X-APPLE-STRUCTURED-LOCATION;VALUE=URI;X-ADDRESS=Montgomery Catholic Preparatory School 5350 Vaughn Rd Montgomery AL 36116 United States;X-APPLE-RADIUS=500;X-TITLE=5350 Vaughn Rd:geo:-86.2160027,32.3400861
END:VEVENT
BEGIN:VEVENT
DTSTART;TZID=UTC:20220912T160000
DTEND;TZID=UTC:20220912T170000
DTSTAMP:20260422T165843
CREATED:20220812T132415Z
LAST-MODIFIED:20220812T132415Z
UID:10003503-1662998400-1663002000@montgomerycatholic.org
SUMMARY:MS Volleyball Game vs. STJ
DESCRIPTION:
URL:https://montgomerycatholic.org/event/ms-volleyball-game-vs-stj/
LOCATION:Montgomery Catholic Preparatory School\, 5350 Vaughn Rd\, Montgomery\, AL\, 36116\, United States
CATEGORIES:Athletics,Middle School
GEO:32.3400861;-86.2160027
X-APPLE-STRUCTURED-LOCATION;VALUE=URI;X-ADDRESS=Montgomery Catholic Preparatory School 5350 Vaughn Rd Montgomery AL 36116 United States;X-APPLE-RADIUS=500;X-TITLE=5350 Vaughn Rd:geo:-86.2160027,32.3400861
END:VEVENT
BEGIN:VEVENT
DTSTART;TZID=UTC:20220909T190000
DTEND;TZID=UTC:20220909T220000
DTSTAMP:20260422T165843
CREATED:20220808T192015Z
LAST-MODIFIED:20220808T195057Z
UID:10003452-1662750000-1662760800@montgomerycatholic.org
SUMMARY:Varsity Football Game vs. Slocomb
DESCRIPTION:
URL:https://montgomerycatholic.org/event/varsity-football-vs-slocomb/
LOCATION:Montgomery Catholic Preparatory School\, 5350 Vaughn Rd\, Montgomery\, AL\, 36116\, United States
CATEGORIES:Athletics,High School
GEO:32.3400861;-86.2160027
X-APPLE-STRUCTURED-LOCATION;VALUE=URI;X-ADDRESS=Montgomery Catholic Preparatory School 5350 Vaughn Rd Montgomery AL 36116 United States;X-APPLE-RADIUS=500;X-TITLE=5350 Vaughn Rd:geo:-86.2160027,32.3400861
END:VEVENT
BEGIN:VEVENT
DTSTART;TZID=UTC:20220908T180000
DTEND;TZID=UTC:20220908T190000
DTSTAMP:20260422T165843
CREATED:20220812T131921Z
LAST-MODIFIED:20220812T131921Z
UID:10003501-1662660000-1662663600@montgomerycatholic.org
SUMMARY:V Volleyball Game vs. Trinity
DESCRIPTION:
URL:https://montgomerycatholic.org/event/v-volleyball-game-vs-trinity/
LOCATION:Montgomery Catholic Preparatory School\, 5350 Vaughn Rd\, Montgomery\, AL\, 36116\, United States
CATEGORIES:Athletics,High School
GEO:32.3400861;-86.2160027
X-APPLE-STRUCTURED-LOCATION;VALUE=URI;X-ADDRESS=Montgomery Catholic Preparatory School 5350 Vaughn Rd Montgomery AL 36116 United States;X-APPLE-RADIUS=500;X-TITLE=5350 Vaughn Rd:geo:-86.2160027,32.3400861
END:VEVENT
BEGIN:VEVENT
DTSTART;TZID=UTC:20220906T183000
DTEND;TZID=UTC:20220906T200000
DTSTAMP:20260422T165843
CREATED:20220809T181545Z
LAST-MODIFIED:20220902T204812Z
UID:10003469-1662489000-1662494400@montgomerycatholic.org
SUMMARY:JV Football Game vs. Montgomery Academy
DESCRIPTION:
URL:https://montgomerycatholic.org/event/jv-football-game-vs-montgomery-academy/
LOCATION:Montgomery Catholic Preparatory School\, 5350 Vaughn Rd\, Montgomery\, AL\, 36116\, United States
CATEGORIES:Athletics,High School
GEO:32.3400861;-86.2160027
X-APPLE-STRUCTURED-LOCATION;VALUE=URI;X-ADDRESS=Montgomery Catholic Preparatory School 5350 Vaughn Rd Montgomery AL 36116 United States;X-APPLE-RADIUS=500;X-TITLE=5350 Vaughn Rd:geo:-86.2160027,32.3400861
END:VEVENT
BEGIN:VEVENT
DTSTART;TZID=UTC:20220906T170000
DTEND;TZID=UTC:20220906T183000
DTSTAMP:20260422T165843
CREATED:20220809T185605Z
LAST-MODIFIED:20220902T205016Z
UID:10003481-1662483600-1662489000@montgomerycatholic.org
SUMMARY:MS Football Game vs. Montgomery Academy
DESCRIPTION:
URL:https://montgomerycatholic.org/event/ms-football-game-vs-montgomery-academy/
LOCATION:Montgomery Catholic Preparatory School\, 5350 Vaughn Rd\, Montgomery\, AL\, 36116\, United States
CATEGORIES:Athletics,Middle School
GEO:32.3400861;-86.2160027
X-APPLE-STRUCTURED-LOCATION;VALUE=URI;X-ADDRESS=Montgomery Catholic Preparatory School 5350 Vaughn Rd Montgomery AL 36116 United States;X-APPLE-RADIUS=500;X-TITLE=5350 Vaughn Rd:geo:-86.2160027,32.3400861
END:VEVENT
BEGIN:VEVENT
DTSTART;VALUE=DATE:20220905
DTEND;VALUE=DATE:20220917
DTSTAMP:20260422T165843
CREATED:20220805T154610Z
LAST-MODIFIED:20220805T154610Z
UID:10003445-1662336000-1663372799@montgomerycatholic.org
SUMMARY:PTC Cookie Dough Sale
DESCRIPTION:Help support our PTC with our annual cookie dough fundraiser! \nSeptember 5 – 16
URL:https://montgomerycatholic.org/event/ptc-cookie-dough-sale-2/
LOCATION:Montgomery Catholic Preparatory School\, 5350 Vaughn Rd\, Montgomery\, AL\, 36116\, United States
CATEGORIES:Fundraising
ORGANIZER;CN="Colleen Reardon":MAILTO:reardonfamily@montgomerycatholic.org
GEO:32.3400861;-86.2160027
X-APPLE-STRUCTURED-LOCATION;VALUE=URI;X-ADDRESS=Montgomery Catholic Preparatory School 5350 Vaughn Rd Montgomery AL 36116 United States;X-APPLE-RADIUS=500;X-TITLE=5350 Vaughn Rd:geo:-86.2160027,32.3400861
END:VEVENT
BEGIN:VEVENT
DTSTART;TZID=UTC:20220901T173000
DTEND;TZID=UTC:20220901T183000
DTSTAMP:20260422T165843
CREATED:20220811T200758Z
LAST-MODIFIED:20220811T200758Z
UID:10003496-1662053400-1662057000@montgomerycatholic.org
SUMMARY:V Volleyball Game vs. LAMP
DESCRIPTION:
URL:https://montgomerycatholic.org/event/v-volleyball-game-vs-lamp/
LOCATION:Montgomery Catholic Preparatory School\, 5350 Vaughn Rd\, Montgomery\, AL\, 36116\, United States
CATEGORIES:Athletics,High School
GEO:32.3400861;-86.2160027
X-APPLE-STRUCTURED-LOCATION;VALUE=URI;X-ADDRESS=Montgomery Catholic Preparatory School 5350 Vaughn Rd Montgomery AL 36116 United States;X-APPLE-RADIUS=500;X-TITLE=5350 Vaughn Rd:geo:-86.2160027,32.3400861
END:VEVENT
BEGIN:VEVENT
DTSTART;TZID=UTC:20220901T163000
DTEND;TZID=UTC:20220901T173000
DTSTAMP:20260422T165843
CREATED:20220811T200444Z
LAST-MODIFIED:20220811T200444Z
UID:10003495-1662049800-1662053400@montgomerycatholic.org
SUMMARY:JV Volleyball Game vs. LAMP
DESCRIPTION:
URL:https://montgomerycatholic.org/event/jv-volleyball-game-vs-lamp/
LOCATION:Montgomery Catholic Preparatory School\, 5350 Vaughn Rd\, Montgomery\, AL\, 36116\, United States
CATEGORIES:Athletics,High School
GEO:32.3400861;-86.2160027
X-APPLE-STRUCTURED-LOCATION;VALUE=URI;X-ADDRESS=Montgomery Catholic Preparatory School 5350 Vaughn Rd Montgomery AL 36116 United States;X-APPLE-RADIUS=500;X-TITLE=5350 Vaughn Rd:geo:-86.2160027,32.3400861
END:VEVENT
BEGIN:VEVENT
DTSTART;VALUE=DATE:20220831
DTEND;VALUE=DATE:20220901
DTSTAMP:20260422T165843
CREATED:20220608T201559Z
LAST-MODIFIED:20220608T201559Z
UID:10003285-1661904000-1661990399@montgomerycatholic.org
SUMMARY:Middle & High School Photo Day
DESCRIPTION:
URL:https://montgomerycatholic.org/event/middle-high-school-photo-day/
LOCATION:Montgomery Catholic Preparatory School\, 5350 Vaughn Rd\, Montgomery\, AL\, 36116\, United States
CATEGORIES:High School,Middle School
GEO:32.3400861;-86.2160027
X-APPLE-STRUCTURED-LOCATION;VALUE=URI;X-ADDRESS=Montgomery Catholic Preparatory School 5350 Vaughn Rd Montgomery AL 36116 United States;X-APPLE-RADIUS=500;X-TITLE=5350 Vaughn Rd:geo:-86.2160027,32.3400861
END:VEVENT
BEGIN:VEVENT
DTSTART;TZID=America/Chicago:20220830T180000
DTEND;TZID=America/Chicago:20220830T190000
DTSTAMP:20260422T165843
CREATED:20220608T201346Z
LAST-MODIFIED:20220608T201346Z
UID:10003279-1661882400-1661886000@montgomerycatholic.org
SUMMARY:High School Back to School Night
DESCRIPTION:
URL:https://montgomerycatholic.org/event/high-school-back-to-school-night/
LOCATION:Montgomery Catholic Preparatory School\, 5350 Vaughn Rd\, Montgomery\, AL\, 36116\, United States
CATEGORIES:High School
GEO:32.3400861;-86.2160027
X-APPLE-STRUCTURED-LOCATION;VALUE=URI;X-ADDRESS=Montgomery Catholic Preparatory School 5350 Vaughn Rd Montgomery AL 36116 United States;X-APPLE-RADIUS=500;X-TITLE=5350 Vaughn Rd:geo:-86.2160027,32.3400861
END:VEVENT
BEGIN:VEVENT
DTSTART;TZID=UTC:20220830T173000
DTEND;TZID=UTC:20220830T183000
DTSTAMP:20260422T165843
CREATED:20220811T195033Z
LAST-MODIFIED:20220811T195033Z
UID:10003489-1661880600-1661884200@montgomerycatholic.org
SUMMARY:JV Volleyball Game vs. PCA
DESCRIPTION:
URL:https://montgomerycatholic.org/event/jv-volleyball-game-vs-pca/
LOCATION:Montgomery Catholic Preparatory School\, 5350 Vaughn Rd\, Montgomery\, AL\, 36116\, United States
CATEGORIES:Athletics,High School
GEO:32.3400861;-86.2160027
X-APPLE-STRUCTURED-LOCATION;VALUE=URI;X-ADDRESS=Montgomery Catholic Preparatory School 5350 Vaughn Rd Montgomery AL 36116 United States;X-APPLE-RADIUS=500;X-TITLE=5350 Vaughn Rd:geo:-86.2160027,32.3400861
END:VEVENT
BEGIN:VEVENT
DTSTART;TZID=UTC:20220829T183000
DTEND;TZID=UTC:20220829T200000
DTSTAMP:20260422T165843
CREATED:20220809T180703Z
LAST-MODIFIED:20220809T180703Z
UID:10003464-1661797800-1661803200@montgomerycatholic.org
SUMMARY:JV Football Game vs. Holtville
DESCRIPTION:
URL:https://montgomerycatholic.org/event/jv-football-game-vs-holtville/
LOCATION:Montgomery Catholic Preparatory School\, 5350 Vaughn Rd\, Montgomery\, AL\, 36116\, United States
CATEGORIES:Athletics,High School
GEO:32.3400861;-86.2160027
X-APPLE-STRUCTURED-LOCATION;VALUE=URI;X-ADDRESS=Montgomery Catholic Preparatory School 5350 Vaughn Rd Montgomery AL 36116 United States;X-APPLE-RADIUS=500;X-TITLE=5350 Vaughn Rd:geo:-86.2160027,32.3400861
END:VEVENT
BEGIN:VEVENT
DTSTART;TZID=UTC:20220829T170000
DTEND;TZID=UTC:20220829T183000
DTSTAMP:20260422T165843
CREATED:20220809T185317Z
LAST-MODIFIED:20220809T185317Z
UID:10003477-1661792400-1661797800@montgomerycatholic.org
SUMMARY:MS Football Game vs. Holtville
DESCRIPTION:
URL:https://montgomerycatholic.org/event/ms-football-game-vs-holtville/
LOCATION:Montgomery Catholic Preparatory School\, 5350 Vaughn Rd\, Montgomery\, AL\, 36116\, United States
CATEGORIES:Athletics,Middle School
GEO:32.3400861;-86.2160027
X-APPLE-STRUCTURED-LOCATION;VALUE=URI;X-ADDRESS=Montgomery Catholic Preparatory School 5350 Vaughn Rd Montgomery AL 36116 United States;X-APPLE-RADIUS=500;X-TITLE=5350 Vaughn Rd:geo:-86.2160027,32.3400861
END:VEVENT
BEGIN:VEVENT
DTSTART;TZID=UTC:20220829T160000
DTEND;TZID=UTC:20220829T190000
DTSTAMP:20260422T165843
CREATED:20220811T194217Z
LAST-MODIFIED:20220811T194217Z
UID:10003485-1661788800-1661799600@montgomerycatholic.org
SUMMARY:JV Volleyball Games vs. MA/ACA
DESCRIPTION:Games are 4:00 and 6:00
URL:https://montgomerycatholic.org/event/jv-volleyball-games-vs-ma-aca/
LOCATION:Montgomery Catholic Preparatory School\, 5350 Vaughn Rd\, Montgomery\, AL\, 36116\, United States
CATEGORIES:Athletics,High School
GEO:32.3400861;-86.2160027
X-APPLE-STRUCTURED-LOCATION;VALUE=URI;X-ADDRESS=Montgomery Catholic Preparatory School 5350 Vaughn Rd Montgomery AL 36116 United States;X-APPLE-RADIUS=500;X-TITLE=5350 Vaughn Rd:geo:-86.2160027,32.3400861
END:VEVENT
BEGIN:VEVENT
DTSTART;TZID=America/Chicago:20220825T180000
DTEND;TZID=America/Chicago:20220825T180000
DTSTAMP:20260422T165843
CREATED:20220608T201032Z
LAST-MODIFIED:20220608T201032Z
UID:10003277-1661450400-1661450400@montgomerycatholic.org
SUMMARY:Middle School Back to School Night
DESCRIPTION:
URL:https://montgomerycatholic.org/event/middle-school-back-to-school-night/
LOCATION:Montgomery Catholic Preparatory School\, 5350 Vaughn Rd\, Montgomery\, AL\, 36116\, United States
CATEGORIES:Middle School
GEO:32.3400861;-86.2160027
X-APPLE-STRUCTURED-LOCATION;VALUE=URI;X-ADDRESS=Montgomery Catholic Preparatory School 5350 Vaughn Rd Montgomery AL 36116 United States;X-APPLE-RADIUS=500;X-TITLE=5350 Vaughn Rd:geo:-86.2160027,32.3400861
END:VEVENT
BEGIN:VEVENT
DTSTART;TZID=UTC:20220825T163000
DTEND;TZID=UTC:20220825T193000
DTSTAMP:20260422T165843
CREATED:20220811T193030Z
LAST-MODIFIED:20220811T193030Z
UID:10002978-1661445000-1661455800@montgomerycatholic.org
SUMMARY:V Volleyball Game vs. ACA and Carver
DESCRIPTION:Games are at 4:30 and 6:30
URL:https://montgomerycatholic.org/event/v-volleyball-game-vs-aca-and-carver/
LOCATION:Montgomery Catholic Preparatory School\, 5350 Vaughn Rd\, Montgomery\, AL\, 36116\, United States
CATEGORIES:Athletics,High School
GEO:32.3400861;-86.2160027
X-APPLE-STRUCTURED-LOCATION;VALUE=URI;X-ADDRESS=Montgomery Catholic Preparatory School 5350 Vaughn Rd Montgomery AL 36116 United States;X-APPLE-RADIUS=500;X-TITLE=5350 Vaughn Rd:geo:-86.2160027,32.3400861
END:VEVENT
END:VCALENDAR