BEGIN:VCALENDAR
VERSION:2.0
PRODID:-//Montgomery Catholic - ECPv6.15.20//NONSGML v1.0//EN
CALSCALE:GREGORIAN
METHOD:PUBLISH
X-ORIGINAL-URL:https://montgomerycatholic.org
X-WR-CALDESC:Events for Montgomery Catholic
REFRESH-INTERVAL;VALUE=DURATION:PT1H
X-Robots-Tag:noindex
X-PUBLISHED-TTL:PT1H
BEGIN:VTIMEZONE
TZID:America/Chicago
BEGIN:DAYLIGHT
TZOFFSETFROM:-0600
TZOFFSETTO:-0500
TZNAME:CDT
DTSTART:20210314T080000
END:DAYLIGHT
BEGIN:STANDARD
TZOFFSETFROM:-0500
TZOFFSETTO:-0600
TZNAME:CST
DTSTART:20211107T070000
END:STANDARD
BEGIN:DAYLIGHT
TZOFFSETFROM:-0600
TZOFFSETTO:-0500
TZNAME:CDT
DTSTART:20220313T080000
END:DAYLIGHT
BEGIN:STANDARD
TZOFFSETFROM:-0500
TZOFFSETTO:-0600
TZNAME:CST
DTSTART:20221106T070000
END:STANDARD
BEGIN:DAYLIGHT
TZOFFSETFROM:-0600
TZOFFSETTO:-0500
TZNAME:CDT
DTSTART:20230312T080000
END:DAYLIGHT
BEGIN:STANDARD
TZOFFSETFROM:-0500
TZOFFSETTO:-0600
TZNAME:CST
DTSTART:20231105T070000
END:STANDARD
BEGIN:DAYLIGHT
TZOFFSETFROM:-0600
TZOFFSETTO:-0500
TZNAME:CDT
DTSTART:20240310T080000
END:DAYLIGHT
BEGIN:STANDARD
TZOFFSETFROM:-0500
TZOFFSETTO:-0600
TZNAME:CST
DTSTART:20241103T070000
END:STANDARD
END:VTIMEZONE
BEGIN:VTIMEZONE
TZID:UTC
BEGIN:STANDARD
TZOFFSETFROM:+0000
TZOFFSETTO:+0000
TZNAME:UTC
DTSTART:20210101T000000
END:STANDARD
END:VTIMEZONE
BEGIN:VEVENT
DTSTART;TZID=America/Chicago:20230224T190000
DTEND;TZID=America/Chicago:20230224T203000
DTSTAMP:20260422T073646
CREATED:20221102T162131Z
LAST-MODIFIED:20221102T162131Z
UID:10003118-1677265200-1677270600@montgomerycatholic.org
SUMMARY:JV Girls Soccer Game vs. St. James
DESCRIPTION:
URL:https://montgomerycatholic.org/event/jv-girls-soccer-game-vs-st-james/
LOCATION:Montgomery Catholic Preparatory School\, 5350 Vaughn Rd\, Montgomery\, AL\, 36116\, United States
CATEGORIES:Athletics,High School
GEO:32.3400861;-86.2160027
X-APPLE-STRUCTURED-LOCATION;VALUE=URI;X-ADDRESS=Montgomery Catholic Preparatory School 5350 Vaughn Rd Montgomery AL 36116 United States;X-APPLE-RADIUS=500;X-TITLE=5350 Vaughn Rd:geo:-86.2160027,32.3400861
END:VEVENT
BEGIN:VEVENT
DTSTART;TZID=America/Chicago:20230224T173000
DTEND;TZID=America/Chicago:20230224T190000
DTSTAMP:20260422T073646
CREATED:20221102T162229Z
LAST-MODIFIED:20221102T162229Z
UID:10003120-1677259800-1677265200@montgomerycatholic.org
SUMMARY:JV Boys Soccer Game vs. St. James
DESCRIPTION:
URL:https://montgomerycatholic.org/event/jv-boys-soccer-game-vs-st-james/
LOCATION:Montgomery Catholic Preparatory School\, 5350 Vaughn Rd\, Montgomery\, AL\, 36116\, United States
CATEGORIES:Athletics,High School
GEO:32.3400861;-86.2160027
X-APPLE-STRUCTURED-LOCATION;VALUE=URI;X-ADDRESS=Montgomery Catholic Preparatory School 5350 Vaughn Rd Montgomery AL 36116 United States;X-APPLE-RADIUS=500;X-TITLE=5350 Vaughn Rd:geo:-86.2160027,32.3400861
END:VEVENT
BEGIN:VEVENT
DTSTART;TZID=America/Chicago:20230223T190000
DTEND;TZID=America/Chicago:20230223T203000
DTSTAMP:20260422T073646
CREATED:20221214T195922Z
LAST-MODIFIED:20221214T195922Z
UID:10003872-1677178800-1677184200@montgomerycatholic.org
SUMMARY:V Boys Soccer vs. BTW (Tuskeegee)
DESCRIPTION:
URL:https://montgomerycatholic.org/event/v-boys-soccer-vs-btw-tuskeegee/
LOCATION:Montgomery Catholic Preparatory School\, 5350 Vaughn Rd\, Montgomery\, AL\, 36116\, United States
CATEGORIES:Athletics,High School
GEO:32.3400861;-86.2160027
X-APPLE-STRUCTURED-LOCATION;VALUE=URI;X-ADDRESS=Montgomery Catholic Preparatory School 5350 Vaughn Rd Montgomery AL 36116 United States;X-APPLE-RADIUS=500;X-TITLE=5350 Vaughn Rd:geo:-86.2160027,32.3400861
END:VEVENT
BEGIN:VEVENT
DTSTART;TZID=America/Chicago:20230223T173000
DTEND;TZID=America/Chicago:20230223T190000
DTSTAMP:20260422T073646
CREATED:20221214T195835Z
LAST-MODIFIED:20221214T195835Z
UID:10003870-1677173400-1677178800@montgomerycatholic.org
SUMMARY:V Girls Soccer vs. BTW (Tuskeegee)
DESCRIPTION:
URL:https://montgomerycatholic.org/event/v-girls-soccer-vs-btw-tuskeegee/
LOCATION:Montgomery Catholic Preparatory School\, 5350 Vaughn Rd\, Montgomery\, AL\, 36116\, United States
CATEGORIES:Athletics,High School
GEO:32.3400861;-86.2160027
X-APPLE-STRUCTURED-LOCATION;VALUE=URI;X-ADDRESS=Montgomery Catholic Preparatory School 5350 Vaughn Rd Montgomery AL 36116 United States;X-APPLE-RADIUS=500;X-TITLE=5350 Vaughn Rd:geo:-86.2160027,32.3400861
END:VEVENT
BEGIN:VEVENT
DTSTART;TZID=America/Chicago:20230223T153000
DTEND;TZID=America/Chicago:20230223T170000
DTSTAMP:20260422T073646
CREATED:20230213T183821Z
LAST-MODIFIED:20230213T183821Z
UID:10003961-1677166200-1677171600@montgomerycatholic.org
SUMMARY:V Softball vs. St. James
DESCRIPTION:
URL:https://montgomerycatholic.org/event/v-softball-vs-st-james/
LOCATION:Montgomery Catholic Preparatory School\, 5350 Vaughn Rd\, Montgomery\, AL\, 36116\, United States
CATEGORIES:Athletics,High School
GEO:32.3400861;-86.2160027
X-APPLE-STRUCTURED-LOCATION;VALUE=URI;X-ADDRESS=Montgomery Catholic Preparatory School 5350 Vaughn Rd Montgomery AL 36116 United States;X-APPLE-RADIUS=500;X-TITLE=5350 Vaughn Rd:geo:-86.2160027,32.3400861
END:VEVENT
BEGIN:VEVENT
DTSTART;TZID=America/Chicago:20230222T183000
DTEND;TZID=America/Chicago:20230222T193000
DTSTAMP:20260422T073646
CREATED:20221214T154059Z
LAST-MODIFIED:20221214T154059Z
UID:10003852-1677090600-1677094200@montgomerycatholic.org
SUMMARY:Child Protection Training - Room #10 in the High School
DESCRIPTION:
URL:https://montgomerycatholic.org/event/child-protection-training-room-10-in-the-high-school-6/
LOCATION:Montgomery Catholic Preparatory School\, 5350 Vaughn Rd\, Montgomery\, AL\, 36116\, United States
CATEGORIES:High School,Holy Spirit,Middle School,St. Bede
GEO:32.3400861;-86.2160027
X-APPLE-STRUCTURED-LOCATION;VALUE=URI;X-ADDRESS=Montgomery Catholic Preparatory School 5350 Vaughn Rd Montgomery AL 36116 United States;X-APPLE-RADIUS=500;X-TITLE=5350 Vaughn Rd:geo:-86.2160027,32.3400861
END:VEVENT
BEGIN:VEVENT
DTSTART;TZID=America/Chicago:20230221T173000
DTEND;TZID=America/Chicago:20230221T190000
DTSTAMP:20260422T073646
CREATED:20221102T161802Z
LAST-MODIFIED:20221102T161802Z
UID:10003781-1677000600-1677006000@montgomerycatholic.org
SUMMARY:JV Boys Soccer Game vs. Wetumpka High School
DESCRIPTION:
URL:https://montgomerycatholic.org/event/jv-boys-soccer-game-vs-wetumpka-high-school/
LOCATION:Montgomery Catholic Preparatory School\, 5350 Vaughn Rd\, Montgomery\, AL\, 36116\, United States
CATEGORIES:Athletics,High School
GEO:32.3400861;-86.2160027
X-APPLE-STRUCTURED-LOCATION;VALUE=URI;X-ADDRESS=Montgomery Catholic Preparatory School 5350 Vaughn Rd Montgomery AL 36116 United States;X-APPLE-RADIUS=500;X-TITLE=5350 Vaughn Rd:geo:-86.2160027,32.3400861
END:VEVENT
BEGIN:VEVENT
DTSTART;TZID=America/Chicago:20230220T153000
DTEND;TZID=America/Chicago:20230220T173000
DTSTAMP:20260422T073646
CREATED:20230113T181444Z
LAST-MODIFIED:20230113T181444Z
UID:10003175-1676907000-1676914200@montgomerycatholic.org
SUMMARY:MS Baseball Game vs. Trinity
DESCRIPTION:
URL:https://montgomerycatholic.org/event/ms-baseball-game-vs-trinity/
LOCATION:Montgomery Catholic Preparatory School\, 5350 Vaughn Rd\, Montgomery\, AL\, 36116\, United States
CATEGORIES:Athletics,Middle School
GEO:32.3400861;-86.2160027
X-APPLE-STRUCTURED-LOCATION;VALUE=URI;X-ADDRESS=Montgomery Catholic Preparatory School 5350 Vaughn Rd Montgomery AL 36116 United States;X-APPLE-RADIUS=500;X-TITLE=5350 Vaughn Rd:geo:-86.2160027,32.3400861
END:VEVENT
BEGIN:VEVENT
DTSTART;TZID=America/Chicago:20230220T133000
DTEND;TZID=America/Chicago:20230220T153000
DTSTAMP:20260422T073646
CREATED:20230113T184322Z
LAST-MODIFIED:20230113T184322Z
UID:10003895-1676899800-1676907000@montgomerycatholic.org
SUMMARY:JV Baseball Game vs. Trinity
DESCRIPTION:
URL:https://montgomerycatholic.org/event/jv-baseball-game-vs-trinity/
LOCATION:Montgomery Catholic Preparatory School\, 5350 Vaughn Rd\, Montgomery\, AL\, 36116\, United States
CATEGORIES:Athletics,High School
GEO:32.3400861;-86.2160027
X-APPLE-STRUCTURED-LOCATION;VALUE=URI;X-ADDRESS=Montgomery Catholic Preparatory School 5350 Vaughn Rd Montgomery AL 36116 United States;X-APPLE-RADIUS=500;X-TITLE=5350 Vaughn Rd:geo:-86.2160027,32.3400861
END:VEVENT
BEGIN:VEVENT
DTSTART;TZID=America/Chicago:20230217T170000
DTEND;TZID=America/Chicago:20230217T183000
DTSTAMP:20260422T073646
CREATED:20221102T161304Z
LAST-MODIFIED:20221102T161304Z
UID:10003776-1676653200-1676658600@montgomerycatholic.org
SUMMARY:JH Boys Soccer Game vs. Floyd Magnet
DESCRIPTION:
URL:https://montgomerycatholic.org/event/jh-boys-soccer-game-vs-floyd-magnet/
LOCATION:Montgomery Catholic Preparatory School\, 5350 Vaughn Rd\, Montgomery\, AL\, 36116\, United States
CATEGORIES:Athletics,High School
GEO:32.3400861;-86.2160027
X-APPLE-STRUCTURED-LOCATION;VALUE=URI;X-ADDRESS=Montgomery Catholic Preparatory School 5350 Vaughn Rd Montgomery AL 36116 United States;X-APPLE-RADIUS=500;X-TITLE=5350 Vaughn Rd:geo:-86.2160027,32.3400861
END:VEVENT
BEGIN:VEVENT
DTSTART;TZID=America/Chicago:20230216T140000
DTEND;TZID=America/Chicago:20230216T163000
DTSTAMP:20260422T073646
CREATED:20230117T163746Z
LAST-MODIFIED:20230117T163746Z
UID:10003190-1676556000-1676565000@montgomerycatholic.org
SUMMARY:V Baseball Game vs. St. James
DESCRIPTION:
URL:https://montgomerycatholic.org/event/v-baseball-game-vs-st-james/
LOCATION:Montgomery Catholic Preparatory School\, 5350 Vaughn Rd\, Montgomery\, AL\, 36116\, United States
CATEGORIES:Athletics,High School
GEO:32.3400861;-86.2160027
X-APPLE-STRUCTURED-LOCATION;VALUE=URI;X-ADDRESS=Montgomery Catholic Preparatory School 5350 Vaughn Rd Montgomery AL 36116 United States;X-APPLE-RADIUS=500;X-TITLE=5350 Vaughn Rd:geo:-86.2160027,32.3400861
END:VEVENT
BEGIN:VEVENT
DTSTART;TZID=America/Chicago:20230214T190000
DTEND;TZID=America/Chicago:20230214T203000
DTSTAMP:20260422T073646
CREATED:20221102T160343Z
LAST-MODIFIED:20221102T160343Z
UID:10003769-1676401200-1676406600@montgomerycatholic.org
SUMMARY:V Boys Soccer Game vs. Montgomery Academy
DESCRIPTION:
URL:https://montgomerycatholic.org/event/v-boys-soccer-game-vs-montgomery-academy/
LOCATION:Montgomery Catholic Preparatory School\, 5350 Vaughn Rd\, Montgomery\, AL\, 36116\, United States
CATEGORIES:Athletics,High School
GEO:32.3400861;-86.2160027
X-APPLE-STRUCTURED-LOCATION;VALUE=URI;X-ADDRESS=Montgomery Catholic Preparatory School 5350 Vaughn Rd Montgomery AL 36116 United States;X-APPLE-RADIUS=500;X-TITLE=5350 Vaughn Rd:geo:-86.2160027,32.3400861
END:VEVENT
BEGIN:VEVENT
DTSTART;TZID=America/Chicago:20230203T173000
DTEND;TZID=America/Chicago:20230203T190000
DTSTAMP:20260422T073646
CREATED:20221101T193154Z
LAST-MODIFIED:20221101T193154Z
UID:10003756-1675445400-1675450800@montgomerycatholic.org
SUMMARY:V Girls Soccer vs. Wetumpka High School
DESCRIPTION:
URL:https://montgomerycatholic.org/event/v-girls-soccer-vs-wetumpka-high-school/
LOCATION:Montgomery Catholic Preparatory School\, 5350 Vaughn Rd\, Montgomery\, AL\, 36116\, United States
CATEGORIES:Athletics,High School
GEO:32.3400861;-86.2160027
X-APPLE-STRUCTURED-LOCATION;VALUE=URI;X-ADDRESS=Montgomery Catholic Preparatory School 5350 Vaughn Rd Montgomery AL 36116 United States;X-APPLE-RADIUS=500;X-TITLE=5350 Vaughn Rd:geo:-86.2160027,32.3400861
END:VEVENT
BEGIN:VEVENT
DTSTART;TZID=America/Chicago:20230201T170000
DTEND;TZID=America/Chicago:20230201T173000
DTSTAMP:20260422T073646
CREATED:20230105T171822Z
LAST-MODIFIED:20230105T171822Z
UID:10003169-1675270800-1675272600@montgomerycatholic.org
SUMMARY:Guatemala Pre-Trip Meeting
DESCRIPTION:Meeting will be held in Miss Armstrong’s classroom.  Room number 11 in the main high school building
URL:https://montgomerycatholic.org/event/guatemala-pre-trip-meeting/
LOCATION:Montgomery Catholic Preparatory School\, 5350 Vaughn Rd\, Montgomery\, AL\, 36116\, United States
CATEGORIES:General
GEO:32.3400861;-86.2160027
X-APPLE-STRUCTURED-LOCATION;VALUE=URI;X-ADDRESS=Montgomery Catholic Preparatory School 5350 Vaughn Rd Montgomery AL 36116 United States;X-APPLE-RADIUS=500;X-TITLE=5350 Vaughn Rd:geo:-86.2160027,32.3400861
END:VEVENT
BEGIN:VEVENT
DTSTART;TZID=America/Chicago:20230125T183000
DTEND;TZID=America/Chicago:20230125T193000
DTSTAMP:20260422T073646
CREATED:20211110T162829Z
LAST-MODIFIED:20211110T162829Z
UID:10002901-1674671400-1674675000@montgomerycatholic.org
SUMMARY:Child Protection Training - Room #10 in the High School
DESCRIPTION:
URL:https://montgomerycatholic.org/event/child-protection-training-room-10-in-the-high-school-10/
LOCATION:Montgomery Catholic Preparatory School\, 5350 Vaughn Rd\, Montgomery\, AL\, 36116\, United States
CATEGORIES:High School,Holy Spirit,Middle School,St. Bede
GEO:32.3400861;-86.2160027
X-APPLE-STRUCTURED-LOCATION;VALUE=URI;X-ADDRESS=Montgomery Catholic Preparatory School 5350 Vaughn Rd Montgomery AL 36116 United States;X-APPLE-RADIUS=500;X-TITLE=5350 Vaughn Rd:geo:-86.2160027,32.3400861
END:VEVENT
BEGIN:VEVENT
DTSTART;VALUE=DATE:20230117
DTEND;VALUE=DATE:20230131
DTSTAMP:20260422T073646
CREATED:20220901T181949Z
LAST-MODIFIED:20220901T181949Z
UID:10003542-1673913600-1675123199@montgomerycatholic.org
SUMMARY:Baseball Calendar Fundraiser
DESCRIPTION:The MCPS Baseball team will be having a Calendar Fundraiser to raise funds for the baseball team. Reach out to your favorite baseball player to purchase a space on their calendar! \n  \nContact Coach Cam Lewis for more information!
URL:https://montgomerycatholic.org/event/baseball-calendar-fundraiser/
LOCATION:Montgomery Catholic Preparatory School\, 5350 Vaughn Rd\, Montgomery\, AL\, 36116\, United States
CATEGORIES:Athletics,High School,Middle School
ORGANIZER;CN="Cam Lewis":MAILTO:clewis@montgomerycatholic.org
GEO:32.3400861;-86.2160027
X-APPLE-STRUCTURED-LOCATION;VALUE=URI;X-ADDRESS=Montgomery Catholic Preparatory School 5350 Vaughn Rd Montgomery AL 36116 United States;X-APPLE-RADIUS=500;X-TITLE=5350 Vaughn Rd:geo:-86.2160027,32.3400861
END:VEVENT
BEGIN:VEVENT
DTSTART;TZID=America/Chicago:20221116T183000
DTEND;TZID=America/Chicago:20221116T193000
DTSTAMP:20260422T073646
CREATED:20211110T162728Z
LAST-MODIFIED:20211110T162728Z
UID:10002899-1668623400-1668627000@montgomerycatholic.org
SUMMARY:Child Protection Training - Room #10 in the High School
DESCRIPTION:
URL:https://montgomerycatholic.org/event/child-protection-training-room-10-in-the-high-school-9/
LOCATION:Montgomery Catholic Preparatory School\, 5350 Vaughn Rd\, Montgomery\, AL\, 36116\, United States
CATEGORIES:High School,Holy Spirit,Middle School,St. Bede
GEO:32.3400861;-86.2160027
X-APPLE-STRUCTURED-LOCATION;VALUE=URI;X-ADDRESS=Montgomery Catholic Preparatory School 5350 Vaughn Rd Montgomery AL 36116 United States;X-APPLE-RADIUS=500;X-TITLE=5350 Vaughn Rd:geo:-86.2160027,32.3400861
END:VEVENT
BEGIN:VEVENT
DTSTART;TZID=America/Chicago:20221026T183000
DTEND;TZID=America/Chicago:20221026T193000
DTSTAMP:20260422T073646
CREATED:20211110T162539Z
LAST-MODIFIED:20211110T162539Z
UID:10002897-1666809000-1666812600@montgomerycatholic.org
SUMMARY:Child Protection Training - Room #10 in the High School
DESCRIPTION:
URL:https://montgomerycatholic.org/event/child-protection-training-room-10-in-the-high-school-8/
LOCATION:Montgomery Catholic Preparatory School\, 5350 Vaughn Rd\, Montgomery\, AL\, 36116\, United States
CATEGORIES:High School,Holy Spirit,Middle School,St. Bede
GEO:32.3400861;-86.2160027
X-APPLE-STRUCTURED-LOCATION;VALUE=URI;X-ADDRESS=Montgomery Catholic Preparatory School 5350 Vaughn Rd Montgomery AL 36116 United States;X-APPLE-RADIUS=500;X-TITLE=5350 Vaughn Rd:geo:-86.2160027,32.3400861
END:VEVENT
BEGIN:VEVENT
DTSTART;TZID=UTC:20221010T183000
DTEND;TZID=UTC:20221010T200000
DTSTAMP:20260422T073646
CREATED:20220809T182943Z
LAST-MODIFIED:20220809T182943Z
UID:10003475-1665426600-1665432000@montgomerycatholic.org
SUMMARY:JV Football Game vs. Jeff Davis
DESCRIPTION:
URL:https://montgomerycatholic.org/event/jv-football-game-vs-jeff-davis/
LOCATION:Montgomery Catholic Preparatory School\, 5350 Vaughn Rd\, Montgomery\, AL\, 36116\, United States
CATEGORIES:Athletics,High School
GEO:32.3400861;-86.2160027
X-APPLE-STRUCTURED-LOCATION;VALUE=URI;X-ADDRESS=Montgomery Catholic Preparatory School 5350 Vaughn Rd Montgomery AL 36116 United States;X-APPLE-RADIUS=500;X-TITLE=5350 Vaughn Rd:geo:-86.2160027,32.3400861
END:VEVENT
BEGIN:VEVENT
DTSTART;TZID=UTC:20221010T170000
DTEND;TZID=UTC:20221010T183000
DTSTAMP:20260422T073646
CREATED:20220809T191321Z
LAST-MODIFIED:20220809T191321Z
UID:10002968-1665421200-1665426600@montgomerycatholic.org
SUMMARY:MS Football Game vs. Pike Liberal Arts
DESCRIPTION:
URL:https://montgomerycatholic.org/event/ms-football-game-vs-pike-liberal-arts/
LOCATION:Montgomery Catholic Preparatory School\, 5350 Vaughn Rd\, Montgomery\, AL\, 36116\, United States
CATEGORIES:Athletics,Middle School
GEO:32.3400861;-86.2160027
X-APPLE-STRUCTURED-LOCATION;VALUE=URI;X-ADDRESS=Montgomery Catholic Preparatory School 5350 Vaughn Rd Montgomery AL 36116 United States;X-APPLE-RADIUS=500;X-TITLE=5350 Vaughn Rd:geo:-86.2160027,32.3400861
END:VEVENT
BEGIN:VEVENT
DTSTART;TZID=UTC:20221007T190000
DTEND;TZID=UTC:20221007T220000
DTSTAMP:20260422T073646
CREATED:20220808T193918Z
LAST-MODIFIED:20220808T195205Z
UID:10003456-1665169200-1665180000@montgomerycatholic.org
SUMMARY:Varsity Football Homecoming Game vs. Bullock County
DESCRIPTION:
URL:https://montgomerycatholic.org/event/homecoming-varsity-football-game-vs-bullock-county/
LOCATION:Montgomery Catholic Preparatory School\, 5350 Vaughn Rd\, Montgomery\, AL\, 36116\, United States
CATEGORIES:Athletics,High School
GEO:32.3400861;-86.2160027
X-APPLE-STRUCTURED-LOCATION;VALUE=URI;X-ADDRESS=Montgomery Catholic Preparatory School 5350 Vaughn Rd Montgomery AL 36116 United States;X-APPLE-RADIUS=500;X-TITLE=5350 Vaughn Rd:geo:-86.2160027,32.3400861
END:VEVENT
BEGIN:VEVENT
DTSTART;TZID=UTC:20221007T183000
DTEND;TZID=UTC:20221007T190000
DTSTAMP:20260422T073646
CREATED:20220805T194747Z
LAST-MODIFIED:20220805T194747Z
UID:10003447-1665167400-1665169200@montgomerycatholic.org
SUMMARY:Senior Varsity Sports Night
DESCRIPTION:
URL:https://montgomerycatholic.org/event/senior-varsity-sports-night/
LOCATION:Montgomery Catholic Preparatory School\, 5350 Vaughn Rd\, Montgomery\, AL\, 36116\, United States
CATEGORIES:Athletics,High School
GEO:32.3400861;-86.2160027
X-APPLE-STRUCTURED-LOCATION;VALUE=URI;X-ADDRESS=Montgomery Catholic Preparatory School 5350 Vaughn Rd Montgomery AL 36116 United States;X-APPLE-RADIUS=500;X-TITLE=5350 Vaughn Rd:geo:-86.2160027,32.3400861
END:VEVENT
BEGIN:VEVENT
DTSTART;TZID=UTC:20221004T163000
DTEND;TZID=UTC:20221004T193000
DTSTAMP:20260422T073646
CREATED:20220812T141950Z
LAST-MODIFIED:20220812T141950Z
UID:10003000-1664901000-1664911800@montgomerycatholic.org
SUMMARY:V Volleyball Games vs. PCA/Aurburn
DESCRIPTION:
URL:https://montgomerycatholic.org/event/v-volleyball-games-vs-pca-aurburn/
LOCATION:Montgomery Catholic Preparatory School\, 5350 Vaughn Rd\, Montgomery\, AL\, 36116\, United States
CATEGORIES:Athletics,High School
GEO:32.3400861;-86.2160027
X-APPLE-STRUCTURED-LOCATION;VALUE=URI;X-ADDRESS=Montgomery Catholic Preparatory School 5350 Vaughn Rd Montgomery AL 36116 United States;X-APPLE-RADIUS=500;X-TITLE=5350 Vaughn Rd:geo:-86.2160027,32.3400861
END:VEVENT
BEGIN:VEVENT
DTSTART;TZID=UTC:20221003T183000
DTEND;TZID=UTC:20221003T200000
DTSTAMP:20260422T073646
CREATED:20220809T182629Z
LAST-MODIFIED:20220809T182629Z
UID:10003474-1664821800-1664827200@montgomerycatholic.org
SUMMARY:JV Football Game vs. Greenville
DESCRIPTION:
URL:https://montgomerycatholic.org/event/jv-football-game-vs-greenville/
LOCATION:Montgomery Catholic Preparatory School\, 5350 Vaughn Rd\, Montgomery\, AL\, 36116\, United States
CATEGORIES:Athletics,High School
GEO:32.3400861;-86.2160027
X-APPLE-STRUCTURED-LOCATION;VALUE=URI;X-ADDRESS=Montgomery Catholic Preparatory School 5350 Vaughn Rd Montgomery AL 36116 United States;X-APPLE-RADIUS=500;X-TITLE=5350 Vaughn Rd:geo:-86.2160027,32.3400861
END:VEVENT
BEGIN:VEVENT
DTSTART;TZID=UTC:20221003T170000
DTEND;TZID=UTC:20221003T183000
DTSTAMP:20260422T073646
CREATED:20220809T190743Z
LAST-MODIFIED:20220809T190743Z
UID:10002967-1664816400-1664821800@montgomerycatholic.org
SUMMARY:MS Football Game vs. Greenville
DESCRIPTION:
URL:https://montgomerycatholic.org/event/ms-football-game-vs-greenville/
LOCATION:Montgomery Catholic Preparatory School\, 5350 Vaughn Rd\, Montgomery\, AL\, 36116\, United States
CATEGORIES:Athletics,Middle School
GEO:32.3400861;-86.2160027
X-APPLE-STRUCTURED-LOCATION;VALUE=URI;X-ADDRESS=Montgomery Catholic Preparatory School 5350 Vaughn Rd Montgomery AL 36116 United States;X-APPLE-RADIUS=500;X-TITLE=5350 Vaughn Rd:geo:-86.2160027,32.3400861
END:VEVENT
BEGIN:VEVENT
DTSTART;TZID=UTC:20221003T160000
DTEND;TZID=UTC:20221003T190000
DTSTAMP:20260422T073646
CREATED:20220812T141639Z
LAST-MODIFIED:20220812T141639Z
UID:10002998-1664812800-1664823600@montgomerycatholic.org
SUMMARY:V Volleyball Games vs. STJ/Lanier
DESCRIPTION:
URL:https://montgomerycatholic.org/event/v-volleyball-games-vs-stj-lanier/
LOCATION:Montgomery Catholic Preparatory School\, 5350 Vaughn Rd\, Montgomery\, AL\, 36116\, United States
CATEGORIES:Athletics,High School
GEO:32.3400861;-86.2160027
X-APPLE-STRUCTURED-LOCATION;VALUE=URI;X-ADDRESS=Montgomery Catholic Preparatory School 5350 Vaughn Rd Montgomery AL 36116 United States;X-APPLE-RADIUS=500;X-TITLE=5350 Vaughn Rd:geo:-86.2160027,32.3400861
END:VEVENT
BEGIN:VEVENT
DTSTART;TZID=UTC:20220930T190000
DTEND;TZID=UTC:20220930T220000
DTSTAMP:20260422T073646
CREATED:20220808T193729Z
LAST-MODIFIED:20220808T194752Z
UID:10003455-1664564400-1664575200@montgomerycatholic.org
SUMMARY:Varsity Football Game vs. Montgomery Academy
DESCRIPTION:
URL:https://montgomerycatholic.org/event/varsity-football-vs-montgomery-academy/
LOCATION:Montgomery Catholic Preparatory School\, 5350 Vaughn Rd\, Montgomery\, AL\, 36116\, United States
CATEGORIES:Athletics,High School
GEO:32.3400861;-86.2160027
X-APPLE-STRUCTURED-LOCATION;VALUE=URI;X-ADDRESS=Montgomery Catholic Preparatory School 5350 Vaughn Rd Montgomery AL 36116 United States;X-APPLE-RADIUS=500;X-TITLE=5350 Vaughn Rd:geo:-86.2160027,32.3400861
END:VEVENT
BEGIN:VEVENT
DTSTART;TZID=UTC:20220929T180000
DTEND;TZID=UTC:20220929T190000
DTSTAMP:20260422T073646
CREATED:20220812T141124Z
LAST-MODIFIED:20220926T150053Z
UID:10002994-1664474400-1664478000@montgomerycatholic.org
SUMMARY:V Volleyball Game vs Trinity
DESCRIPTION:
URL:https://montgomerycatholic.org/event/v-volleyball-game-trinity/
LOCATION:Montgomery Catholic Preparatory School\, 5350 Vaughn Rd\, Montgomery\, AL\, 36116\, United States
CATEGORIES:Athletics,High School
GEO:32.3400861;-86.2160027
X-APPLE-STRUCTURED-LOCATION;VALUE=URI;X-ADDRESS=Montgomery Catholic Preparatory School 5350 Vaughn Rd Montgomery AL 36116 United States;X-APPLE-RADIUS=500;X-TITLE=5350 Vaughn Rd:geo:-86.2160027,32.3400861
END:VEVENT
BEGIN:VEVENT
DTSTART;TZID=UTC:20220929T170000
DTEND;TZID=UTC:20220929T180000
DTSTAMP:20260422T073646
CREATED:20220812T140830Z
LAST-MODIFIED:20220926T145941Z
UID:10002992-1664470800-1664474400@montgomerycatholic.org
SUMMARY:JV Volleyball Game vs. Trinity
DESCRIPTION:
URL:https://montgomerycatholic.org/event/jv-volleyball-game-vs-trinity/
LOCATION:Montgomery Catholic Preparatory School\, 5350 Vaughn Rd\, Montgomery\, AL\, 36116\, United States
CATEGORIES:Athletics,High School
GEO:32.3400861;-86.2160027
X-APPLE-STRUCTURED-LOCATION;VALUE=URI;X-ADDRESS=Montgomery Catholic Preparatory School 5350 Vaughn Rd Montgomery AL 36116 United States;X-APPLE-RADIUS=500;X-TITLE=5350 Vaughn Rd:geo:-86.2160027,32.3400861
END:VEVENT
BEGIN:VEVENT
DTSTART;TZID=UTC:20220929T160000
DTEND;TZID=UTC:20220929T170000
DTSTAMP:20260422T073646
CREATED:20220812T140622Z
LAST-MODIFIED:20220926T145831Z
UID:10002990-1664467200-1664470800@montgomerycatholic.org
SUMMARY:MS Volleyball Game vs. Trinity
DESCRIPTION:
URL:https://montgomerycatholic.org/event/ms-volleyball-game-vs-trinity/
LOCATION:Montgomery Catholic Preparatory School\, 5350 Vaughn Rd\, Montgomery\, AL\, 36116\, United States
CATEGORIES:Athletics,Middle School
GEO:32.3400861;-86.2160027
X-APPLE-STRUCTURED-LOCATION;VALUE=URI;X-ADDRESS=Montgomery Catholic Preparatory School 5350 Vaughn Rd Montgomery AL 36116 United States;X-APPLE-RADIUS=500;X-TITLE=5350 Vaughn Rd:geo:-86.2160027,32.3400861
END:VEVENT
END:VCALENDAR