BEGIN:VCALENDAR
VERSION:2.0
PRODID:-//Montgomery Catholic - ECPv6.15.20//NONSGML v1.0//EN
CALSCALE:GREGORIAN
METHOD:PUBLISH
X-ORIGINAL-URL:https://montgomerycatholic.org
X-WR-CALDESC:Events for Montgomery Catholic
REFRESH-INTERVAL;VALUE=DURATION:PT1H
X-Robots-Tag:noindex
X-PUBLISHED-TTL:PT1H
BEGIN:VTIMEZONE
TZID:America/Chicago
BEGIN:DAYLIGHT
TZOFFSETFROM:-0600
TZOFFSETTO:-0500
TZNAME:CDT
DTSTART:20220313T080000
END:DAYLIGHT
BEGIN:STANDARD
TZOFFSETFROM:-0500
TZOFFSETTO:-0600
TZNAME:CST
DTSTART:20221106T070000
END:STANDARD
BEGIN:DAYLIGHT
TZOFFSETFROM:-0600
TZOFFSETTO:-0500
TZNAME:CDT
DTSTART:20230312T080000
END:DAYLIGHT
BEGIN:STANDARD
TZOFFSETFROM:-0500
TZOFFSETTO:-0600
TZNAME:CST
DTSTART:20231105T070000
END:STANDARD
BEGIN:DAYLIGHT
TZOFFSETFROM:-0600
TZOFFSETTO:-0500
TZNAME:CDT
DTSTART:20240310T080000
END:DAYLIGHT
BEGIN:STANDARD
TZOFFSETFROM:-0500
TZOFFSETTO:-0600
TZNAME:CST
DTSTART:20241103T070000
END:STANDARD
END:VTIMEZONE
BEGIN:VEVENT
DTSTART;TZID=America/Chicago:20230325T110000
DTEND;TZID=America/Chicago:20230325T143000
DTSTAMP:20260422T020249
CREATED:20230113T184735Z
LAST-MODIFIED:20230117T163041Z
UID:10003901-1679742000-1679754600@montgomerycatholic.org
SUMMARY:JV Baseball Doubleheader vs. MA
DESCRIPTION:
URL:https://montgomerycatholic.org/event/jv-baseball-doubleheader-vs-ma/
LOCATION:Montgomery Catholic Preparatory School\, 5350 Vaughn Rd\, Montgomery\, AL\, 36116\, United States
CATEGORIES:Athletics,High School
GEO:32.3400861;-86.2160027
X-APPLE-STRUCTURED-LOCATION;VALUE=URI;X-ADDRESS=Montgomery Catholic Preparatory School 5350 Vaughn Rd Montgomery AL 36116 United States;X-APPLE-RADIUS=500;X-TITLE=5350 Vaughn Rd:geo:-86.2160027,32.3400861
END:VEVENT
BEGIN:VEVENT
DTSTART;TZID=America/Chicago:20230323T140000
DTEND;TZID=America/Chicago:20230323T183000
DTSTAMP:20260422T020249
CREATED:20230117T172541Z
LAST-MODIFIED:20230208T150142Z
UID:10003935-1679580000-1679596200@montgomerycatholic.org
SUMMARY:V Baseball Double Header vs. Bullock Co.
DESCRIPTION:
URL:https://montgomerycatholic.org/event/v-baseball-game-vs-bullock-co/
LOCATION:Montgomery Catholic Preparatory School\, 5350 Vaughn Rd\, Montgomery\, AL\, 36116\, United States
CATEGORIES:Athletics,High School
GEO:32.3400861;-86.2160027
X-APPLE-STRUCTURED-LOCATION;VALUE=URI;X-ADDRESS=Montgomery Catholic Preparatory School 5350 Vaughn Rd Montgomery AL 36116 United States;X-APPLE-RADIUS=500;X-TITLE=5350 Vaughn Rd:geo:-86.2160027,32.3400861
END:VEVENT
BEGIN:VEVENT
DTSTART;TZID=America/Chicago:20230322T183000
DTEND;TZID=America/Chicago:20230322T193000
DTSTAMP:20260422T020249
CREATED:20221214T154337Z
LAST-MODIFIED:20221214T154337Z
UID:10003853-1679509800-1679513400@montgomerycatholic.org
SUMMARY:Child Protection Training - Room #10 in the High School
DESCRIPTION:
URL:https://montgomerycatholic.org/event/child-protection-training-room-10-in-the-high-school-7/
LOCATION:Montgomery Catholic Preparatory School\, 5350 Vaughn Rd\, Montgomery\, AL\, 36116\, United States
CATEGORIES:High School,Holy Spirit,Middle School,St. Bede
GEO:32.3400861;-86.2160027
X-APPLE-STRUCTURED-LOCATION;VALUE=URI;X-ADDRESS=Montgomery Catholic Preparatory School 5350 Vaughn Rd Montgomery AL 36116 United States;X-APPLE-RADIUS=500;X-TITLE=5350 Vaughn Rd:geo:-86.2160027,32.3400861
END:VEVENT
BEGIN:VEVENT
DTSTART;TZID=America/Chicago:20230321T190000
DTEND;TZID=America/Chicago:20230321T203000
DTSTAMP:20260422T020249
CREATED:20221107T193632Z
LAST-MODIFIED:20221107T193632Z
UID:10003801-1679425200-1679430600@montgomerycatholic.org
SUMMARY:V Boys Soccer Game vs. Dale County
DESCRIPTION:
URL:https://montgomerycatholic.org/event/v-boys-soccer-game-vs-dale-county/
LOCATION:Montgomery Catholic Preparatory School\, 5350 Vaughn Rd\, Montgomery\, AL\, 36116\, United States
CATEGORIES:Athletics,High School
GEO:32.3400861;-86.2160027
X-APPLE-STRUCTURED-LOCATION;VALUE=URI;X-ADDRESS=Montgomery Catholic Preparatory School 5350 Vaughn Rd Montgomery AL 36116 United States;X-APPLE-RADIUS=500;X-TITLE=5350 Vaughn Rd:geo:-86.2160027,32.3400861
END:VEVENT
BEGIN:VEVENT
DTSTART;TZID=America/Chicago:20230321T173000
DTEND;TZID=America/Chicago:20230321T190000
DTSTAMP:20260422T020249
CREATED:20221107T193544Z
LAST-MODIFIED:20221107T193551Z
UID:10003799-1679419800-1679425200@montgomerycatholic.org
SUMMARY:V Girls Soccer Game vs. Dale County
DESCRIPTION:
URL:https://montgomerycatholic.org/event/v-girls-soccer-gave-vs-dale-county/
LOCATION:Montgomery Catholic Preparatory School\, 5350 Vaughn Rd\, Montgomery\, AL\, 36116\, United States
CATEGORIES:Athletics,High School
GEO:32.3400861;-86.2160027
X-APPLE-STRUCTURED-LOCATION;VALUE=URI;X-ADDRESS=Montgomery Catholic Preparatory School 5350 Vaughn Rd Montgomery AL 36116 United States;X-APPLE-RADIUS=500;X-TITLE=5350 Vaughn Rd:geo:-86.2160027,32.3400861
END:VEVENT
BEGIN:VEVENT
DTSTART;TZID=America/Chicago:20230321T160000
DTEND;TZID=America/Chicago:20230321T183000
DTSTAMP:20260422T020249
CREATED:20230117T172035Z
LAST-MODIFIED:20230317T181446Z
UID:10003933-1679414400-1679423400@montgomerycatholic.org
SUMMARY:V Baseball Game vs. BTW
DESCRIPTION:
URL:https://montgomerycatholic.org/event/v-baseball-game-vs-btw/
LOCATION:Montgomery Catholic Preparatory School\, 5350 Vaughn Rd\, Montgomery\, AL\, 36116\, United States
CATEGORIES:Athletics,High School
GEO:32.3400861;-86.2160027
X-APPLE-STRUCTURED-LOCATION;VALUE=URI;X-ADDRESS=Montgomery Catholic Preparatory School 5350 Vaughn Rd Montgomery AL 36116 United States;X-APPLE-RADIUS=500;X-TITLE=5350 Vaughn Rd:geo:-86.2160027,32.3400861
END:VEVENT
BEGIN:VEVENT
DTSTART;TZID=America/Chicago:20230320T140000
DTEND;TZID=America/Chicago:20230320T190000
DTSTAMP:20260422T020250
CREATED:20230117T172342Z
LAST-MODIFIED:20230117T172342Z
UID:10003934-1679320800-1679338800@montgomerycatholic.org
SUMMARY:V Baseball Doubleheader vs. Brew Tech
DESCRIPTION:
URL:https://montgomerycatholic.org/event/v-baseball-doubleheader-vs-brew-tech/
LOCATION:Montgomery Catholic Preparatory School\, 5350 Vaughn Rd\, Montgomery\, AL\, 36116\, United States
CATEGORIES:Athletics,High School
GEO:32.3400861;-86.2160027
X-APPLE-STRUCTURED-LOCATION;VALUE=URI;X-ADDRESS=Montgomery Catholic Preparatory School 5350 Vaughn Rd Montgomery AL 36116 United States;X-APPLE-RADIUS=500;X-TITLE=5350 Vaughn Rd:geo:-86.2160027,32.3400861
END:VEVENT
BEGIN:VEVENT
DTSTART;TZID=America/Chicago:20230316T190000
DTEND;TZID=America/Chicago:20230316T203000
DTSTAMP:20260422T020250
CREATED:20221107T193441Z
LAST-MODIFIED:20221107T193441Z
UID:10003797-1678993200-1678998600@montgomerycatholic.org
SUMMARY:V Boys Soccer vs. Trinity
DESCRIPTION:
URL:https://montgomerycatholic.org/event/v-boys-soccer-vs-trinity/
LOCATION:Montgomery Catholic Preparatory School\, 5350 Vaughn Rd\, Montgomery\, AL\, 36116\, United States
CATEGORIES:Athletics,High School
GEO:32.3400861;-86.2160027
X-APPLE-STRUCTURED-LOCATION;VALUE=URI;X-ADDRESS=Montgomery Catholic Preparatory School 5350 Vaughn Rd Montgomery AL 36116 United States;X-APPLE-RADIUS=500;X-TITLE=5350 Vaughn Rd:geo:-86.2160027,32.3400861
END:VEVENT
BEGIN:VEVENT
DTSTART;TZID=America/Chicago:20230316T173000
DTEND;TZID=America/Chicago:20230316T190000
DTSTAMP:20260422T020250
CREATED:20221107T193356Z
LAST-MODIFIED:20221107T193356Z
UID:10003796-1678987800-1678993200@montgomerycatholic.org
SUMMARY:V Girls Soccer vs. Trinity
DESCRIPTION:
URL:https://montgomerycatholic.org/event/v-girls-soccer-vs-trinity/
LOCATION:Montgomery Catholic Preparatory School\, 5350 Vaughn Rd\, Montgomery\, AL\, 36116\, United States
CATEGORIES:Athletics,High School
GEO:32.3400861;-86.2160027
X-APPLE-STRUCTURED-LOCATION;VALUE=URI;X-ADDRESS=Montgomery Catholic Preparatory School 5350 Vaughn Rd Montgomery AL 36116 United States;X-APPLE-RADIUS=500;X-TITLE=5350 Vaughn Rd:geo:-86.2160027,32.3400861
END:VEVENT
BEGIN:VEVENT
DTSTART;TZID=America/Chicago:20230314T160000
DTEND;TZID=America/Chicago:20230314T183000
DTSTAMP:20260422T020250
CREATED:20230117T171713Z
LAST-MODIFIED:20230117T171713Z
UID:10003930-1678809600-1678818600@montgomerycatholic.org
SUMMARY:V Baseball Game vs. ACA
DESCRIPTION:
URL:https://montgomerycatholic.org/event/v-baseball-game-vs-aca/
LOCATION:Montgomery Catholic Preparatory School\, 5350 Vaughn Rd\, Montgomery\, AL\, 36116\, United States
CATEGORIES:Athletics,High School
GEO:32.3400861;-86.2160027
X-APPLE-STRUCTURED-LOCATION;VALUE=URI;X-ADDRESS=Montgomery Catholic Preparatory School 5350 Vaughn Rd Montgomery AL 36116 United States;X-APPLE-RADIUS=500;X-TITLE=5350 Vaughn Rd:geo:-86.2160027,32.3400861
END:VEVENT
BEGIN:VEVENT
DTSTART;TZID=America/Chicago:20230314T140000
DTEND;TZID=America/Chicago:20230314T160000
DTSTAMP:20260422T020250
CREATED:20230113T185218Z
LAST-MODIFIED:20230113T185218Z
UID:10003911-1678802400-1678809600@montgomerycatholic.org
SUMMARY:JV Baseball Game vs. ACA
DESCRIPTION:
URL:https://montgomerycatholic.org/event/jv-baseball-game-vs-aca/
LOCATION:Montgomery Catholic Preparatory School\, 5350 Vaughn Rd\, Montgomery\, AL\, 36116\, United States
CATEGORIES:Athletics,High School
GEO:32.3400861;-86.2160027
X-APPLE-STRUCTURED-LOCATION;VALUE=URI;X-ADDRESS=Montgomery Catholic Preparatory School 5350 Vaughn Rd Montgomery AL 36116 United States;X-APPLE-RADIUS=500;X-TITLE=5350 Vaughn Rd:geo:-86.2160027,32.3400861
END:VEVENT
BEGIN:VEVENT
DTSTART;TZID=America/Chicago:20230313T160000
DTEND;TZID=America/Chicago:20230313T180000
DTSTAMP:20260422T020250
CREATED:20230113T182545Z
LAST-MODIFIED:20230113T182545Z
UID:10003884-1678723200-1678730400@montgomerycatholic.org
SUMMARY:MS Baseball Game vs. Marbury
DESCRIPTION:
URL:https://montgomerycatholic.org/event/ms-baseball-game-vs-marbury/
LOCATION:Montgomery Catholic Preparatory School\, 5350 Vaughn Rd\, Montgomery\, AL\, 36116\, United States
CATEGORIES:Athletics,Middle School
GEO:32.3400861;-86.2160027
X-APPLE-STRUCTURED-LOCATION;VALUE=URI;X-ADDRESS=Montgomery Catholic Preparatory School 5350 Vaughn Rd Montgomery AL 36116 United States;X-APPLE-RADIUS=500;X-TITLE=5350 Vaughn Rd:geo:-86.2160027,32.3400861
END:VEVENT
BEGIN:VEVENT
DTSTART;TZID=America/Chicago:20230313T160000
DTEND;TZID=America/Chicago:20230313T171500
DTSTAMP:20260422T020250
CREATED:20230213T185327Z
LAST-MODIFIED:20230213T185327Z
UID:10003980-1678723200-1678727700@montgomerycatholic.org
SUMMARY:JV Softball Game vs. ACA
DESCRIPTION:
URL:https://montgomerycatholic.org/event/jv-softball-game-vs-aca/
LOCATION:Montgomery Catholic Preparatory School\, 5350 Vaughn Rd\, Montgomery\, AL\, 36116\, United States
CATEGORIES:Athletics,High School
GEO:32.3400861;-86.2160027
X-APPLE-STRUCTURED-LOCATION;VALUE=URI;X-ADDRESS=Montgomery Catholic Preparatory School 5350 Vaughn Rd Montgomery AL 36116 United States;X-APPLE-RADIUS=500;X-TITLE=5350 Vaughn Rd:geo:-86.2160027,32.3400861
END:VEVENT
BEGIN:VEVENT
DTSTART;TZID=America/Chicago:20230310T190000
DTEND;TZID=America/Chicago:20230310T203000
DTSTAMP:20260422T020250
CREATED:20221214T200224Z
LAST-MODIFIED:20221214T200224Z
UID:10003162-1678474800-1678480200@montgomerycatholic.org
SUMMARY:V Boys Soccer @ BTW (Tuskeegee)
DESCRIPTION:
URL:https://montgomerycatholic.org/event/v-boys-soccer-btw-tuskeegee/
LOCATION:Montgomery Catholic Preparatory School\, 5350 Vaughn Rd\, Montgomery\, AL\, 36116\, United States
CATEGORIES:Athletics,High School
GEO:32.3400861;-86.2160027
X-APPLE-STRUCTURED-LOCATION;VALUE=URI;X-ADDRESS=Montgomery Catholic Preparatory School 5350 Vaughn Rd Montgomery AL 36116 United States;X-APPLE-RADIUS=500;X-TITLE=5350 Vaughn Rd:geo:-86.2160027,32.3400861
END:VEVENT
BEGIN:VEVENT
DTSTART;TZID=America/Chicago:20230309T160000
DTEND;TZID=America/Chicago:20230309T173000
DTSTAMP:20260422T020250
CREATED:20230213T184959Z
LAST-MODIFIED:20230213T184959Z
UID:10003978-1678377600-1678383000@montgomerycatholic.org
SUMMARY:V Softball Game vs. BTW
DESCRIPTION:
URL:https://montgomerycatholic.org/event/v-softball-game-vs-btw/
LOCATION:Montgomery Catholic Preparatory School\, 5350 Vaughn Rd\, Montgomery\, AL\, 36116\, United States
CATEGORIES:Athletics,High School
GEO:32.3400861;-86.2160027
X-APPLE-STRUCTURED-LOCATION;VALUE=URI;X-ADDRESS=Montgomery Catholic Preparatory School 5350 Vaughn Rd Montgomery AL 36116 United States;X-APPLE-RADIUS=500;X-TITLE=5350 Vaughn Rd:geo:-86.2160027,32.3400861
END:VEVENT
BEGIN:VEVENT
DTSTART;TZID=America/Chicago:20230307T190000
DTEND;TZID=America/Chicago:20230307T203000
DTSTAMP:20260422T020250
CREATED:20221107T185613Z
LAST-MODIFIED:20221107T185613Z
UID:10003787-1678215600-1678221000@montgomerycatholic.org
SUMMARY:V Boys Soccer Game vs. BTW
DESCRIPTION:
URL:https://montgomerycatholic.org/event/v-boys-soccer-game-vs-btw/
LOCATION:Montgomery Catholic Preparatory School\, 5350 Vaughn Rd\, Montgomery\, AL\, 36116\, United States
CATEGORIES:Athletics,High School
GEO:32.3400861;-86.2160027
X-APPLE-STRUCTURED-LOCATION;VALUE=URI;X-ADDRESS=Montgomery Catholic Preparatory School 5350 Vaughn Rd Montgomery AL 36116 United States;X-APPLE-RADIUS=500;X-TITLE=5350 Vaughn Rd:geo:-86.2160027,32.3400861
END:VEVENT
BEGIN:VEVENT
DTSTART;TZID=America/Chicago:20230307T173000
DTEND;TZID=America/Chicago:20230307T190000
DTSTAMP:20260422T020250
CREATED:20221107T185520Z
LAST-MODIFIED:20221107T185520Z
UID:10003785-1678210200-1678215600@montgomerycatholic.org
SUMMARY:V Girls Soccer Game vs. BTW
DESCRIPTION:
URL:https://montgomerycatholic.org/event/v-girls-soccer-game-vs-btw/
LOCATION:Montgomery Catholic Preparatory School\, 5350 Vaughn Rd\, Montgomery\, AL\, 36116\, United States
CATEGORIES:Athletics,High School
GEO:32.3400861;-86.2160027
X-APPLE-STRUCTURED-LOCATION;VALUE=URI;X-ADDRESS=Montgomery Catholic Preparatory School 5350 Vaughn Rd Montgomery AL 36116 United States;X-APPLE-RADIUS=500;X-TITLE=5350 Vaughn Rd:geo:-86.2160027,32.3400861
END:VEVENT
BEGIN:VEVENT
DTSTART;TZID=America/Chicago:20230304T123000
DTEND;TZID=America/Chicago:20230304T150000
DTSTAMP:20260422T020250
CREATED:20230117T170255Z
LAST-MODIFIED:20230117T170255Z
UID:10003922-1677933000-1677942000@montgomerycatholic.org
SUMMARY:V Baseball Game vs. Springfield
DESCRIPTION:
URL:https://montgomerycatholic.org/event/v-baseball-game-vs-springfield-2/
LOCATION:Montgomery Catholic Preparatory School\, 5350 Vaughn Rd\, Montgomery\, AL\, 36116\, United States
CATEGORIES:Athletics,High School
GEO:32.3400861;-86.2160027
X-APPLE-STRUCTURED-LOCATION;VALUE=URI;X-ADDRESS=Montgomery Catholic Preparatory School 5350 Vaughn Rd Montgomery AL 36116 United States;X-APPLE-RADIUS=500;X-TITLE=5350 Vaughn Rd:geo:-86.2160027,32.3400861
END:VEVENT
BEGIN:VEVENT
DTSTART;TZID=America/Chicago:20230304T100000
DTEND;TZID=America/Chicago:20230304T120000
DTSTAMP:20260422T020250
CREATED:20230113T184641Z
LAST-MODIFIED:20230113T184641Z
UID:10003899-1677924000-1677931200@montgomerycatholic.org
SUMMARY:JV Baseball Game vs. Springfield
DESCRIPTION:
URL:https://montgomerycatholic.org/event/jv-baseball-game-vs-springfield/
LOCATION:Montgomery Catholic Preparatory School\, 5350 Vaughn Rd\, Montgomery\, AL\, 36116\, United States
CATEGORIES:Athletics,High School
GEO:32.3400861;-86.2160027
X-APPLE-STRUCTURED-LOCATION;VALUE=URI;X-ADDRESS=Montgomery Catholic Preparatory School 5350 Vaughn Rd Montgomery AL 36116 United States;X-APPLE-RADIUS=500;X-TITLE=5350 Vaughn Rd:geo:-86.2160027,32.3400861
END:VEVENT
BEGIN:VEVENT
DTSTART;TZID=America/Chicago:20230303T143000
DTEND;TZID=America/Chicago:20230303T170000
DTSTAMP:20260422T020250
CREATED:20230117T170151Z
LAST-MODIFIED:20230117T170151Z
UID:10003917-1677853800-1677862800@montgomerycatholic.org
SUMMARY:V Baseball Game vs. Springfield
DESCRIPTION:
URL:https://montgomerycatholic.org/event/v-baseball-game-vs-springfield/
LOCATION:Montgomery Catholic Preparatory School\, 5350 Vaughn Rd\, Montgomery\, AL\, 36116\, United States
CATEGORIES:Athletics,High School
GEO:32.3400861;-86.2160027
X-APPLE-STRUCTURED-LOCATION;VALUE=URI;X-ADDRESS=Montgomery Catholic Preparatory School 5350 Vaughn Rd Montgomery AL 36116 United States;X-APPLE-RADIUS=500;X-TITLE=5350 Vaughn Rd:geo:-86.2160027,32.3400861
END:VEVENT
BEGIN:VEVENT
DTSTART;TZID=America/Chicago:20230302T190000
DTEND;TZID=America/Chicago:20230302T203000
DTSTAMP:20260422T020250
CREATED:20221107T182844Z
LAST-MODIFIED:20221107T182844Z
UID:10003131-1677783600-1677789000@montgomerycatholic.org
SUMMARY:V Boys Soccer Game vs. ACA
DESCRIPTION:
URL:https://montgomerycatholic.org/event/v-boys-soccer-game-vs-aca/
LOCATION:Montgomery Catholic Preparatory School\, 5350 Vaughn Rd\, Montgomery\, AL\, 36116\, United States
CATEGORIES:Athletics,High School
GEO:32.3400861;-86.2160027
X-APPLE-STRUCTURED-LOCATION;VALUE=URI;X-ADDRESS=Montgomery Catholic Preparatory School 5350 Vaughn Rd Montgomery AL 36116 United States;X-APPLE-RADIUS=500;X-TITLE=5350 Vaughn Rd:geo:-86.2160027,32.3400861
END:VEVENT
BEGIN:VEVENT
DTSTART;TZID=America/Chicago:20230302T173000
DTEND;TZID=America/Chicago:20230302T190000
DTSTAMP:20260422T020250
CREATED:20221107T182754Z
LAST-MODIFIED:20221107T182754Z
UID:10003130-1677778200-1677783600@montgomerycatholic.org
SUMMARY:V Girls Soccer Game vs. ACA
DESCRIPTION:
URL:https://montgomerycatholic.org/event/v-girls-soccer-game-vs-aca/
LOCATION:Montgomery Catholic Preparatory School\, 5350 Vaughn Rd\, Montgomery\, AL\, 36116\, United States
CATEGORIES:Athletics,High School
GEO:32.3400861;-86.2160027
X-APPLE-STRUCTURED-LOCATION;VALUE=URI;X-ADDRESS=Montgomery Catholic Preparatory School 5350 Vaughn Rd Montgomery AL 36116 United States;X-APPLE-RADIUS=500;X-TITLE=5350 Vaughn Rd:geo:-86.2160027,32.3400861
END:VEVENT
BEGIN:VEVENT
DTSTART;TZID=America/Chicago:20230301T140000
DTEND;TZID=America/Chicago:20230301T163000
DTSTAMP:20260422T020250
CREATED:20230117T165833Z
LAST-MODIFIED:20230223T150004Z
UID:10003210-1677679200-1677688200@montgomerycatholic.org
SUMMARY:V Baseball Game vs. MA
DESCRIPTION:
URL:https://montgomerycatholic.org/event/v-baseball-game-vs-ma/
LOCATION:Montgomery Catholic Preparatory School\, 5350 Vaughn Rd\, Montgomery\, AL\, 36116\, United States
CATEGORIES:Athletics,High School
GEO:32.3400861;-86.2160027
X-APPLE-STRUCTURED-LOCATION;VALUE=URI;X-ADDRESS=Montgomery Catholic Preparatory School 5350 Vaughn Rd Montgomery AL 36116 United States;X-APPLE-RADIUS=500;X-TITLE=5350 Vaughn Rd:geo:-86.2160027,32.3400861
END:VEVENT
BEGIN:VEVENT
DTSTART;TZID=America/Chicago:20230227T173000
DTEND;TZID=America/Chicago:20230227T190000
DTSTAMP:20260422T020250
CREATED:20221107T182319Z
LAST-MODIFIED:20230123T182625Z
UID:10003126-1677519000-1677524400@montgomerycatholic.org
SUMMARY:JV Boys Soccer Game vs. Trinity
DESCRIPTION:
URL:https://montgomerycatholic.org/event/jv-boys-soccer-game-vs-trinity/
LOCATION:Montgomery Catholic Preparatory School\, 5350 Vaughn Rd\, Montgomery\, AL\, 36116\, United States
CATEGORIES:Athletics,High School
GEO:32.3400861;-86.2160027
X-APPLE-STRUCTURED-LOCATION;VALUE=URI;X-ADDRESS=Montgomery Catholic Preparatory School 5350 Vaughn Rd Montgomery AL 36116 United States;X-APPLE-RADIUS=500;X-TITLE=5350 Vaughn Rd:geo:-86.2160027,32.3400861
END:VEVENT
BEGIN:VEVENT
DTSTART;TZID=America/Chicago:20230224T190000
DTEND;TZID=America/Chicago:20230224T203000
DTSTAMP:20260422T020250
CREATED:20221102T162131Z
LAST-MODIFIED:20221102T162131Z
UID:10003118-1677265200-1677270600@montgomerycatholic.org
SUMMARY:JV Girls Soccer Game vs. St. James
DESCRIPTION:
URL:https://montgomerycatholic.org/event/jv-girls-soccer-game-vs-st-james/
LOCATION:Montgomery Catholic Preparatory School\, 5350 Vaughn Rd\, Montgomery\, AL\, 36116\, United States
CATEGORIES:Athletics,High School
GEO:32.3400861;-86.2160027
X-APPLE-STRUCTURED-LOCATION;VALUE=URI;X-ADDRESS=Montgomery Catholic Preparatory School 5350 Vaughn Rd Montgomery AL 36116 United States;X-APPLE-RADIUS=500;X-TITLE=5350 Vaughn Rd:geo:-86.2160027,32.3400861
END:VEVENT
BEGIN:VEVENT
DTSTART;TZID=America/Chicago:20230224T173000
DTEND;TZID=America/Chicago:20230224T190000
DTSTAMP:20260422T020250
CREATED:20221102T162229Z
LAST-MODIFIED:20221102T162229Z
UID:10003120-1677259800-1677265200@montgomerycatholic.org
SUMMARY:JV Boys Soccer Game vs. St. James
DESCRIPTION:
URL:https://montgomerycatholic.org/event/jv-boys-soccer-game-vs-st-james/
LOCATION:Montgomery Catholic Preparatory School\, 5350 Vaughn Rd\, Montgomery\, AL\, 36116\, United States
CATEGORIES:Athletics,High School
GEO:32.3400861;-86.2160027
X-APPLE-STRUCTURED-LOCATION;VALUE=URI;X-ADDRESS=Montgomery Catholic Preparatory School 5350 Vaughn Rd Montgomery AL 36116 United States;X-APPLE-RADIUS=500;X-TITLE=5350 Vaughn Rd:geo:-86.2160027,32.3400861
END:VEVENT
BEGIN:VEVENT
DTSTART;TZID=America/Chicago:20230223T190000
DTEND;TZID=America/Chicago:20230223T203000
DTSTAMP:20260422T020250
CREATED:20221214T195922Z
LAST-MODIFIED:20221214T195922Z
UID:10003872-1677178800-1677184200@montgomerycatholic.org
SUMMARY:V Boys Soccer vs. BTW (Tuskeegee)
DESCRIPTION:
URL:https://montgomerycatholic.org/event/v-boys-soccer-vs-btw-tuskeegee/
LOCATION:Montgomery Catholic Preparatory School\, 5350 Vaughn Rd\, Montgomery\, AL\, 36116\, United States
CATEGORIES:Athletics,High School
GEO:32.3400861;-86.2160027
X-APPLE-STRUCTURED-LOCATION;VALUE=URI;X-ADDRESS=Montgomery Catholic Preparatory School 5350 Vaughn Rd Montgomery AL 36116 United States;X-APPLE-RADIUS=500;X-TITLE=5350 Vaughn Rd:geo:-86.2160027,32.3400861
END:VEVENT
BEGIN:VEVENT
DTSTART;TZID=America/Chicago:20230223T173000
DTEND;TZID=America/Chicago:20230223T190000
DTSTAMP:20260422T020250
CREATED:20221214T195835Z
LAST-MODIFIED:20221214T195835Z
UID:10003870-1677173400-1677178800@montgomerycatholic.org
SUMMARY:V Girls Soccer vs. BTW (Tuskeegee)
DESCRIPTION:
URL:https://montgomerycatholic.org/event/v-girls-soccer-vs-btw-tuskeegee/
LOCATION:Montgomery Catholic Preparatory School\, 5350 Vaughn Rd\, Montgomery\, AL\, 36116\, United States
CATEGORIES:Athletics,High School
GEO:32.3400861;-86.2160027
X-APPLE-STRUCTURED-LOCATION;VALUE=URI;X-ADDRESS=Montgomery Catholic Preparatory School 5350 Vaughn Rd Montgomery AL 36116 United States;X-APPLE-RADIUS=500;X-TITLE=5350 Vaughn Rd:geo:-86.2160027,32.3400861
END:VEVENT
BEGIN:VEVENT
DTSTART;TZID=America/Chicago:20230223T153000
DTEND;TZID=America/Chicago:20230223T170000
DTSTAMP:20260422T020250
CREATED:20230213T183821Z
LAST-MODIFIED:20230213T183821Z
UID:10003961-1677166200-1677171600@montgomerycatholic.org
SUMMARY:V Softball vs. St. James
DESCRIPTION:
URL:https://montgomerycatholic.org/event/v-softball-vs-st-james/
LOCATION:Montgomery Catholic Preparatory School\, 5350 Vaughn Rd\, Montgomery\, AL\, 36116\, United States
CATEGORIES:Athletics,High School
GEO:32.3400861;-86.2160027
X-APPLE-STRUCTURED-LOCATION;VALUE=URI;X-ADDRESS=Montgomery Catholic Preparatory School 5350 Vaughn Rd Montgomery AL 36116 United States;X-APPLE-RADIUS=500;X-TITLE=5350 Vaughn Rd:geo:-86.2160027,32.3400861
END:VEVENT
BEGIN:VEVENT
DTSTART;TZID=America/Chicago:20230222T183000
DTEND;TZID=America/Chicago:20230222T193000
DTSTAMP:20260422T020250
CREATED:20221214T154059Z
LAST-MODIFIED:20221214T154059Z
UID:10003852-1677090600-1677094200@montgomerycatholic.org
SUMMARY:Child Protection Training - Room #10 in the High School
DESCRIPTION:
URL:https://montgomerycatholic.org/event/child-protection-training-room-10-in-the-high-school-6/
LOCATION:Montgomery Catholic Preparatory School\, 5350 Vaughn Rd\, Montgomery\, AL\, 36116\, United States
CATEGORIES:High School,Holy Spirit,Middle School,St. Bede
GEO:32.3400861;-86.2160027
X-APPLE-STRUCTURED-LOCATION;VALUE=URI;X-ADDRESS=Montgomery Catholic Preparatory School 5350 Vaughn Rd Montgomery AL 36116 United States;X-APPLE-RADIUS=500;X-TITLE=5350 Vaughn Rd:geo:-86.2160027,32.3400861
END:VEVENT
END:VCALENDAR