BEGIN:VCALENDAR
VERSION:2.0
PRODID:-//Montgomery Catholic - ECPv6.15.20//NONSGML v1.0//EN
CALSCALE:GREGORIAN
METHOD:PUBLISH
X-ORIGINAL-URL:https://montgomerycatholic.org
X-WR-CALDESC:Events for Montgomery Catholic
REFRESH-INTERVAL;VALUE=DURATION:PT1H
X-Robots-Tag:noindex
X-PUBLISHED-TTL:PT1H
BEGIN:VTIMEZONE
TZID:America/Chicago
BEGIN:DAYLIGHT
TZOFFSETFROM:-0600
TZOFFSETTO:-0500
TZNAME:CDT
DTSTART:20210314T080000
END:DAYLIGHT
BEGIN:STANDARD
TZOFFSETFROM:-0500
TZOFFSETTO:-0600
TZNAME:CST
DTSTART:20211107T070000
END:STANDARD
BEGIN:DAYLIGHT
TZOFFSETFROM:-0600
TZOFFSETTO:-0500
TZNAME:CDT
DTSTART:20220313T080000
END:DAYLIGHT
BEGIN:STANDARD
TZOFFSETFROM:-0500
TZOFFSETTO:-0600
TZNAME:CST
DTSTART:20221106T070000
END:STANDARD
BEGIN:DAYLIGHT
TZOFFSETFROM:-0600
TZOFFSETTO:-0500
TZNAME:CDT
DTSTART:20230312T080000
END:DAYLIGHT
BEGIN:STANDARD
TZOFFSETFROM:-0500
TZOFFSETTO:-0600
TZNAME:CST
DTSTART:20231105T070000
END:STANDARD
END:VTIMEZONE
BEGIN:VEVENT
DTSTART;TZID=America/Chicago:20220321T180000
DTEND;TZID=America/Chicago:20220321T200000
DTSTAMP:20260421T105427
CREATED:20220223T184222Z
LAST-MODIFIED:20220223T184222Z
UID:10002771-1647885600-1647892800@montgomerycatholic.org
SUMMARY:Varsity Baseball @ Brew Tech
DESCRIPTION:
URL:https://montgomerycatholic.org/event/varsity-baseball-brew-tech/
LOCATION:Brewbaker Technology Magnet High School\, 4405 Brewbaker Dr\, Montgomery\, AL\, 36116\, United States
CATEGORIES:Athletics,High School,Middle School
ORGANIZER;CN="Cam Lewis":MAILTO:clewis@montgomerycatholic.org
GEO:32.3236754;-86.2196669
X-APPLE-STRUCTURED-LOCATION;VALUE=URI;X-ADDRESS=Brewbaker Technology Magnet High School 4405 Brewbaker Dr Montgomery AL 36116 United States;X-APPLE-RADIUS=500;X-TITLE=4405 Brewbaker Dr:geo:-86.2196669,32.3236754
END:VEVENT
BEGIN:VEVENT
DTSTART;TZID=America/Chicago:20220321T160000
DTEND;TZID=America/Chicago:20220321T173000
DTSTAMP:20260421T105427
CREATED:20220222T214958Z
LAST-MODIFIED:20220222T214958Z
UID:10003103-1647878400-1647883800@montgomerycatholic.org
SUMMARY:JV Baseball @ Brew Tech
DESCRIPTION:
URL:https://montgomerycatholic.org/event/jv-baseball-brew-tech/
LOCATION:Brewbaker Technology Magnet High School\, 4405 Brewbaker Dr\, Montgomery\, AL\, 36116\, United States
CATEGORIES:Athletics,High School,Middle School
ORGANIZER;CN="Cam Lewis":MAILTO:clewis@montgomerycatholic.org
GEO:32.3236754;-86.2196669
X-APPLE-STRUCTURED-LOCATION;VALUE=URI;X-ADDRESS=Brewbaker Technology Magnet High School 4405 Brewbaker Dr Montgomery AL 36116 United States;X-APPLE-RADIUS=500;X-TITLE=4405 Brewbaker Dr:geo:-86.2196669,32.3236754
END:VEVENT
BEGIN:VEVENT
DTSTART;TZID=America/Chicago:20220122T163000
DTEND;TZID=America/Chicago:20220122T173000
DTSTAMP:20260421T105427
CREATED:20211014T153450Z
LAST-MODIFIED:20211014T153450Z
UID:10002585-1642869000-1642872600@montgomerycatholic.org
SUMMARY:V Boys Basketball @ Brew Tech
DESCRIPTION:
URL:https://montgomerycatholic.org/event/v-boys-basketball-brew-tech/
LOCATION:Brewbaker Technology Magnet High School\, 4405 Brewbaker Dr\, Montgomery\, AL\, 36116\, United States
CATEGORIES:Athletics,High School
GEO:32.3236754;-86.2196669
X-APPLE-STRUCTURED-LOCATION;VALUE=URI;X-ADDRESS=Brewbaker Technology Magnet High School 4405 Brewbaker Dr Montgomery AL 36116 United States;X-APPLE-RADIUS=500;X-TITLE=4405 Brewbaker Dr:geo:-86.2196669,32.3236754
END:VEVENT
BEGIN:VEVENT
DTSTART;TZID=America/Chicago:20220122T150000
DTEND;TZID=America/Chicago:20220122T160000
DTSTAMP:20260421T105427
CREATED:20211014T152901Z
LAST-MODIFIED:20211014T152945Z
UID:10002583-1642863600-1642867200@montgomerycatholic.org
SUMMARY:V Girls Basketball @ Brew Tech
DESCRIPTION:
URL:https://montgomerycatholic.org/event/v-girls-basketball-brew-tech/
LOCATION:Brewbaker Technology Magnet High School\, 4405 Brewbaker Dr\, Montgomery\, AL\, 36116\, United States
CATEGORIES:Athletics,High School
GEO:32.3236754;-86.2196669
X-APPLE-STRUCTURED-LOCATION;VALUE=URI;X-ADDRESS=Brewbaker Technology Magnet High School 4405 Brewbaker Dr Montgomery AL 36116 United States;X-APPLE-RADIUS=500;X-TITLE=4405 Brewbaker Dr:geo:-86.2196669,32.3236754
END:VEVENT
BEGIN:VEVENT
DTSTART;TZID=America/Chicago:20220122T140000
DTEND;TZID=America/Chicago:20220122T150000
DTSTAMP:20260421T105427
CREATED:20211014T152737Z
LAST-MODIFIED:20211014T152737Z
UID:10002581-1642860000-1642863600@montgomerycatholic.org
SUMMARY:JV Boys Basketball @ Brew Tech
DESCRIPTION:
URL:https://montgomerycatholic.org/event/jv-boys-basketball-brew-tech/
LOCATION:Brewbaker Technology Magnet High School\, 4405 Brewbaker Dr\, Montgomery\, AL\, 36116\, United States
CATEGORIES:Athletics,High School
GEO:32.3236754;-86.2196669
X-APPLE-STRUCTURED-LOCATION;VALUE=URI;X-ADDRESS=Brewbaker Technology Magnet High School 4405 Brewbaker Dr Montgomery AL 36116 United States;X-APPLE-RADIUS=500;X-TITLE=4405 Brewbaker Dr:geo:-86.2196669,32.3236754
END:VEVENT
END:VCALENDAR