BEGIN:VCALENDAR
VERSION:2.0
PRODID:-//Montgomery Catholic - ECPv6.15.20//NONSGML v1.0//EN
CALSCALE:GREGORIAN
METHOD:PUBLISH
X-ORIGINAL-URL:https://montgomerycatholic.org
X-WR-CALDESC:Events for Montgomery Catholic
REFRESH-INTERVAL;VALUE=DURATION:PT1H
X-Robots-Tag:noindex
X-PUBLISHED-TTL:PT1H
BEGIN:VTIMEZONE
TZID:America/Chicago
BEGIN:DAYLIGHT
TZOFFSETFROM:-0600
TZOFFSETTO:-0500
TZNAME:CDT
DTSTART:20230312T080000
END:DAYLIGHT
BEGIN:STANDARD
TZOFFSETFROM:-0500
TZOFFSETTO:-0600
TZNAME:CST
DTSTART:20231105T070000
END:STANDARD
BEGIN:DAYLIGHT
TZOFFSETFROM:-0600
TZOFFSETTO:-0500
TZNAME:CDT
DTSTART:20240310T080000
END:DAYLIGHT
BEGIN:STANDARD
TZOFFSETFROM:-0500
TZOFFSETTO:-0600
TZNAME:CST
DTSTART:20241103T070000
END:STANDARD
BEGIN:DAYLIGHT
TZOFFSETFROM:-0600
TZOFFSETTO:-0500
TZNAME:CDT
DTSTART:20250309T080000
END:DAYLIGHT
BEGIN:STANDARD
TZOFFSETFROM:-0500
TZOFFSETTO:-0600
TZNAME:CST
DTSTART:20251102T070000
END:STANDARD
END:VTIMEZONE
BEGIN:VEVENT
DTSTART;VALUE=DATE:20240308
DTEND;VALUE=DATE:20240309
DTSTAMP:20260419T231149
CREATED:20230802T150908Z
LAST-MODIFIED:20230802T150908Z
UID:10004161-1709856000-1709942399@montgomerycatholic.org
SUMMARY:End of Q3
DESCRIPTION:
URL:https://montgomerycatholic.org/event/end-of-q3/
LOCATION:AL
CATEGORIES:High School,Holy Spirit,Middle School,St. Bede
END:VEVENT
BEGIN:VEVENT
DTSTART;TZID=America/Chicago:20240311T080000
DTEND;TZID=America/Chicago:20240311T120000
DTSTAMP:20260419T231149
CREATED:20230802T155113Z
LAST-MODIFIED:20230802T155149Z
UID:10004169-1710144000-1710158400@montgomerycatholic.org
SUMMARY:Iowa Testing - Elementary Campuses
DESCRIPTION:Morning Testing
URL:https://montgomerycatholic.org/event/iowa-testing-elementary-campuses/
LOCATION:AL
CATEGORIES:Holy Spirit,St. Bede
END:VEVENT
BEGIN:VEVENT
DTSTART;TZID=America/Chicago:20240312T080000
DTEND;TZID=America/Chicago:20240312T120000
DTSTAMP:20260419T231149
CREATED:20230802T155937Z
LAST-MODIFIED:20230802T155937Z
UID:10004170-1710230400-1710244800@montgomerycatholic.org
SUMMARY:Iowa Testing - Elementary Campuses
DESCRIPTION:Morning testing
URL:https://montgomerycatholic.org/event/iowa-testing-elementary-campuses-2/
LOCATION:AL
CATEGORIES:Holy Spirit,St. Bede
END:VEVENT
BEGIN:VEVENT
DTSTART;TZID=America/Chicago:20240314T080000
DTEND;TZID=America/Chicago:20240314T120000
DTSTAMP:20260419T231149
CREATED:20230803T150609Z
LAST-MODIFIED:20230803T150609Z
UID:10004174-1710403200-1710417600@montgomerycatholic.org
SUMMARY:Iowa Testing - Elementary Campuses
DESCRIPTION:Morning Testing
URL:https://montgomerycatholic.org/event/iowa-testing-elementary-campuses-4/
LOCATION:AL
CATEGORIES:Holy Spirit,St. Bede
END:VEVENT
BEGIN:VEVENT
DTSTART;VALUE=DATE:20240315
DTEND;VALUE=DATE:20240316
DTSTAMP:20260419T231149
CREATED:20230802T154513Z
LAST-MODIFIED:20230802T154513Z
UID:10004164-1710460800-1710547199@montgomerycatholic.org
SUMMARY:Q3 Report Cards sent home
DESCRIPTION:Elementary Campuses only
URL:https://montgomerycatholic.org/event/q3-report-cards-sent-home/
LOCATION:AL
CATEGORIES:Holy Spirit,St. Bede
END:VEVENT
BEGIN:VEVENT
DTSTART;VALUE=DATE:20240318
DTEND;VALUE=DATE:20240320
DTSTAMP:20260419T231149
CREATED:20230803T151106Z
LAST-MODIFIED:20230803T151106Z
UID:10004176-1710720000-1710892799@montgomerycatholic.org
SUMMARY:Elementary CogAT testing
DESCRIPTION:Testing will be in the morning each day
URL:https://montgomerycatholic.org/event/elementary-cogat-testing/
LOCATION:AL
CATEGORIES:Holy Spirit,St. Bede
END:VEVENT
BEGIN:VEVENT
DTSTART;VALUE=DATE:20240322
DTEND;VALUE=DATE:20240323
DTSTAMP:20260419T231149
CREATED:20230803T151415Z
LAST-MODIFIED:20230803T151415Z
UID:10004178-1711065600-1711151999@montgomerycatholic.org
SUMMARY:Elementary Field Day @ High School Campus - Early Dismissal
DESCRIPTION:
URL:https://montgomerycatholic.org/event/elementary-field-day-high-school-campus-early-dismissal/
LOCATION:AL
CATEGORIES:Holy Spirit,St. Bede
END:VEVENT
BEGIN:VEVENT
DTSTART;VALUE=DATE:20240327
DTEND;VALUE=DATE:20240328
DTSTAMP:20260419T231149
CREATED:20230803T151757Z
LAST-MODIFIED:20230803T151757Z
UID:10004181-1711497600-1711583999@montgomerycatholic.org
SUMMARY:Spy Wednesday Mass - All Campuses
DESCRIPTION:
URL:https://montgomerycatholic.org/event/spy-wednesday-mass-all-campuses/
LOCATION:AL
CATEGORIES:High School,Holy Spirit,Middle School,St. Bede
END:VEVENT
BEGIN:VEVENT
DTSTART;VALUE=DATE:20240329
DTEND;VALUE=DATE:20240330
DTSTAMP:20260419T231149
CREATED:20230601T142054Z
LAST-MODIFIED:20230601T142054Z
UID:10003304-1711670400-1711756799@montgomerycatholic.org
SUMMARY:Good Friday - No Classes
DESCRIPTION:
URL:https://montgomerycatholic.org/event/good-friday-no-classes/
LOCATION:AL
CATEGORIES:High School,Holy Spirit,Middle School,St. Bede
END:VEVENT
BEGIN:VEVENT
DTSTART;VALUE=DATE:20240329
DTEND;VALUE=DATE:20240330
DTSTAMP:20260419T231149
CREATED:20230803T152219Z
LAST-MODIFIED:20230803T152219Z
UID:10003377-1711670400-1711756799@montgomerycatholic.org
SUMMARY:Good Friday - No School
DESCRIPTION:
URL:https://montgomerycatholic.org/event/good-friday-no-school/
LOCATION:AL
CATEGORIES:High School,Holy Spirit,Middle School,St. Bede
END:VEVENT
END:VCALENDAR