BEGIN:VCALENDAR
VERSION:2.0
PRODID:-//Montgomery Catholic - ECPv6.15.20//NONSGML v1.0//EN
CALSCALE:GREGORIAN
METHOD:PUBLISH
X-ORIGINAL-URL:https://montgomerycatholic.org
X-WR-CALDESC:Events for Montgomery Catholic
REFRESH-INTERVAL;VALUE=DURATION:PT1H
X-Robots-Tag:noindex
X-PUBLISHED-TTL:PT1H
BEGIN:VTIMEZONE
TZID:UTC
BEGIN:STANDARD
TZOFFSETFROM:+0000
TZOFFSETTO:+0000
TZNAME:UTC
DTSTART:20210101T000000
END:STANDARD
END:VTIMEZONE
BEGIN:VEVENT
DTSTART;VALUE=DATE:20220913
DTEND;VALUE=DATE:20220914
DTSTAMP:20260424T202912
CREATED:20220812T133908Z
LAST-MODIFIED:20220812T133908Z
UID:10003513-1663027200-1663113599@montgomerycatholic.org
SUMMARY:MS Volleyball Game @ MA (Time TBD)
DESCRIPTION:
URL:https://montgomerycatholic.org/event/ms-volleyball-game-ma-time-tbd/
LOCATION:AL
CATEGORIES:Athletics,Middle School
END:VEVENT
END:VCALENDAR