BEGIN:VCALENDAR
VERSION:2.0
PRODID:-//Montgomery Catholic - ECPv6.15.20//NONSGML v1.0//EN
CALSCALE:GREGORIAN
METHOD:PUBLISH
X-ORIGINAL-URL:https://montgomerycatholic.org
X-WR-CALDESC:Events for Montgomery Catholic
REFRESH-INTERVAL;VALUE=DURATION:PT1H
X-Robots-Tag:noindex
X-PUBLISHED-TTL:PT1H
BEGIN:VTIMEZONE
TZID:America/Chicago
BEGIN:DAYLIGHT
TZOFFSETFROM:-0600
TZOFFSETTO:-0500
TZNAME:CDT
DTSTART:20210314T080000
END:DAYLIGHT
BEGIN:STANDARD
TZOFFSETFROM:-0500
TZOFFSETTO:-0600
TZNAME:CST
DTSTART:20211107T070000
END:STANDARD
BEGIN:DAYLIGHT
TZOFFSETFROM:-0600
TZOFFSETTO:-0500
TZNAME:CDT
DTSTART:20220313T080000
END:DAYLIGHT
BEGIN:STANDARD
TZOFFSETFROM:-0500
TZOFFSETTO:-0600
TZNAME:CST
DTSTART:20221106T070000
END:STANDARD
BEGIN:DAYLIGHT
TZOFFSETFROM:-0600
TZOFFSETTO:-0500
TZNAME:CDT
DTSTART:20230312T080000
END:DAYLIGHT
BEGIN:STANDARD
TZOFFSETFROM:-0500
TZOFFSETTO:-0600
TZNAME:CST
DTSTART:20231105T070000
END:STANDARD
END:VTIMEZONE
BEGIN:VEVENT
DTSTART;VALUE=DATE:20220402
DTEND;VALUE=DATE:20220403
DTSTAMP:20260424T123039
CREATED:20220301T160331Z
LAST-MODIFIED:20220301T160331Z
UID:10002785-1648857600-1648943999@montgomerycatholic.org
SUMMARY:Outdoor Track/Montgomery Academy
DESCRIPTION:
URL:https://montgomerycatholic.org/event/outdoor-track-montgomery-academy/
LOCATION:AL
CATEGORIES:Athletics,High School,Middle School
ORGANIZER;CN="Sinead Turner":MAILTO:sturner@montgomerycatholic.org
END:VEVENT
BEGIN:VEVENT
DTSTART;TZID=America/Chicago:20220402T110000
DTEND;TZID=America/Chicago:20220402T143000
DTSTAMP:20260424T123039
CREATED:20220222T220246Z
LAST-MODIFIED:20220222T220246Z
UID:10003114-1648897200-1648909800@montgomerycatholic.org
SUMMARY:JV Baseball vs MA (DH)
DESCRIPTION:
URL:https://montgomerycatholic.org/event/jv-baseball-vs-ma-dh/
LOCATION:Montgomery Catholic Preparatory School\, 5350 Vaughn Rd\, Montgomery\, AL\, 36116\, United States
CATEGORIES:Athletics,High School,Middle School
ORGANIZER;CN="Cam Lewis":MAILTO:clewis@montgomerycatholic.org
GEO:32.3400861;-86.2160027
X-APPLE-STRUCTURED-LOCATION;VALUE=URI;X-ADDRESS=Montgomery Catholic Preparatory School 5350 Vaughn Rd Montgomery AL 36116 United States;X-APPLE-RADIUS=500;X-TITLE=5350 Vaughn Rd:geo:-86.2160027,32.3400861
END:VEVENT
END:VCALENDAR