BEGIN:VCALENDAR
VERSION:2.0
PRODID:-//Montgomery Catholic - ECPv6.15.20//NONSGML v1.0//EN
CALSCALE:GREGORIAN
METHOD:PUBLISH
X-WR-CALNAME:Montgomery Catholic
X-ORIGINAL-URL:https://montgomerycatholic.org
X-WR-CALDESC:Events for Montgomery Catholic
REFRESH-INTERVAL;VALUE=DURATION:PT1H
X-Robots-Tag:noindex
X-PUBLISHED-TTL:PT1H
BEGIN:VTIMEZONE
TZID:UTC
BEGIN:STANDARD
TZOFFSETFROM:+0000
TZOFFSETTO:+0000
TZNAME:UTC
DTSTART:20210101T000000
END:STANDARD
END:VTIMEZONE
BEGIN:VEVENT
DTSTART;VALUE=DATE:20220210
DTEND;VALUE=DATE:20220211
DTSTAMP:20260424T104937
CREATED:20220127T185503Z
LAST-MODIFIED:20220127T185503Z
UID:10002979-1644451200-1644537599@montgomerycatholic.org
SUMMARY:Junior Varsity Boys CC Tournament @ YMCA Soccer Complex
DESCRIPTION:
URL:https://montgomerycatholic.org/event/junior-varsity-boys-cc-tournament-ymca-soccer-complex/
LOCATION:Emory Folmar YMCA Soccer Complex\, 300 Brown Springs Road\, Montgomery\, AL\, 36117\, United States
CATEGORIES:Athletics,High School,Middle School
ORGANIZER;CN="Rick Aaron":MAILTO:raaron@montgomerycatholic.org
GEO:32.376371;-86.1815333
X-APPLE-STRUCTURED-LOCATION;VALUE=URI;X-ADDRESS=Emory Folmar YMCA Soccer Complex 300 Brown Springs Road Montgomery AL 36117 United States;X-APPLE-RADIUS=500;X-TITLE=300 Brown Springs Road:geo:-86.1815333,32.376371
END:VEVENT
END:VCALENDAR