BEGIN:VCALENDAR
VERSION:2.0
PRODID:-//Montgomery Catholic - ECPv6.15.20//NONSGML v1.0//EN
CALSCALE:GREGORIAN
METHOD:PUBLISH
X-ORIGINAL-URL:https://montgomerycatholic.org
X-WR-CALDESC:Events for Montgomery Catholic
REFRESH-INTERVAL;VALUE=DURATION:PT1H
X-Robots-Tag:noindex
X-PUBLISHED-TTL:PT1H
BEGIN:VTIMEZONE
TZID:America/Chicago
BEGIN:DAYLIGHT
TZOFFSETFROM:-0600
TZOFFSETTO:-0500
TZNAME:CDT
DTSTART:20200308T080000
END:DAYLIGHT
BEGIN:STANDARD
TZOFFSETFROM:-0500
TZOFFSETTO:-0600
TZNAME:CST
DTSTART:20201101T070000
END:STANDARD
BEGIN:DAYLIGHT
TZOFFSETFROM:-0600
TZOFFSETTO:-0500
TZNAME:CDT
DTSTART:20210314T080000
END:DAYLIGHT
BEGIN:STANDARD
TZOFFSETFROM:-0500
TZOFFSETTO:-0600
TZNAME:CST
DTSTART:20211107T070000
END:STANDARD
BEGIN:DAYLIGHT
TZOFFSETFROM:-0600
TZOFFSETTO:-0500
TZNAME:CDT
DTSTART:20220313T080000
END:DAYLIGHT
BEGIN:STANDARD
TZOFFSETFROM:-0500
TZOFFSETTO:-0600
TZNAME:CST
DTSTART:20221106T070000
END:STANDARD
END:VTIMEZONE
BEGIN:VEVENT
DTSTART;TZID=America/Chicago:20210903T190000
DTEND;TZID=America/Chicago:20210903T220000
DTSTAMP:20260424T195932
CREATED:20210728T205854Z
LAST-MODIFIED:20210728T205854Z
UID:10002483-1630695600-1630706400@montgomerycatholic.org
SUMMARY:V Football @ Dadeville
DESCRIPTION:
URL:https://montgomerycatholic.org/event/v-football-dadeville/
LOCATION:Dadeville\, 227 Weldon St\, Dadeville\, AL\, 36853
CATEGORIES:Athletics
GEO:32.8286853;-85.755229
X-APPLE-STRUCTURED-LOCATION;VALUE=URI;X-ADDRESS=Dadeville 227 Weldon St Dadeville AL 36853;X-APPLE-RADIUS=500;X-TITLE=227 Weldon St:geo:-85.755229,32.8286853
END:VEVENT
BEGIN:VEVENT
DTSTART;TZID=America/Chicago:20210804T130000
DTEND;TZID=America/Chicago:20210804T160000
DTSTAMP:20260424T195932
CREATED:20210728T203130Z
LAST-MODIFIED:20210728T203130Z
UID:10002476-1628082000-1628092800@montgomerycatholic.org
SUMMARY:Cheerleading Summer Camp
DESCRIPTION:For Rising K-6th grade Boys \nIn the High School Field House
URL:https://montgomerycatholic.org/event/cheerleading-summer-camp/2021-08-04/
LOCATION:Montgomery Catholic Preparatory School\, 5350 Vaughn Rd\, Montgomery\, AL\, 36116\, United States
CATEGORIES:Athletics
GEO:32.3400861;-86.2160027
X-APPLE-STRUCTURED-LOCATION;VALUE=URI;X-ADDRESS=Montgomery Catholic Preparatory School 5350 Vaughn Rd Montgomery AL 36116 United States;X-APPLE-RADIUS=500;X-TITLE=5350 Vaughn Rd:geo:-86.2160027,32.3400861
END:VEVENT
BEGIN:VEVENT
DTSTART;TZID=America/Chicago:20210803T130000
DTEND;TZID=America/Chicago:20210803T160000
DTSTAMP:20260424T195932
CREATED:20210728T203130Z
LAST-MODIFIED:20210728T203130Z
UID:10002475-1627995600-1628006400@montgomerycatholic.org
SUMMARY:Cheerleading Summer Camp
DESCRIPTION:For Rising K-6th grade Boys \nIn the High School Field House
URL:https://montgomerycatholic.org/event/cheerleading-summer-camp/2021-08-03/
LOCATION:Montgomery Catholic Preparatory School\, 5350 Vaughn Rd\, Montgomery\, AL\, 36116\, United States
CATEGORIES:Athletics
GEO:32.3400861;-86.2160027
X-APPLE-STRUCTURED-LOCATION;VALUE=URI;X-ADDRESS=Montgomery Catholic Preparatory School 5350 Vaughn Rd Montgomery AL 36116 United States;X-APPLE-RADIUS=500;X-TITLE=5350 Vaughn Rd:geo:-86.2160027,32.3400861
END:VEVENT
BEGIN:VEVENT
DTSTART;TZID=America/Chicago:20210802T130000
DTEND;TZID=America/Chicago:20210802T160000
DTSTAMP:20260424T195932
CREATED:20210728T203130Z
LAST-MODIFIED:20210728T203130Z
UID:10002474-1627909200-1627920000@montgomerycatholic.org
SUMMARY:Cheerleading Summer Camp
DESCRIPTION:For Rising K-6th grade Boys \nIn the High School Field House
URL:https://montgomerycatholic.org/event/cheerleading-summer-camp/2021-08-02/
LOCATION:Montgomery Catholic Preparatory School\, 5350 Vaughn Rd\, Montgomery\, AL\, 36116\, United States
CATEGORIES:Athletics
GEO:32.3400861;-86.2160027
X-APPLE-STRUCTURED-LOCATION;VALUE=URI;X-ADDRESS=Montgomery Catholic Preparatory School 5350 Vaughn Rd Montgomery AL 36116 United States;X-APPLE-RADIUS=500;X-TITLE=5350 Vaughn Rd:geo:-86.2160027,32.3400861
END:VEVENT
BEGIN:VEVENT
DTSTART;TZID=America/Chicago:20210728T083000
DTEND;TZID=America/Chicago:20210728T113000
DTSTAMP:20260424T195932
CREATED:20210728T202109Z
LAST-MODIFIED:20210728T202629Z
UID:10002463-1627461000-1627471800@montgomerycatholic.org
SUMMARY:Football Summer Camp
DESCRIPTION:For Rising K-6th grade Boys \nOn the High School Football Field
URL:https://montgomerycatholic.org/event/football-summer-camp/2021-07-28/
LOCATION:Montgomery Catholic Preparatory School\, 5350 Vaughn Rd\, Montgomery\, AL\, 36116\, United States
CATEGORIES:Athletics
GEO:32.3400861;-86.2160027
X-APPLE-STRUCTURED-LOCATION;VALUE=URI;X-ADDRESS=Montgomery Catholic Preparatory School 5350 Vaughn Rd Montgomery AL 36116 United States;X-APPLE-RADIUS=500;X-TITLE=5350 Vaughn Rd:geo:-86.2160027,32.3400861
END:VEVENT
BEGIN:VEVENT
DTSTART;TZID=America/Chicago:20210727T083000
DTEND;TZID=America/Chicago:20210727T113000
DTSTAMP:20260424T195932
CREATED:20210728T202109Z
LAST-MODIFIED:20210728T202629Z
UID:10002462-1627374600-1627385400@montgomerycatholic.org
SUMMARY:Football Summer Camp
DESCRIPTION:For Rising K-6th grade Boys \nOn the High School Football Field
URL:https://montgomerycatholic.org/event/football-summer-camp/2021-07-27/
LOCATION:Montgomery Catholic Preparatory School\, 5350 Vaughn Rd\, Montgomery\, AL\, 36116\, United States
CATEGORIES:Athletics
GEO:32.3400861;-86.2160027
X-APPLE-STRUCTURED-LOCATION;VALUE=URI;X-ADDRESS=Montgomery Catholic Preparatory School 5350 Vaughn Rd Montgomery AL 36116 United States;X-APPLE-RADIUS=500;X-TITLE=5350 Vaughn Rd:geo:-86.2160027,32.3400861
END:VEVENT
BEGIN:VEVENT
DTSTART;TZID=America/Chicago:20210726T083000
DTEND;TZID=America/Chicago:20210726T113000
DTSTAMP:20260424T195932
CREATED:20210728T202109Z
LAST-MODIFIED:20210728T202629Z
UID:10002461-1627288200-1627299000@montgomerycatholic.org
SUMMARY:Football Summer Camp
DESCRIPTION:For Rising K-6th grade Boys \nOn the High School Football Field
URL:https://montgomerycatholic.org/event/football-summer-camp/2021-07-26/
LOCATION:Montgomery Catholic Preparatory School\, 5350 Vaughn Rd\, Montgomery\, AL\, 36116\, United States
CATEGORIES:Athletics
GEO:32.3400861;-86.2160027
X-APPLE-STRUCTURED-LOCATION;VALUE=URI;X-ADDRESS=Montgomery Catholic Preparatory School 5350 Vaughn Rd Montgomery AL 36116 United States;X-APPLE-RADIUS=500;X-TITLE=5350 Vaughn Rd:geo:-86.2160027,32.3400861
END:VEVENT
BEGIN:VEVENT
DTSTART;TZID=America/Chicago:20210714T090000
DTEND;TZID=America/Chicago:20210714T160000
DTSTAMP:20260424T195932
CREATED:20210728T200937Z
LAST-MODIFIED:20210728T200937Z
UID:10002444-1626253200-1626278400@montgomerycatholic.org
SUMMARY:Cheerleading UCA Home Camp
DESCRIPTION:Montgomery Catholic welcomes UCA for our Cheerleading Home Camp at PICE Arena on July 12\, 13\, & 14\, 2021. \nGo Knights!
URL:https://montgomerycatholic.org/event/cheerleading-uca-home-camp/2021-07-14/
LOCATION:Montgomery Catholic Preparatory School\, 5350 Vaughn Rd\, Montgomery\, AL\, 36116\, United States
CATEGORIES:Athletics
GEO:32.3400861;-86.2160027
X-APPLE-STRUCTURED-LOCATION;VALUE=URI;X-ADDRESS=Montgomery Catholic Preparatory School 5350 Vaughn Rd Montgomery AL 36116 United States;X-APPLE-RADIUS=500;X-TITLE=5350 Vaughn Rd:geo:-86.2160027,32.3400861
END:VEVENT
BEGIN:VEVENT
DTSTART;TZID=America/Chicago:20210714T083000
DTEND;TZID=America/Chicago:20210714T113000
DTSTAMP:20260424T195932
CREATED:20210728T200745Z
LAST-MODIFIED:20210728T200745Z
UID:10002441-1626251400-1626262200@montgomerycatholic.org
SUMMARY:Baseball Summer Camp
DESCRIPTION:For Rising K-6th grade Boys \nOn the High School Baseball Field
URL:https://montgomerycatholic.org/event/baseball-summer-camp/2021-07-14/
LOCATION:Montgomery Catholic Preparatory School\, 5350 Vaughn Rd\, Montgomery\, AL\, 36116\, United States
CATEGORIES:Athletics
GEO:32.3400861;-86.2160027
X-APPLE-STRUCTURED-LOCATION;VALUE=URI;X-ADDRESS=Montgomery Catholic Preparatory School 5350 Vaughn Rd Montgomery AL 36116 United States;X-APPLE-RADIUS=500;X-TITLE=5350 Vaughn Rd:geo:-86.2160027,32.3400861
END:VEVENT
BEGIN:VEVENT
DTSTART;TZID=America/Chicago:20210713T090000
DTEND;TZID=America/Chicago:20210713T160000
DTSTAMP:20260424T195932
CREATED:20210728T200937Z
LAST-MODIFIED:20210728T200937Z
UID:10002443-1626166800-1626192000@montgomerycatholic.org
SUMMARY:Cheerleading UCA Home Camp
DESCRIPTION:Montgomery Catholic welcomes UCA for our Cheerleading Home Camp at PICE Arena on July 12\, 13\, & 14\, 2021. \nGo Knights!
URL:https://montgomerycatholic.org/event/cheerleading-uca-home-camp/2021-07-13/
LOCATION:Montgomery Catholic Preparatory School\, 5350 Vaughn Rd\, Montgomery\, AL\, 36116\, United States
CATEGORIES:Athletics
GEO:32.3400861;-86.2160027
X-APPLE-STRUCTURED-LOCATION;VALUE=URI;X-ADDRESS=Montgomery Catholic Preparatory School 5350 Vaughn Rd Montgomery AL 36116 United States;X-APPLE-RADIUS=500;X-TITLE=5350 Vaughn Rd:geo:-86.2160027,32.3400861
END:VEVENT
BEGIN:VEVENT
DTSTART;TZID=America/Chicago:20210713T083000
DTEND;TZID=America/Chicago:20210713T113000
DTSTAMP:20260424T195932
CREATED:20210728T200745Z
LAST-MODIFIED:20210728T200745Z
UID:10002440-1626165000-1626175800@montgomerycatholic.org
SUMMARY:Baseball Summer Camp
DESCRIPTION:For Rising K-6th grade Boys \nOn the High School Baseball Field
URL:https://montgomerycatholic.org/event/baseball-summer-camp/2021-07-13/
LOCATION:Montgomery Catholic Preparatory School\, 5350 Vaughn Rd\, Montgomery\, AL\, 36116\, United States
CATEGORIES:Athletics
GEO:32.3400861;-86.2160027
X-APPLE-STRUCTURED-LOCATION;VALUE=URI;X-ADDRESS=Montgomery Catholic Preparatory School 5350 Vaughn Rd Montgomery AL 36116 United States;X-APPLE-RADIUS=500;X-TITLE=5350 Vaughn Rd:geo:-86.2160027,32.3400861
END:VEVENT
BEGIN:VEVENT
DTSTART;TZID=America/Chicago:20210712T090000
DTEND;TZID=America/Chicago:20210712T160000
DTSTAMP:20260424T195932
CREATED:20210728T200937Z
LAST-MODIFIED:20210728T200937Z
UID:10002442-1626080400-1626105600@montgomerycatholic.org
SUMMARY:Cheerleading UCA Home Camp
DESCRIPTION:Montgomery Catholic welcomes UCA for our Cheerleading Home Camp at PICE Arena on July 12\, 13\, & 14\, 2021. \nGo Knights!
URL:https://montgomerycatholic.org/event/cheerleading-uca-home-camp/2021-07-12/
LOCATION:Montgomery Catholic Preparatory School\, 5350 Vaughn Rd\, Montgomery\, AL\, 36116\, United States
CATEGORIES:Athletics
GEO:32.3400861;-86.2160027
X-APPLE-STRUCTURED-LOCATION;VALUE=URI;X-ADDRESS=Montgomery Catholic Preparatory School 5350 Vaughn Rd Montgomery AL 36116 United States;X-APPLE-RADIUS=500;X-TITLE=5350 Vaughn Rd:geo:-86.2160027,32.3400861
END:VEVENT
BEGIN:VEVENT
DTSTART;TZID=America/Chicago:20210712T083000
DTEND;TZID=America/Chicago:20210712T113000
DTSTAMP:20260424T195932
CREATED:20210728T200745Z
LAST-MODIFIED:20210728T200745Z
UID:10002439-1626078600-1626089400@montgomerycatholic.org
SUMMARY:Baseball Summer Camp
DESCRIPTION:For Rising K-6th grade Boys \nOn the High School Baseball Field
URL:https://montgomerycatholic.org/event/baseball-summer-camp/2021-07-12/
LOCATION:Montgomery Catholic Preparatory School\, 5350 Vaughn Rd\, Montgomery\, AL\, 36116\, United States
CATEGORIES:Athletics
GEO:32.3400861;-86.2160027
X-APPLE-STRUCTURED-LOCATION;VALUE=URI;X-ADDRESS=Montgomery Catholic Preparatory School 5350 Vaughn Rd Montgomery AL 36116 United States;X-APPLE-RADIUS=500;X-TITLE=5350 Vaughn Rd:geo:-86.2160027,32.3400861
END:VEVENT
END:VCALENDAR