BEGIN:VCALENDAR
VERSION:2.0
PRODID:-//Montgomery Catholic - ECPv6.15.20//NONSGML v1.0//EN
CALSCALE:GREGORIAN
METHOD:PUBLISH
X-ORIGINAL-URL:https://montgomerycatholic.org
X-WR-CALDESC:Events for Montgomery Catholic
REFRESH-INTERVAL;VALUE=DURATION:PT1H
X-Robots-Tag:noindex
X-PUBLISHED-TTL:PT1H
BEGIN:VTIMEZONE
TZID:America/Chicago
BEGIN:DAYLIGHT
TZOFFSETFROM:-0600
TZOFFSETTO:-0500
TZNAME:CDT
DTSTART:20250309T080000
END:DAYLIGHT
BEGIN:STANDARD
TZOFFSETFROM:-0500
TZOFFSETTO:-0600
TZNAME:CST
DTSTART:20251102T070000
END:STANDARD
BEGIN:DAYLIGHT
TZOFFSETFROM:-0600
TZOFFSETTO:-0500
TZNAME:CDT
DTSTART:20260308T080000
END:DAYLIGHT
BEGIN:STANDARD
TZOFFSETFROM:-0500
TZOFFSETTO:-0600
TZNAME:CST
DTSTART:20261101T070000
END:STANDARD
BEGIN:DAYLIGHT
TZOFFSETFROM:-0600
TZOFFSETTO:-0500
TZNAME:CDT
DTSTART:20270314T080000
END:DAYLIGHT
BEGIN:STANDARD
TZOFFSETFROM:-0500
TZOFFSETTO:-0600
TZNAME:CST
DTSTART:20271107T070000
END:STANDARD
END:VTIMEZONE
BEGIN:VEVENT
DTSTART;VALUE=DATE:20260126
DTEND;VALUE=DATE:20260131
DTSTAMP:20260421T090737
CREATED:20250821T161803Z
LAST-MODIFIED:20250821T161803Z
UID:10005155-1769385600-1769817599@montgomerycatholic.org
SUMMARY:Catholic School's Week
DESCRIPTION:
URL:https://montgomerycatholic.org/event/catholic-schools-week-5/
LOCATION:AL
CATEGORIES:High School,Holy Spirit,Middle School,St. Bede
END:VEVENT
BEGIN:VEVENT
DTSTART;VALUE=DATE:20260128
DTEND;VALUE=DATE:20260129
DTSTAMP:20260421T090737
CREATED:20250821T162213Z
LAST-MODIFIED:20260108T205114Z
UID:10005157-1769558400-1769644799@montgomerycatholic.org
SUMMARY:Pastries with Parents - Elementary Campuses
DESCRIPTION:Times TBA
URL:https://montgomerycatholic.org/event/pastries-with-parents-elementary-campuses-2/
LOCATION:AL
CATEGORIES:Holy Spirit,St. Bede
END:VEVENT
BEGIN:VEVENT
DTSTART;TZID=America/Chicago:20260128T114500
DTEND;TZID=America/Chicago:20260128T130000
DTSTAMP:20260421T090737
CREATED:20250902T153804Z
LAST-MODIFIED:20250902T153804Z
UID:10005234-1769600700-1769605200@montgomerycatholic.org
SUMMARY:Encounter - Mr. Bromen's Family
DESCRIPTION:Encounter is a High School Campus Ministry program where each week a different House Family travels to the Montgomery Children’s Center to interact with the students there.   \nStudents should bring a lunch from home that does not have to be heated in the microwave and can be eaten on the bus.
URL:https://montgomerycatholic.org/event/encounter-mr-bromens-family/
LOCATION:AL
CATEGORIES:High School
END:VEVENT
BEGIN:VEVENT
DTSTART;TZID=America/Chicago:20260128T180000
DTEND;TZID=America/Chicago:20260128T190000
DTSTAMP:20260421T090737
CREATED:20260113T205624Z
LAST-MODIFIED:20260113T205624Z
UID:10005376-1769623200-1769626800@montgomerycatholic.org
SUMMARY:State of the School Address
DESCRIPTION:With Justin Castanza\, MCPS President
URL:https://montgomerycatholic.org/event/state-of-the-school-address-2/
LOCATION:Dolly Barranco Center\, 5350 Vaughn Road\, Montgomery\, AL\, 36116\, United States
CATEGORIES:High School,Holy Spirit,Middle School,St. Bede
GEO:32.3400861;-86.2160027
X-APPLE-STRUCTURED-LOCATION;VALUE=URI;X-ADDRESS=Dolly Barranco Center 5350 Vaughn Road Montgomery AL 36116 United States;X-APPLE-RADIUS=500;X-TITLE=5350 Vaughn Road:geo:-86.2160027,32.3400861
END:VEVENT
END:VCALENDAR