BEGIN:VCALENDAR
VERSION:2.0
PRODID:-//Montgomery Catholic - ECPv6.15.20//NONSGML v1.0//EN
CALSCALE:GREGORIAN
METHOD:PUBLISH
X-ORIGINAL-URL:https://montgomerycatholic.org
X-WR-CALDESC:Events for Montgomery Catholic
REFRESH-INTERVAL;VALUE=DURATION:PT1H
X-Robots-Tag:noindex
X-PUBLISHED-TTL:PT1H
BEGIN:VTIMEZONE
TZID:America/Chicago
BEGIN:DAYLIGHT
TZOFFSETFROM:-0600
TZOFFSETTO:-0500
TZNAME:CDT
DTSTART:20240310T080000
END:DAYLIGHT
BEGIN:STANDARD
TZOFFSETFROM:-0500
TZOFFSETTO:-0600
TZNAME:CST
DTSTART:20241103T070000
END:STANDARD
BEGIN:DAYLIGHT
TZOFFSETFROM:-0600
TZOFFSETTO:-0500
TZNAME:CDT
DTSTART:20250309T080000
END:DAYLIGHT
BEGIN:STANDARD
TZOFFSETFROM:-0500
TZOFFSETTO:-0600
TZNAME:CST
DTSTART:20251102T070000
END:STANDARD
BEGIN:DAYLIGHT
TZOFFSETFROM:-0600
TZOFFSETTO:-0500
TZNAME:CDT
DTSTART:20260308T080000
END:DAYLIGHT
BEGIN:STANDARD
TZOFFSETFROM:-0500
TZOFFSETTO:-0600
TZNAME:CST
DTSTART:20261101T070000
END:STANDARD
END:VTIMEZONE
BEGIN:VEVENT
DTSTART;TZID=America/Chicago:20251218T074500
DTEND;TZID=America/Chicago:20251218T104500
DTSTAMP:20260419T152042
CREATED:20250807T162414Z
LAST-MODIFIED:20250807T162621Z
UID:10005105-1766043900-1766054700@montgomerycatholic.org
SUMMARY:Middle School Exams
DESCRIPTION:
URL:https://montgomerycatholic.org/event/middle-school-exams-7/
END:VEVENT
BEGIN:VEVENT
DTSTART;TZID=America/Chicago:20251218T075000
DTEND;TZID=America/Chicago:20251218T233000
DTSTAMP:20260419T152042
CREATED:20250805T190618Z
LAST-MODIFIED:20250805T190618Z
UID:10005102-1766044200-1766100600@montgomerycatholic.org
SUMMARY:High School Exams
DESCRIPTION:
URL:https://montgomerycatholic.org/event/high-school-exams-13/
END:VEVENT
BEGIN:VEVENT
DTSTART;TZID=America/Chicago:20251218T180000
DTEND;TZID=America/Chicago:20251218T190000
DTSTAMP:20260419T152042
CREATED:20250805T185700Z
LAST-MODIFIED:20250805T185700Z
UID:10005098-1766080800-1766084400@montgomerycatholic.org
SUMMARY:Christmas Program - St. Bede
DESCRIPTION:
URL:https://montgomerycatholic.org/event/christmas-program-st-bede/
LOCATION:St. Bede Campus\, 3850 Atlanta Highway\, Montgomery\, AL\, 36109\, United States
END:VEVENT
END:VCALENDAR