BEGIN:VCALENDAR
VERSION:2.0
PRODID:-//Montgomery Catholic - ECPv6.15.20//NONSGML v1.0//EN
CALSCALE:GREGORIAN
METHOD:PUBLISH
X-ORIGINAL-URL:https://montgomerycatholic.org
X-WR-CALDESC:Events for Montgomery Catholic
REFRESH-INTERVAL;VALUE=DURATION:PT1H
X-Robots-Tag:noindex
X-PUBLISHED-TTL:PT1H
BEGIN:VTIMEZONE
TZID:America/Chicago
BEGIN:DAYLIGHT
TZOFFSETFROM:-0600
TZOFFSETTO:-0500
TZNAME:CDT
DTSTART:20240310T080000
END:DAYLIGHT
BEGIN:STANDARD
TZOFFSETFROM:-0500
TZOFFSETTO:-0600
TZNAME:CST
DTSTART:20241103T070000
END:STANDARD
BEGIN:DAYLIGHT
TZOFFSETFROM:-0600
TZOFFSETTO:-0500
TZNAME:CDT
DTSTART:20250309T080000
END:DAYLIGHT
BEGIN:STANDARD
TZOFFSETFROM:-0500
TZOFFSETTO:-0600
TZNAME:CST
DTSTART:20251102T070000
END:STANDARD
BEGIN:DAYLIGHT
TZOFFSETFROM:-0600
TZOFFSETTO:-0500
TZNAME:CDT
DTSTART:20260308T080000
END:DAYLIGHT
BEGIN:STANDARD
TZOFFSETFROM:-0500
TZOFFSETTO:-0600
TZNAME:CST
DTSTART:20261101T070000
END:STANDARD
END:VTIMEZONE
BEGIN:VEVENT
DTSTART;VALUE=DATE:20251121
DTEND;VALUE=DATE:20251123
DTSTAMP:20260419T101641
CREATED:20250911T182101Z
LAST-MODIFIED:20250911T182101Z
UID:10005250-1763683200-1763855999@montgomerycatholic.org
SUMMARY:Swim Team - AHSAA State Championship @ Hunstville
DESCRIPTION:Location and Time TBA
URL:https://montgomerycatholic.org/event/swim-team-ahsaa-state-championship-hunstville/
CATEGORIES:Athletics,High School,Middle School
END:VEVENT
BEGIN:VEVENT
DTSTART;TZID=America/Chicago:20251121T093000
DTEND;TZID=America/Chicago:20251121T103000
DTSTAMP:20260419T101641
CREATED:20250804T154154Z
LAST-MODIFIED:20250804T154154Z
UID:10005090-1763717400-1763721000@montgomerycatholic.org
SUMMARY:Thanksgiving Program K3/4-2nd Grade - St. Bede
DESCRIPTION:
URL:https://montgomerycatholic.org/event/thanksgiving-program-k3-4-2nd-grade-st-bede/
LOCATION:St. Bede Campus\, 3850 Atlanta Highway\, Montgomery\, AL\, 36109\, United States
END:VEVENT
BEGIN:VEVENT
DTSTART;TZID=America/Chicago:20251121T113000
DTEND;TZID=America/Chicago:20251121T123000
DTSTAMP:20260419T101641
CREATED:20250804T154645Z
LAST-MODIFIED:20250804T154645Z
UID:10005091-1763724600-1763728200@montgomerycatholic.org
SUMMARY:Thanksgiving Feast - Holy Spirit
DESCRIPTION:
URL:https://montgomerycatholic.org/event/thanksgiving-feast-holy-spirit/
LOCATION:Holy Spirit Campus\, 8580 Vaughn Rd\, Montgomery\, AL\, 36117\, United States
GEO:32.3375708;-86.1520257
X-APPLE-STRUCTURED-LOCATION;VALUE=URI;X-ADDRESS=Holy Spirit Campus 8580 Vaughn Rd Montgomery AL 36117 United States;X-APPLE-RADIUS=500;X-TITLE=8580 Vaughn Rd:geo:-86.1520257,32.3375708
END:VEVENT
BEGIN:VEVENT
DTSTART;TZID=America/Chicago:20251121T150000
DTEND;TZID=America/Chicago:20251121T160000
DTSTAMP:20260419T101641
CREATED:20251024T142626Z
LAST-MODIFIED:20251024T142626Z
UID:10005266-1763737200-1763740800@montgomerycatholic.org
SUMMARY:Beehive: The 60's Musical - Auditions
DESCRIPTION:Auditions will be held after school on Monday\, November 17 through Friday\, November 21.  Sign up for your audition time at Mrs. Zaworski’s desk\, Mrs. McGuire’s desk\, or on the choir room door. If you have any questions\, please contact Dr. Peed\, jpeed@montgomerycatholic.org
URL:https://montgomerycatholic.org/event/beehive-the-60s-musical-auditions-5/
CATEGORIES:High School,Middle School
END:VEVENT
END:VCALENDAR