BEGIN:VCALENDAR
VERSION:2.0
PRODID:-//Montgomery Catholic - ECPv6.15.20//NONSGML v1.0//EN
CALSCALE:GREGORIAN
METHOD:PUBLISH
X-ORIGINAL-URL:https://montgomerycatholic.org
X-WR-CALDESC:Events for Montgomery Catholic
REFRESH-INTERVAL;VALUE=DURATION:PT1H
X-Robots-Tag:noindex
X-PUBLISHED-TTL:PT1H
BEGIN:VTIMEZONE
TZID:America/Chicago
BEGIN:DAYLIGHT
TZOFFSETFROM:-0600
TZOFFSETTO:-0500
TZNAME:CDT
DTSTART:20240310T080000
END:DAYLIGHT
BEGIN:STANDARD
TZOFFSETFROM:-0500
TZOFFSETTO:-0600
TZNAME:CST
DTSTART:20241103T070000
END:STANDARD
BEGIN:DAYLIGHT
TZOFFSETFROM:-0600
TZOFFSETTO:-0500
TZNAME:CDT
DTSTART:20250309T080000
END:DAYLIGHT
BEGIN:STANDARD
TZOFFSETFROM:-0500
TZOFFSETTO:-0600
TZNAME:CST
DTSTART:20251102T070000
END:STANDARD
BEGIN:DAYLIGHT
TZOFFSETFROM:-0600
TZOFFSETTO:-0500
TZNAME:CDT
DTSTART:20260308T080000
END:DAYLIGHT
BEGIN:STANDARD
TZOFFSETFROM:-0500
TZOFFSETTO:-0600
TZNAME:CST
DTSTART:20261101T070000
END:STANDARD
END:VTIMEZONE
BEGIN:VEVENT
DTSTART;VALUE=DATE:20251109
DTEND;VALUE=DATE:20251112
DTSTAMP:20260419T101642
CREATED:20250804T140217Z
LAST-MODIFIED:20250923T182524Z
UID:10005075-1762646400-1762905599@montgomerycatholic.org
SUMMARY:HS Campus Ministry Fall Retreat
DESCRIPTION:
URL:https://montgomerycatholic.org/event/hs-campus-ministry-fall-retreat/
END:VEVENT
BEGIN:VEVENT
DTSTART;VALUE=DATE:20251109
DTEND;VALUE=DATE:20251112
DTSTAMP:20260419T101642
CREATED:20250926T132435Z
LAST-MODIFIED:20250926T140217Z
UID:10005257-1762646400-1762905599@montgomerycatholic.org
SUMMARY:High School Campus Ministry Fall Retreat
DESCRIPTION:Holy Spirit Hall\, Fairhope\, AL\n$75 to attend\nSpace is limited\nPermission forms and money are due by October 10th
URL:https://montgomerycatholic.org/event/high-school-campus-ministry-fall-retreat-3/
CATEGORIES:High School
END:VEVENT
END:VCALENDAR