BEGIN:VCALENDAR
VERSION:2.0
PRODID:-//Montgomery Catholic - ECPv6.15.20//NONSGML v1.0//EN
CALSCALE:GREGORIAN
METHOD:PUBLISH
X-ORIGINAL-URL:https://montgomerycatholic.org
X-WR-CALDESC:Events for Montgomery Catholic
REFRESH-INTERVAL;VALUE=DURATION:PT1H
X-Robots-Tag:noindex
X-PUBLISHED-TTL:PT1H
BEGIN:VTIMEZONE
TZID:America/Chicago
BEGIN:DAYLIGHT
TZOFFSETFROM:-0600
TZOFFSETTO:-0500
TZNAME:CDT
DTSTART:20220313T080000
END:DAYLIGHT
BEGIN:STANDARD
TZOFFSETFROM:-0500
TZOFFSETTO:-0600
TZNAME:CST
DTSTART:20221106T070000
END:STANDARD
BEGIN:DAYLIGHT
TZOFFSETFROM:-0600
TZOFFSETTO:-0500
TZNAME:CDT
DTSTART:20230312T080000
END:DAYLIGHT
BEGIN:STANDARD
TZOFFSETFROM:-0500
TZOFFSETTO:-0600
TZNAME:CST
DTSTART:20231105T070000
END:STANDARD
BEGIN:DAYLIGHT
TZOFFSETFROM:-0600
TZOFFSETTO:-0500
TZNAME:CDT
DTSTART:20240310T080000
END:DAYLIGHT
BEGIN:STANDARD
TZOFFSETFROM:-0500
TZOFFSETTO:-0600
TZNAME:CST
DTSTART:20241103T070000
END:STANDARD
END:VTIMEZONE
BEGIN:VEVENT
DTSTART;TZID=America/Chicago:20231109T074500
DTEND;TZID=America/Chicago:20231109T080000
DTSTAMP:20260422T125325
CREATED:20230801T183843Z
LAST-MODIFIED:20230801T183843Z
UID:10003336-1699515900-1699516800@montgomerycatholic.org
SUMMARY:Veterans Day prayer & pledge @ St. Bede
DESCRIPTION:
URL:https://montgomerycatholic.org/event/veterans-day-prayer-pledge-st-bede/
LOCATION:AL
CATEGORIES:St. Bede
END:VEVENT
BEGIN:VEVENT
DTSTART;TZID=America/Chicago:20231109T081500
DTEND;TZID=America/Chicago:20231109T100000
DTSTAMP:20260422T125325
CREATED:20230801T182200Z
LAST-MODIFIED:20230801T182200Z
UID:10003334-1699517700-1699524000@montgomerycatholic.org
SUMMARY:Veterans Day Celebration - Holy Spirit Campus
DESCRIPTION:
URL:https://montgomerycatholic.org/event/veterans-day-celebration-holy-spirit-campus/
LOCATION:AL
CATEGORIES:Holy Spirit
END:VEVENT
BEGIN:VEVENT
DTSTART;TZID=America/Chicago:20231109T163000
DTEND;TZID=America/Chicago:20231109T163000
DTSTAMP:20260422T125325
CREATED:20231005T133230Z
LAST-MODIFIED:20231106T165833Z
UID:10003482-1699547400-1699547400@montgomerycatholic.org
SUMMARY:MS Boys Basketball Game @ Trinity
DESCRIPTION:
URL:https://montgomerycatholic.org/event/ms-boys-basketball-game-trinity-tbd/
LOCATION:AL
END:VEVENT
BEGIN:VEVENT
DTSTART;TZID=America/Chicago:20231109T163000
DTEND;TZID=America/Chicago:20231109T173000
DTSTAMP:20260422T125325
CREATED:20231005T133201Z
LAST-MODIFIED:20231106T165803Z
UID:10003480-1699547400-1699551000@montgomerycatholic.org
SUMMARY:MS Girls Basketball Game @ Trinity
DESCRIPTION:
URL:https://montgomerycatholic.org/event/ms-girls-basketball-game-trinity-tbd/
LOCATION:AL
END:VEVENT
END:VCALENDAR