BEGIN:VCALENDAR
VERSION:2.0
PRODID:-//Montgomery Catholic - ECPv6.15.20//NONSGML v1.0//EN
CALSCALE:GREGORIAN
METHOD:PUBLISH
X-WR-CALNAME:Montgomery Catholic
X-ORIGINAL-URL:https://montgomerycatholic.org
X-WR-CALDESC:Events for Montgomery Catholic
REFRESH-INTERVAL;VALUE=DURATION:PT1H
X-Robots-Tag:noindex
X-PUBLISHED-TTL:PT1H
BEGIN:VTIMEZONE
TZID:America/Chicago
BEGIN:DAYLIGHT
TZOFFSETFROM:-0600
TZOFFSETTO:-0500
TZNAME:CDT
DTSTART:20220313T080000
END:DAYLIGHT
BEGIN:STANDARD
TZOFFSETFROM:-0500
TZOFFSETTO:-0600
TZNAME:CST
DTSTART:20221106T070000
END:STANDARD
BEGIN:DAYLIGHT
TZOFFSETFROM:-0600
TZOFFSETTO:-0500
TZNAME:CDT
DTSTART:20230312T080000
END:DAYLIGHT
BEGIN:STANDARD
TZOFFSETFROM:-0500
TZOFFSETTO:-0600
TZNAME:CST
DTSTART:20231105T070000
END:STANDARD
BEGIN:DAYLIGHT
TZOFFSETFROM:-0600
TZOFFSETTO:-0500
TZNAME:CDT
DTSTART:20240310T080000
END:DAYLIGHT
BEGIN:STANDARD
TZOFFSETFROM:-0500
TZOFFSETTO:-0600
TZNAME:CST
DTSTART:20241103T070000
END:STANDARD
END:VTIMEZONE
BEGIN:VEVENT
DTSTART;TZID=America/Chicago:20231005T080000
DTEND;TZID=America/Chicago:20231005T120000
DTSTAMP:20260424T011856
CREATED:20230905T144942Z
LAST-MODIFIED:20230905T144942Z
UID:10004262-1696492800-1696507200@montgomerycatholic.org
SUMMARY:Cross Country Meet - Swoops Loop @ MA
DESCRIPTION:
URL:https://montgomerycatholic.org/event/cross-country-meet-swoops-loop-ma/
LOCATION:AL
CATEGORIES:Athletics,High School
END:VEVENT
BEGIN:VEVENT
DTSTART;TZID=America/Chicago:20231005T080000
DTEND;TZID=America/Chicago:20231005T170000
DTSTAMP:20260424T011856
CREATED:20230801T172245Z
LAST-MODIFIED:20230801T172245Z
UID:10004123-1696492800-1696525200@montgomerycatholic.org
SUMMARY:Junior Escape Day
DESCRIPTION:
URL:https://montgomerycatholic.org/event/junior-escape-day-2/
LOCATION:AL
CATEGORIES:High School
END:VEVENT
BEGIN:VEVENT
DTSTART;TZID=America/Chicago:20231005T083000
DTEND;TZID=America/Chicago:20231005T133000
DTSTAMP:20260424T011856
CREATED:20230914T190738Z
LAST-MODIFIED:20230914T190738Z
UID:10004278-1696494600-1696512600@montgomerycatholic.org
SUMMARY:SB 2nd Grade field trip Pumpkin Patch
DESCRIPTION:WHO: Mrs. Bell’s 2nd grade class \nWHAT: A field tip to the Pumpkin Patch \nWHEN: October 5\, 2023 \nWHERE: CCF Pumpkin Patch \nStudent’s should wear a MCPS-t-shirt and long blue jeans. \nThey will needto take a sack lunch and water bottle that can be thrown away.
URL:https://montgomerycatholic.org/event/sb-2nd-grade-field-trip-pumpkin-patch/
LOCATION:AL
CATEGORIES:St. Bede
END:VEVENT
BEGIN:VEVENT
DTSTART;TZID=America/Chicago:20231005T160000
DTEND;TZID=America/Chicago:20231005T170000
DTSTAMP:20260424T011856
CREATED:20230823T184608Z
LAST-MODIFIED:20230823T184608Z
UID:10004233-1696521600-1696525200@montgomerycatholic.org
SUMMARY:MS & JV Volleyball vs ACA
DESCRIPTION:
URL:https://montgomerycatholic.org/event/ms-jv-volleyball-vs-aca/
LOCATION:AL
CATEGORIES:Athletics,High School,Middle School
END:VEVENT
BEGIN:VEVENT
DTSTART;TZID=America/Chicago:20231005T180000
DTEND;TZID=America/Chicago:20231005T200000
DTSTAMP:20260424T011856
CREATED:20230823T185846Z
LAST-MODIFIED:20230823T185846Z
UID:10004234-1696528800-1696536000@montgomerycatholic.org
SUMMARY:Varsity Volleyball Tri @ Home
DESCRIPTION:ACA\, LAMP\, Catholic
URL:https://montgomerycatholic.org/event/varsity-volleyball-tri-home/
LOCATION:AL
CATEGORIES:Athletics,High School
END:VEVENT
END:VCALENDAR