BEGIN:VCALENDAR
VERSION:2.0
PRODID:-//Montgomery Catholic - ECPv6.15.20//NONSGML v1.0//EN
CALSCALE:GREGORIAN
METHOD:PUBLISH
X-ORIGINAL-URL:https://montgomerycatholic.org
X-WR-CALDESC:Events for Montgomery Catholic
REFRESH-INTERVAL;VALUE=DURATION:PT1H
X-Robots-Tag:noindex
X-PUBLISHED-TTL:PT1H
BEGIN:VTIMEZONE
TZID:America/Chicago
BEGIN:DAYLIGHT
TZOFFSETFROM:-0600
TZOFFSETTO:-0500
TZNAME:CDT
DTSTART:20220313T080000
END:DAYLIGHT
BEGIN:STANDARD
TZOFFSETFROM:-0500
TZOFFSETTO:-0600
TZNAME:CST
DTSTART:20221106T070000
END:STANDARD
BEGIN:DAYLIGHT
TZOFFSETFROM:-0600
TZOFFSETTO:-0500
TZNAME:CDT
DTSTART:20230312T080000
END:DAYLIGHT
BEGIN:STANDARD
TZOFFSETFROM:-0500
TZOFFSETTO:-0600
TZNAME:CST
DTSTART:20231105T070000
END:STANDARD
BEGIN:DAYLIGHT
TZOFFSETFROM:-0600
TZOFFSETTO:-0500
TZNAME:CDT
DTSTART:20240310T080000
END:DAYLIGHT
BEGIN:STANDARD
TZOFFSETFROM:-0500
TZOFFSETTO:-0600
TZNAME:CST
DTSTART:20241103T070000
END:STANDARD
END:VTIMEZONE
BEGIN:VEVENT
DTSTART;VALUE=DATE:20230320
DTEND;VALUE=DATE:20230324
DTSTAMP:20260422T125219
CREATED:20220613T160354Z
LAST-MODIFIED:20220613T160354Z
UID:10003376-1679270400-1679615999@montgomerycatholic.org
SUMMARY:Iowa Testing - St. Bede and Holy Spirit
DESCRIPTION:
URL:https://montgomerycatholic.org/event/iowa-testing-st-bede-and-holy-spirit/
LOCATION:AL
CATEGORIES:Holy Spirit,St. Bede
END:VEVENT
BEGIN:VEVENT
DTSTART;VALUE=DATE:20230320
DTEND;VALUE=DATE:20230401
DTSTAMP:20260422T125219
CREATED:20221025T171348Z
LAST-MODIFIED:20221025T171348Z
UID:10003753-1679270400-1680307199@montgomerycatholic.org
SUMMARY:Marching Knights Beach Raffle
DESCRIPTION:Our Marching Knights will be selling raffle tickets to raise money for our Award winning band program! \nTickets will be $10 each and you could be the winner of a beach getaway! Find your favorite band member to purchase a ticket today! Or reach out to Alex Johnson or Kristine Johnson for more information!
URL:https://montgomerycatholic.org/event/marching-knights-beach-raffle/
LOCATION:AL
CATEGORIES:Band
ORGANIZER;CN="Alex Johnson":MAILTO:alexjohnson@montgomerycatholic.org
END:VEVENT
BEGIN:VEVENT
DTSTART;TZID=America/Chicago:20230320T140000
DTEND;TZID=America/Chicago:20230320T190000
DTSTAMP:20260422T125219
CREATED:20230117T172342Z
LAST-MODIFIED:20230117T172342Z
UID:10003934-1679320800-1679338800@montgomerycatholic.org
SUMMARY:V Baseball Doubleheader vs. Brew Tech
DESCRIPTION:
URL:https://montgomerycatholic.org/event/v-baseball-doubleheader-vs-brew-tech/
LOCATION:Montgomery Catholic Preparatory School\, 5350 Vaughn Rd\, Montgomery\, AL\, 36116\, United States
CATEGORIES:Athletics,High School
GEO:32.3400861;-86.2160027
X-APPLE-STRUCTURED-LOCATION;VALUE=URI;X-ADDRESS=Montgomery Catholic Preparatory School 5350 Vaughn Rd Montgomery AL 36116 United States;X-APPLE-RADIUS=500;X-TITLE=5350 Vaughn Rd:geo:-86.2160027,32.3400861
END:VEVENT
END:VCALENDAR