BEGIN:VCALENDAR
VERSION:2.0
PRODID:-//Montgomery Catholic - ECPv6.15.20//NONSGML v1.0//EN
CALSCALE:GREGORIAN
METHOD:PUBLISH
X-WR-CALNAME:Montgomery Catholic
X-ORIGINAL-URL:https://montgomerycatholic.org
X-WR-CALDESC:Events for Montgomery Catholic
REFRESH-INTERVAL;VALUE=DURATION:PT1H
X-Robots-Tag:noindex
X-PUBLISHED-TTL:PT1H
BEGIN:VTIMEZONE
TZID:America/Chicago
BEGIN:DAYLIGHT
TZOFFSETFROM:-0600
TZOFFSETTO:-0500
TZNAME:CDT
DTSTART:20220313T080000
END:DAYLIGHT
BEGIN:STANDARD
TZOFFSETFROM:-0500
TZOFFSETTO:-0600
TZNAME:CST
DTSTART:20221106T070000
END:STANDARD
BEGIN:DAYLIGHT
TZOFFSETFROM:-0600
TZOFFSETTO:-0500
TZNAME:CDT
DTSTART:20230312T080000
END:DAYLIGHT
BEGIN:STANDARD
TZOFFSETFROM:-0500
TZOFFSETTO:-0600
TZNAME:CST
DTSTART:20231105T070000
END:STANDARD
BEGIN:DAYLIGHT
TZOFFSETFROM:-0600
TZOFFSETTO:-0500
TZNAME:CDT
DTSTART:20240310T080000
END:DAYLIGHT
BEGIN:STANDARD
TZOFFSETFROM:-0500
TZOFFSETTO:-0600
TZNAME:CST
DTSTART:20241103T070000
END:STANDARD
END:VTIMEZONE
BEGIN:VTIMEZONE
TZID:UTC
BEGIN:STANDARD
TZOFFSETFROM:+0000
TZOFFSETTO:+0000
TZNAME:UTC
DTSTART:20220101T000000
END:STANDARD
END:VTIMEZONE
BEGIN:VEVENT
DTSTART;VALUE=DATE:20230206
DTEND;VALUE=DATE:20230218
DTSTAMP:20260421T090708
CREATED:20221117T184747Z
LAST-MODIFIED:20221117T184747Z
UID:10003830-1675641600-1676678399@montgomerycatholic.org
SUMMARY:Cheerleading Calendar Fundraiser
DESCRIPTION:The MCPS Cheerleading Squad will be having a Calendar Fundraiser to raise funds for new uniforms. Reach out to your favorite cheerleader to purchase a space on their calendar! \n  \nContact Coach Sarah Berg for more information!
URL:https://montgomerycatholic.org/event/cheerleading-calendar-fundraiser/
LOCATION:AL
CATEGORIES:Athletics,Fundraising,High School,Middle School
ORGANIZER;CN="Sarah Berg":MAILTO:sberg@montgomerycatholic.org
END:VEVENT
BEGIN:VEVENT
DTSTART;TZID=America/Chicago:20230215T092000
DTEND;TZID=America/Chicago:20230215T112000
DTSTAMP:20260421T090708
CREATED:20230125T205625Z
LAST-MODIFIED:20230125T205701Z
UID:10003221-1676452800-1676460000@montgomerycatholic.org
SUMMARY:SB 2nd Grade Field Trip
DESCRIPTION:DESTINATION: Davis Theater \nWEAR: Students should wear their mass uniform \nLUNCH: Eat at school; regular lunch \n 
URL:https://montgomerycatholic.org/event/sb-2nd-grade-field-trip/
LOCATION:AL
CATEGORIES:St. Bede
END:VEVENT
BEGIN:VEVENT
DTSTART;TZID=America/Chicago:20230215T110000
DTEND;TZID=America/Chicago:20230215T113000
DTSTAMP:20260421T090708
CREATED:20221003T195115Z
LAST-MODIFIED:20221003T195115Z
UID:10003618-1676458800-1676460600@montgomerycatholic.org
SUMMARY:NHS Induction Ceremony
DESCRIPTION:National Honor Society Induction will take place in the Dolly Barranco Center following the school-wide mass.
URL:https://montgomerycatholic.org/event/nhs-induction-ceremony-2/
LOCATION:Dolly Barranco Center\, 5350 Vaughn Road\, Montgomery\, AL\, 36116\, United States
CATEGORIES:High School
ORGANIZER;CN="Katelyn Stearman":MAILTO:kstearman@montgomerycatholic.org
GEO:32.3400861;-86.2160027
X-APPLE-STRUCTURED-LOCATION;VALUE=URI;X-ADDRESS=Dolly Barranco Center 5350 Vaughn Road Montgomery AL 36116 United States;X-APPLE-RADIUS=500;X-TITLE=5350 Vaughn Road:geo:-86.2160027,32.3400861
END:VEVENT
BEGIN:VEVENT
DTSTART;TZID=America/Chicago:20230215T110000
DTEND;TZID=America/Chicago:20230215T121500
DTSTAMP:20260421T090708
CREATED:20220923T180511Z
LAST-MODIFIED:20220923T180511Z
UID:10003565-1676458800-1676463300@montgomerycatholic.org
SUMMARY:Encounter - Mr. Mularz's Family
DESCRIPTION:Encounter is a service program organized by Lauren Hoyer for our High School House Families. Each week a different Family will attend Encounter. \nThis week’s Family is Mr. Mularz’s.  Students need to bring a lunch with them to eat on the bus.
URL:https://montgomerycatholic.org/event/encounter-mr-mularzs-family/
LOCATION:Children’s Center of Montgomery\, 310 N Madison Terrace\, Montgomery\, AL\, 36107\, United States
CATEGORIES:High School
ORGANIZER;CN="Lauren Hoyer":MAILTO:lhoyer@montgomerycatholic.org
GEO:32.3844194;-86.2825891
X-APPLE-STRUCTURED-LOCATION;VALUE=URI;X-ADDRESS=Children’s Center of Montgomery 310 N Madison Terrace Montgomery AL 36107 United States;X-APPLE-RADIUS=500;X-TITLE=310 N Madison Terrace:geo:-86.2825891,32.3844194
END:VEVENT
BEGIN:VEVENT
DTSTART;TZID=UTC:20230215T180000
DTEND;TZID=UTC:20230215T190000
DTSTAMP:20260421T090708
CREATED:20220819T164838Z
LAST-MODIFIED:20220819T164838Z
UID:10003531-1676484000-1676487600@montgomerycatholic.org
SUMMARY:Advisory Council Meeting
DESCRIPTION:
URL:https://montgomerycatholic.org/event/advisory-council-meeting-6/
LOCATION:Athletic Center Conference Room\, 5350 Vaughn Road\, Montgomery\, AL\, 36116\, United States
GEO:32.3400861;-86.2160027
X-APPLE-STRUCTURED-LOCATION;VALUE=URI;X-ADDRESS=Athletic Center Conference Room 5350 Vaughn Road Montgomery AL 36116 United States;X-APPLE-RADIUS=500;X-TITLE=5350 Vaughn Road:geo:-86.2160027,32.3400861
END:VEVENT
END:VCALENDAR