BEGIN:VCALENDAR
VERSION:2.0
PRODID:-//Montgomery Catholic - ECPv6.15.20//NONSGML v1.0//EN
CALSCALE:GREGORIAN
METHOD:PUBLISH
X-WR-CALNAME:Montgomery Catholic
X-ORIGINAL-URL:https://montgomerycatholic.org
X-WR-CALDESC:Events for Montgomery Catholic
REFRESH-INTERVAL;VALUE=DURATION:PT1H
X-Robots-Tag:noindex
X-PUBLISHED-TTL:PT1H
BEGIN:VTIMEZONE
TZID:America/Chicago
BEGIN:DAYLIGHT
TZOFFSETFROM:-0600
TZOFFSETTO:-0500
TZNAME:CDT
DTSTART:20220313T080000
END:DAYLIGHT
BEGIN:STANDARD
TZOFFSETFROM:-0500
TZOFFSETTO:-0600
TZNAME:CST
DTSTART:20221106T070000
END:STANDARD
BEGIN:DAYLIGHT
TZOFFSETFROM:-0600
TZOFFSETTO:-0500
TZNAME:CDT
DTSTART:20230312T080000
END:DAYLIGHT
BEGIN:STANDARD
TZOFFSETFROM:-0500
TZOFFSETTO:-0600
TZNAME:CST
DTSTART:20231105T070000
END:STANDARD
BEGIN:DAYLIGHT
TZOFFSETFROM:-0600
TZOFFSETTO:-0500
TZNAME:CDT
DTSTART:20240310T080000
END:DAYLIGHT
BEGIN:STANDARD
TZOFFSETFROM:-0500
TZOFFSETTO:-0600
TZNAME:CST
DTSTART:20241103T070000
END:STANDARD
END:VTIMEZONE
BEGIN:VEVENT
DTSTART;VALUE=DATE:20230206
DTEND;VALUE=DATE:20230218
DTSTAMP:20260421T090706
CREATED:20221117T184747Z
LAST-MODIFIED:20221117T184747Z
UID:10003830-1675641600-1676678399@montgomerycatholic.org
SUMMARY:Cheerleading Calendar Fundraiser
DESCRIPTION:The MCPS Cheerleading Squad will be having a Calendar Fundraiser to raise funds for new uniforms. Reach out to your favorite cheerleader to purchase a space on their calendar! \n  \nContact Coach Sarah Berg for more information!
URL:https://montgomerycatholic.org/event/cheerleading-calendar-fundraiser/
LOCATION:AL
CATEGORIES:Athletics,Fundraising,High School,Middle School
ORGANIZER;CN="Sarah Berg":MAILTO:sberg@montgomerycatholic.org
END:VEVENT
BEGIN:VEVENT
DTSTART;VALUE=DATE:20230214
DTEND;VALUE=DATE:20230215
DTSTAMP:20260421T090706
CREATED:20220613T155109Z
LAST-MODIFIED:20220613T155109Z
UID:10003369-1676332800-1676419199@montgomerycatholic.org
SUMMARY:Love Lunch - Holy Spirit and St. Bede
DESCRIPTION:
URL:https://montgomerycatholic.org/event/love-lunch-holy-spirit-and-st-bede/
LOCATION:AL
CATEGORIES:Holy Spirit,St. Bede
END:VEVENT
BEGIN:VEVENT
DTSTART;VALUE=DATE:20230214
DTEND;VALUE=DATE:20230215
DTSTAMP:20260421T090706
CREATED:20221018T192902Z
LAST-MODIFIED:20221018T192929Z
UID:10003111-1676332800-1676419199@montgomerycatholic.org
SUMMARY:Basketball - Boys Sub Regionals (TBA)
DESCRIPTION:
URL:https://montgomerycatholic.org/event/boys-basketball-sub-regionals-tba/
LOCATION:AL
CATEGORIES:Athletics
END:VEVENT
BEGIN:VEVENT
DTSTART;TZID=America/Chicago:20230214T173000
DTEND;TZID=America/Chicago:20230214T190000
DTSTAMP:20260421T090706
CREATED:20221102T160514Z
LAST-MODIFIED:20221102T160514Z
UID:10003771-1676395800-1676401200@montgomerycatholic.org
SUMMARY:JV Girls Soccer Game @ Prattville High School
DESCRIPTION:
URL:https://montgomerycatholic.org/event/jv-girls-soccer-game-prattville-high-school/
LOCATION:AL
CATEGORIES:Athletics,High School
END:VEVENT
BEGIN:VEVENT
DTSTART;TZID=America/Chicago:20230214T173000
DTEND;TZID=America/Chicago:20230214T190000
DTSTAMP:20260421T090706
CREATED:20221102T160852Z
LAST-MODIFIED:20221102T160852Z
UID:10003773-1676395800-1676401200@montgomerycatholic.org
SUMMARY:JV Boys Soccer Game vs. Montgomery Academy
DESCRIPTION:
URL:https://montgomerycatholic.org/event/jv-boys-soccer-game-vs-montgomery-academy/
LOCATION:AL
CATEGORIES:Athletics,High School
END:VEVENT
BEGIN:VEVENT
DTSTART;TZID=America/Chicago:20230214T190000
DTEND;TZID=America/Chicago:20230214T203000
DTSTAMP:20260421T090706
CREATED:20221102T160343Z
LAST-MODIFIED:20221102T160343Z
UID:10003769-1676401200-1676406600@montgomerycatholic.org
SUMMARY:V Boys Soccer Game vs. Montgomery Academy
DESCRIPTION:
URL:https://montgomerycatholic.org/event/v-boys-soccer-game-vs-montgomery-academy/
LOCATION:Montgomery Catholic Preparatory School\, 5350 Vaughn Rd\, Montgomery\, AL\, 36116\, United States
CATEGORIES:Athletics,High School
GEO:32.3400861;-86.2160027
X-APPLE-STRUCTURED-LOCATION;VALUE=URI;X-ADDRESS=Montgomery Catholic Preparatory School 5350 Vaughn Rd Montgomery AL 36116 United States;X-APPLE-RADIUS=500;X-TITLE=5350 Vaughn Rd:geo:-86.2160027,32.3400861
END:VEVENT
END:VCALENDAR