BEGIN:VCALENDAR
VERSION:2.0
PRODID:-//Montgomery Catholic - ECPv6.15.20//NONSGML v1.0//EN
CALSCALE:GREGORIAN
METHOD:PUBLISH
X-ORIGINAL-URL:https://montgomerycatholic.org
X-WR-CALDESC:Events for Montgomery Catholic
REFRESH-INTERVAL;VALUE=DURATION:PT1H
X-Robots-Tag:noindex
X-PUBLISHED-TTL:PT1H
BEGIN:VTIMEZONE
TZID:America/Chicago
BEGIN:DAYLIGHT
TZOFFSETFROM:-0600
TZOFFSETTO:-0500
TZNAME:CDT
DTSTART:20220313T080000
END:DAYLIGHT
BEGIN:STANDARD
TZOFFSETFROM:-0500
TZOFFSETTO:-0600
TZNAME:CST
DTSTART:20221106T070000
END:STANDARD
BEGIN:DAYLIGHT
TZOFFSETFROM:-0600
TZOFFSETTO:-0500
TZNAME:CDT
DTSTART:20230312T080000
END:DAYLIGHT
BEGIN:STANDARD
TZOFFSETFROM:-0500
TZOFFSETTO:-0600
TZNAME:CST
DTSTART:20231105T070000
END:STANDARD
BEGIN:DAYLIGHT
TZOFFSETFROM:-0600
TZOFFSETTO:-0500
TZNAME:CDT
DTSTART:20240310T080000
END:DAYLIGHT
BEGIN:STANDARD
TZOFFSETFROM:-0500
TZOFFSETTO:-0600
TZNAME:CST
DTSTART:20241103T070000
END:STANDARD
END:VTIMEZONE
BEGIN:VEVENT
DTSTART;VALUE=DATE:20230206
DTEND;VALUE=DATE:20230218
DTSTAMP:20260421T090821
CREATED:20221117T184747Z
LAST-MODIFIED:20221117T184747Z
UID:10003830-1675641600-1676678399@montgomerycatholic.org
SUMMARY:Cheerleading Calendar Fundraiser
DESCRIPTION:The MCPS Cheerleading Squad will be having a Calendar Fundraiser to raise funds for new uniforms. Reach out to your favorite cheerleader to purchase a space on their calendar! \n  \nContact Coach Sarah Berg for more information!
URL:https://montgomerycatholic.org/event/cheerleading-calendar-fundraiser/
LOCATION:AL
CATEGORIES:Athletics,Fundraising,High School,Middle School
ORGANIZER;CN="Sarah Berg":MAILTO:sberg@montgomerycatholic.org
END:VEVENT
BEGIN:VEVENT
DTSTART;VALUE=DATE:20230207
DTEND;VALUE=DATE:20230211
DTSTAMP:20260421T090821
CREATED:20230202T183710Z
LAST-MODIFIED:20230202T184057Z
UID:10003231-1675728000-1676073599@montgomerycatholic.org
SUMMARY:MCPS to host Basketball Area Tournament
DESCRIPTION:Girls play February 7th and boys will play February 8th.  The championship games will be held on February 10th starting at 5PM.
URL:https://montgomerycatholic.org/event/mcps-to-host-basketball-area-tournament/
LOCATION:PICE Arena\, 5350 Vaughn Road\, Montgomery\, AL\, 36116\, United States
CATEGORIES:Athletics,High School
GEO:32.3400861;-86.2160027
X-APPLE-STRUCTURED-LOCATION;VALUE=URI;X-ADDRESS=PICE Arena 5350 Vaughn Road Montgomery AL 36116 United States;X-APPLE-RADIUS=500;X-TITLE=5350 Vaughn Road:geo:-86.2160027,32.3400861
END:VEVENT
BEGIN:VEVENT
DTSTART;TZID=America/Chicago:20230209T083000
DTEND;TZID=America/Chicago:20230209T150000
DTSTAMP:20260421T090821
CREATED:20230125T204345Z
LAST-MODIFIED:20230125T204345Z
UID:10003217-1675931400-1675954800@montgomerycatholic.org
SUMMARY:SB 5th Grade Field Trip
DESCRIPTION: Majestic Caverns \nWEAR:  Regular School Uniform \nLUNCH: Included in field trip price.
URL:https://montgomerycatholic.org/event/sb-5th-grade-field-trip-2/
LOCATION:AL
CATEGORIES:St. Bede
END:VEVENT
END:VCALENDAR