BEGIN:VCALENDAR
VERSION:2.0
PRODID:-//Montgomery Catholic - ECPv6.15.20//NONSGML v1.0//EN
CALSCALE:GREGORIAN
METHOD:PUBLISH
X-ORIGINAL-URL:https://montgomerycatholic.org
X-WR-CALDESC:Events for Montgomery Catholic
REFRESH-INTERVAL;VALUE=DURATION:PT1H
X-Robots-Tag:noindex
X-PUBLISHED-TTL:PT1H
BEGIN:VTIMEZONE
TZID:America/Chicago
BEGIN:DAYLIGHT
TZOFFSETFROM:-0600
TZOFFSETTO:-0500
TZNAME:CDT
DTSTART:20210314T080000
END:DAYLIGHT
BEGIN:STANDARD
TZOFFSETFROM:-0500
TZOFFSETTO:-0600
TZNAME:CST
DTSTART:20211107T070000
END:STANDARD
BEGIN:DAYLIGHT
TZOFFSETFROM:-0600
TZOFFSETTO:-0500
TZNAME:CDT
DTSTART:20220313T080000
END:DAYLIGHT
BEGIN:STANDARD
TZOFFSETFROM:-0500
TZOFFSETTO:-0600
TZNAME:CST
DTSTART:20221106T070000
END:STANDARD
BEGIN:DAYLIGHT
TZOFFSETFROM:-0600
TZOFFSETTO:-0500
TZNAME:CDT
DTSTART:20230312T080000
END:DAYLIGHT
BEGIN:STANDARD
TZOFFSETFROM:-0500
TZOFFSETTO:-0600
TZNAME:CST
DTSTART:20231105T070000
END:STANDARD
END:VTIMEZONE
BEGIN:VEVENT
DTSTART;VALUE=DATE:20221107
DTEND;VALUE=DATE:20221119
DTSTAMP:20260425T234102
CREATED:20221025T170725Z
LAST-MODIFIED:20221025T170725Z
UID:10003750-1667779200-1668815999@montgomerycatholic.org
SUMMARY:Marching Knights Electronics Raffle
DESCRIPTION:Our Marching Knights will be selling $5 raffle tickets to raise money for our Award winning band program! \nThere will be 2 winners of this electronics raffle. You could win an apple watch\, video games\, etc. Find your favorite band member to purchase a ticket today! Or reach out to Alex Johnson or Kristine Johnson for more information!
URL:https://montgomerycatholic.org/event/marching-knights-electronics-raffle/
LOCATION:AL
CATEGORIES:Band
ORGANIZER;CN="Alex Johnson":MAILTO:alexjohnson@montgomerycatholic.org
END:VEVENT
BEGIN:VEVENT
DTSTART;TZID=America/Chicago:20221118T093000
DTEND;TZID=America/Chicago:20221118T100000
DTSTAMP:20260425T234102
CREATED:20221108T203810Z
LAST-MODIFIED:20221108T203810Z
UID:10003817-1668763800-1668765600@montgomerycatholic.org
SUMMARY:SB: THANKSGIVING PROGRAM GRADES K/3-2ND
DESCRIPTION:Parents and grandparents\, please join us as we celebrate Thanksgiving.  Students in grades K/3 thru 2nd will work together to preform our annual Thanksgiving Program. \nWHEN: NOVEMBER 18\, 2022 \nWHAT TIME: 9:30am \nWHERE: ST.BEDE CAFETERIA \n 
URL:https://montgomerycatholic.org/event/sb-thanksgiving-program-grades-k-3-2nd/
LOCATION:AL
CATEGORIES:St. Bede
ORGANIZER;CN="Ellen Calandra":MAILTO:ecalandra@montgomerycatholic.org
END:VEVENT
END:VCALENDAR