BEGIN:VCALENDAR
VERSION:2.0
PRODID:-//Montgomery Catholic - ECPv6.15.20//NONSGML v1.0//EN
CALSCALE:GREGORIAN
METHOD:PUBLISH
X-WR-CALNAME:Montgomery Catholic
X-ORIGINAL-URL:https://montgomerycatholic.org
X-WR-CALDESC:Events for Montgomery Catholic
REFRESH-INTERVAL;VALUE=DURATION:PT1H
X-Robots-Tag:noindex
X-PUBLISHED-TTL:PT1H
BEGIN:VTIMEZONE
TZID:America/Chicago
BEGIN:DAYLIGHT
TZOFFSETFROM:-0600
TZOFFSETTO:-0500
TZNAME:CDT
DTSTART:20210314T080000
END:DAYLIGHT
BEGIN:STANDARD
TZOFFSETFROM:-0500
TZOFFSETTO:-0600
TZNAME:CST
DTSTART:20211107T070000
END:STANDARD
BEGIN:DAYLIGHT
TZOFFSETFROM:-0600
TZOFFSETTO:-0500
TZNAME:CDT
DTSTART:20220313T080000
END:DAYLIGHT
BEGIN:STANDARD
TZOFFSETFROM:-0500
TZOFFSETTO:-0600
TZNAME:CST
DTSTART:20221106T070000
END:STANDARD
BEGIN:DAYLIGHT
TZOFFSETFROM:-0600
TZOFFSETTO:-0500
TZNAME:CDT
DTSTART:20230312T080000
END:DAYLIGHT
BEGIN:STANDARD
TZOFFSETFROM:-0500
TZOFFSETTO:-0600
TZNAME:CST
DTSTART:20231105T070000
END:STANDARD
END:VTIMEZONE
BEGIN:VEVENT
DTSTART;TZID=America/Chicago:20220520T180000
DTEND;TZID=America/Chicago:20220520T220000
DTSTAMP:20260423T063419
CREATED:20220516T133238Z
LAST-MODIFIED:20220516T133238Z
UID:10003238-1653069600-1653084000@montgomerycatholic.org
SUMMARY:MMBL Drawdown
DESCRIPTION:This event will be held in the Dolly Barranco Center
URL:https://montgomerycatholic.org/event/mmbl-drawdown/
LOCATION:Dolly Barranco Center\, 5350 Vaughn Road\, Montgomery\, AL\, 36116\, United States
GEO:32.3400861;-86.2160027
X-APPLE-STRUCTURED-LOCATION;VALUE=URI;X-ADDRESS=Dolly Barranco Center 5350 Vaughn Road Montgomery AL 36116 United States;X-APPLE-RADIUS=500;X-TITLE=5350 Vaughn Road:geo:-86.2160027,32.3400861
END:VEVENT
END:VCALENDAR