BEGIN:VCALENDAR
VERSION:2.0
PRODID:-//Montgomery Catholic - ECPv6.15.20//NONSGML v1.0//EN
CALSCALE:GREGORIAN
METHOD:PUBLISH
X-WR-CALNAME:Montgomery Catholic
X-ORIGINAL-URL:https://montgomerycatholic.org
X-WR-CALDESC:Events for Montgomery Catholic
REFRESH-INTERVAL;VALUE=DURATION:PT1H
X-Robots-Tag:noindex
X-PUBLISHED-TTL:PT1H
BEGIN:VTIMEZONE
TZID:UTC
BEGIN:STANDARD
TZOFFSETFROM:+0000
TZOFFSETTO:+0000
TZNAME:UTC
DTSTART:20210101T000000
END:STANDARD
END:VTIMEZONE
BEGIN:VTIMEZONE
TZID:America/Chicago
BEGIN:DAYLIGHT
TZOFFSETFROM:-0600
TZOFFSETTO:-0500
TZNAME:CDT
DTSTART:20210314T080000
END:DAYLIGHT
BEGIN:STANDARD
TZOFFSETFROM:-0500
TZOFFSETTO:-0600
TZNAME:CST
DTSTART:20211107T070000
END:STANDARD
BEGIN:DAYLIGHT
TZOFFSETFROM:-0600
TZOFFSETTO:-0500
TZNAME:CDT
DTSTART:20220313T080000
END:DAYLIGHT
BEGIN:STANDARD
TZOFFSETFROM:-0500
TZOFFSETTO:-0600
TZNAME:CST
DTSTART:20221106T070000
END:STANDARD
BEGIN:DAYLIGHT
TZOFFSETFROM:-0600
TZOFFSETTO:-0500
TZNAME:CDT
DTSTART:20230312T080000
END:DAYLIGHT
BEGIN:STANDARD
TZOFFSETFROM:-0500
TZOFFSETTO:-0600
TZNAME:CST
DTSTART:20231105T070000
END:STANDARD
END:VTIMEZONE
BEGIN:VEVENT
DTSTART;TZID=UTC:20220510T153000
DTEND;TZID=UTC:20220510T163000
DTSTAMP:20260423T063419
CREATED:20220121T162845Z
LAST-MODIFIED:20220504T160045Z
UID:10002680-1652196600-1652200200@montgomerycatholic.org
SUMMARY:Spring Signing Day
DESCRIPTION:Join us at 3:30pm as our Senior Athletes sign to play their respective sport at the collegiate level.
URL:https://montgomerycatholic.org/event/spring-signing-day/
LOCATION:Montgomery Catholic Preparatory School\, 5350 Vaughn Rd\, Montgomery\, AL\, 36116\, United States
ORGANIZER;CN="Daniel Veres":MAILTO:dveres@montgomerycatholic.org
GEO:32.3400861;-86.2160027
X-APPLE-STRUCTURED-LOCATION;VALUE=URI;X-ADDRESS=Montgomery Catholic Preparatory School 5350 Vaughn Rd Montgomery AL 36116 United States;X-APPLE-RADIUS=500;X-TITLE=5350 Vaughn Rd:geo:-86.2160027,32.3400861
END:VEVENT
BEGIN:VEVENT
DTSTART;TZID=America/Chicago:20220510T183000
DTEND;TZID=America/Chicago:20220510T193000
DTSTAMP:20260423T063419
CREATED:20220322T140318Z
LAST-MODIFIED:20220322T140318Z
UID:10003170-1652207400-1652211000@montgomerycatholic.org
SUMMARY:Choir Concert
DESCRIPTION:
URL:https://montgomerycatholic.org/event/choir-concert/
LOCATION:Dolly Barranco Center\, 5350 Vaughn Road\, Montgomery\, AL\, 36116\, United States
CATEGORIES:Choir
ORGANIZER;CN="Kaitlyn Borsi":MAILTO:kborsi@montgomerycatholic.org
GEO:32.3400861;-86.2160027
X-APPLE-STRUCTURED-LOCATION;VALUE=URI;X-ADDRESS=Dolly Barranco Center 5350 Vaughn Road Montgomery AL 36116 United States;X-APPLE-RADIUS=500;X-TITLE=5350 Vaughn Road:geo:-86.2160027,32.3400861
END:VEVENT
END:VCALENDAR