BEGIN:VCALENDAR
VERSION:2.0
PRODID:-//Montgomery Catholic - ECPv6.15.20//NONSGML v1.0//EN
CALSCALE:GREGORIAN
METHOD:PUBLISH
X-ORIGINAL-URL:https://montgomerycatholic.org
X-WR-CALDESC:Events for Montgomery Catholic
REFRESH-INTERVAL;VALUE=DURATION:PT1H
X-Robots-Tag:noindex
X-PUBLISHED-TTL:PT1H
BEGIN:VTIMEZONE
TZID:America/Chicago
BEGIN:DAYLIGHT
TZOFFSETFROM:-0600
TZOFFSETTO:-0500
TZNAME:CDT
DTSTART:20210314T080000
END:DAYLIGHT
BEGIN:STANDARD
TZOFFSETFROM:-0500
TZOFFSETTO:-0600
TZNAME:CST
DTSTART:20211107T070000
END:STANDARD
BEGIN:DAYLIGHT
TZOFFSETFROM:-0600
TZOFFSETTO:-0500
TZNAME:CDT
DTSTART:20220313T080000
END:DAYLIGHT
BEGIN:STANDARD
TZOFFSETFROM:-0500
TZOFFSETTO:-0600
TZNAME:CST
DTSTART:20221106T070000
END:STANDARD
BEGIN:DAYLIGHT
TZOFFSETFROM:-0600
TZOFFSETTO:-0500
TZNAME:CDT
DTSTART:20230312T080000
END:DAYLIGHT
BEGIN:STANDARD
TZOFFSETFROM:-0500
TZOFFSETTO:-0600
TZNAME:CST
DTSTART:20231105T070000
END:STANDARD
END:VTIMEZONE
BEGIN:VTIMEZONE
TZID:UTC
BEGIN:STANDARD
TZOFFSETFROM:+0000
TZOFFSETTO:+0000
TZNAME:UTC
DTSTART:20210101T000000
END:STANDARD
END:VTIMEZONE
BEGIN:VEVENT
DTSTART;VALUE=DATE:20220306
DTEND;VALUE=DATE:20220321
DTSTAMP:20260422T220757
CREATED:20220302T150710Z
LAST-MODIFIED:20220302T150710Z
UID:10002796-1646524800-1647820799@montgomerycatholic.org
SUMMARY:Candle Sale - Boys Soccer Fundraiser
DESCRIPTION:Our Boys Soccer team will be selling candles as a fundraiser for their team. Be sure to find your favorite player and purchase a candle. \nContact Rick Aaron if you have any questions.\nraaron@montgomerycatholic.org
URL:https://montgomerycatholic.org/event/candle-sale-boys-soccer-fundraiser/
LOCATION:AL
CATEGORIES:Athletics,High School
ORGANIZER;CN="Rick Aaron":MAILTO:raaron@montgomerycatholic.org
END:VEVENT
BEGIN:VEVENT
DTSTART;VALUE=DATE:20220311
DTEND;VALUE=DATE:20220313
DTSTAMP:20260422T220757
CREATED:20220207T175431Z
LAST-MODIFIED:20220207T175431Z
UID:10003073-1646956800-1647129599@montgomerycatholic.org
SUMMARY:Varsity Softball PCA tournament
DESCRIPTION:Time TBA
URL:https://montgomerycatholic.org/event/varsity-softball-pca-tournament/
LOCATION:Mac Gray Park\, 1050 Martin Luther King D\, Prattville\, AL\, 36067\, United States
CATEGORIES:Athletics,High School,Middle School
ORGANIZER;CN="Whitney Toole":MAILTO:wtoole@montgomerycatholic.org
GEO:32.4832732;-86.4675655
X-APPLE-STRUCTURED-LOCATION;VALUE=URI;X-ADDRESS=Mac Gray Park 1050 Martin Luther King D Prattville AL 36067 United States;X-APPLE-RADIUS=500;X-TITLE=1050 Martin Luther King D:geo:-86.4675655,32.4832732
END:VEVENT
BEGIN:VEVENT
DTSTART;VALUE=DATE:20220312
DTEND;VALUE=DATE:20220313
DTSTAMP:20260422T220757
CREATED:20220301T155659Z
LAST-MODIFIED:20220301T155659Z
UID:10002779-1647043200-1647129599@montgomerycatholic.org
SUMMARY:Outdoor Track / Wetumpka HS Invitational
DESCRIPTION:
URL:https://montgomerycatholic.org/event/outdoor-track-wetumpka-hs-invitational/
LOCATION:AL
CATEGORIES:Athletics,High School,Middle School
ORGANIZER;CN="Sinead Turner":MAILTO:sturner@montgomerycatholic.org
END:VEVENT
BEGIN:VEVENT
DTSTART;TZID=UTC:20220312T080000
DTEND;TZID=UTC:20220312T130000
DTSTAMP:20260422T220757
CREATED:20220127T133740Z
LAST-MODIFIED:20220127T133740Z
UID:10002685-1647072000-1647090000@montgomerycatholic.org
SUMMARY:Knights of Columbus Annual Free Throw Contest
DESCRIPTION:
URL:https://montgomerycatholic.org/event/knights-of-columbus-annual-free-throw-toss/
LOCATION:PICE Arena\, 5350 Vaughn Road\, Montgomery\, AL\, 36116\, United States
GEO:32.3400861;-86.2160027
X-APPLE-STRUCTURED-LOCATION;VALUE=URI;X-ADDRESS=PICE Arena 5350 Vaughn Road Montgomery AL 36116 United States;X-APPLE-RADIUS=500;X-TITLE=5350 Vaughn Road:geo:-86.2160027,32.3400861
END:VEVENT
END:VCALENDAR