BEGIN:VCALENDAR
VERSION:2.0
PRODID:-//Montgomery Catholic - ECPv6.15.20//NONSGML v1.0//EN
CALSCALE:GREGORIAN
METHOD:PUBLISH
X-ORIGINAL-URL:https://montgomerycatholic.org
X-WR-CALDESC:Events for Montgomery Catholic
REFRESH-INTERVAL;VALUE=DURATION:PT1H
X-Robots-Tag:noindex
X-PUBLISHED-TTL:PT1H
BEGIN:VTIMEZONE
TZID:America/Chicago
BEGIN:DAYLIGHT
TZOFFSETFROM:-0600
TZOFFSETTO:-0500
TZNAME:CDT
DTSTART:20210314T080000
END:DAYLIGHT
BEGIN:STANDARD
TZOFFSETFROM:-0500
TZOFFSETTO:-0600
TZNAME:CST
DTSTART:20211107T070000
END:STANDARD
BEGIN:DAYLIGHT
TZOFFSETFROM:-0600
TZOFFSETTO:-0500
TZNAME:CDT
DTSTART:20220313T080000
END:DAYLIGHT
BEGIN:STANDARD
TZOFFSETFROM:-0500
TZOFFSETTO:-0600
TZNAME:CST
DTSTART:20221106T070000
END:STANDARD
BEGIN:DAYLIGHT
TZOFFSETFROM:-0600
TZOFFSETTO:-0500
TZNAME:CDT
DTSTART:20230312T080000
END:DAYLIGHT
BEGIN:STANDARD
TZOFFSETFROM:-0500
TZOFFSETTO:-0600
TZNAME:CST
DTSTART:20231105T070000
END:STANDARD
END:VTIMEZONE
BEGIN:VTIMEZONE
TZID:UTC
BEGIN:STANDARD
TZOFFSETFROM:+0000
TZOFFSETTO:+0000
TZNAME:UTC
DTSTART:20210101T000000
END:STANDARD
END:VTIMEZONE
BEGIN:VEVENT
DTSTART;VALUE=DATE:20220306
DTEND;VALUE=DATE:20220321
DTSTAMP:20260423T201127
CREATED:20220302T150710Z
LAST-MODIFIED:20220302T150710Z
UID:10002796-1646524800-1647820799@montgomerycatholic.org
SUMMARY:Candle Sale - Boys Soccer Fundraiser
DESCRIPTION:Our Boys Soccer team will be selling candles as a fundraiser for their team. Be sure to find your favorite player and purchase a candle. \nContact Rick Aaron if you have any questions.\nraaron@montgomerycatholic.org
URL:https://montgomerycatholic.org/event/candle-sale-boys-soccer-fundraiser/
LOCATION:AL
CATEGORIES:Athletics,High School
ORGANIZER;CN="Rick Aaron":MAILTO:raaron@montgomerycatholic.org
END:VEVENT
BEGIN:VEVENT
DTSTART;VALUE=DATE:20220307
DTEND;VALUE=DATE:20220312
DTSTAMP:20260423T201127
CREATED:20210923T181228Z
LAST-MODIFIED:20210923T181408Z
UID:10002636-1646611200-1647043199@montgomerycatholic.org
SUMMARY:St. Bede Book Fair
DESCRIPTION:
URL:https://montgomerycatholic.org/event/holy-spirit-book-fair-2/
LOCATION:St Bede Campus\, 3870 Atlanta Hwy\, Montgomery\, AL\, 36109\, United States
CATEGORIES:St. Bede
ORGANIZER;CN="Lee Anne Barranco":MAILTO:lbarranco@montgomerycatholic.org
GEO:32.3828968;-86.2474845
X-APPLE-STRUCTURED-LOCATION;VALUE=URI;X-ADDRESS=St Bede Campus 3870 Atlanta Hwy Montgomery AL 36109 United States;X-APPLE-RADIUS=500;X-TITLE=3870 Atlanta Hwy:geo:-86.2474845,32.3828968
END:VEVENT
BEGIN:VEVENT
DTSTART;TZID=America/Chicago:20220309T100000
DTEND;TZID=America/Chicago:20220309T110000
DTSTAMP:20260423T201127
CREATED:20211029T175917Z
LAST-MODIFIED:20211029T175917Z
UID:10002837-1646820000-1646823600@montgomerycatholic.org
SUMMARY:MS/HS Mass
DESCRIPTION:
URL:https://montgomerycatholic.org/event/ms-hs-mass/2022-03-09/
LOCATION:AL
CATEGORIES:High School,Middle School
END:VEVENT
BEGIN:VEVENT
DTSTART;TZID=UTC:20220309T140000
DTEND;TZID=UTC:20220309T160000
DTSTAMP:20260423T201127
CREATED:20220106T163221Z
LAST-MODIFIED:20220308T195318Z
UID:10002945-1646834400-1646841600@montgomerycatholic.org
SUMMARY:VG Tennis vs St. James @ Ida Bell Young Park
DESCRIPTION:
URL:https://montgomerycatholic.org/event/vg-tennis-vs-st-james-lagoon/
LOCATION:Ida Bell Young Park
CATEGORIES:Athletics,High School
END:VEVENT
END:VCALENDAR