BEGIN:VCALENDAR
VERSION:2.0
PRODID:-//Montgomery Catholic - ECPv6.15.20//NONSGML v1.0//EN
CALSCALE:GREGORIAN
METHOD:PUBLISH
X-WR-CALNAME:Montgomery Catholic
X-ORIGINAL-URL:https://montgomerycatholic.org
X-WR-CALDESC:Events for Montgomery Catholic
REFRESH-INTERVAL;VALUE=DURATION:PT1H
X-Robots-Tag:noindex
X-PUBLISHED-TTL:PT1H
BEGIN:VTIMEZONE
TZID:America/Chicago
BEGIN:DAYLIGHT
TZOFFSETFROM:-0600
TZOFFSETTO:-0500
TZNAME:CDT
DTSTART:20210314T080000
END:DAYLIGHT
BEGIN:STANDARD
TZOFFSETFROM:-0500
TZOFFSETTO:-0600
TZNAME:CST
DTSTART:20211107T070000
END:STANDARD
BEGIN:DAYLIGHT
TZOFFSETFROM:-0600
TZOFFSETTO:-0500
TZNAME:CDT
DTSTART:20220313T080000
END:DAYLIGHT
BEGIN:STANDARD
TZOFFSETFROM:-0500
TZOFFSETTO:-0600
TZNAME:CST
DTSTART:20221106T070000
END:STANDARD
BEGIN:DAYLIGHT
TZOFFSETFROM:-0600
TZOFFSETTO:-0500
TZNAME:CDT
DTSTART:20230312T080000
END:DAYLIGHT
BEGIN:STANDARD
TZOFFSETFROM:-0500
TZOFFSETTO:-0600
TZNAME:CST
DTSTART:20231105T070000
END:STANDARD
END:VTIMEZONE
BEGIN:VTIMEZONE
TZID:UTC
BEGIN:STANDARD
TZOFFSETFROM:+0000
TZOFFSETTO:+0000
TZNAME:UTC
DTSTART:20210101T000000
END:STANDARD
END:VTIMEZONE
BEGIN:VEVENT
DTSTART;VALUE=DATE:20220228
DTEND;VALUE=DATE:20220306
DTSTAMP:20260423T132624
CREATED:20211014T161405Z
LAST-MODIFIED:20211014T161405Z
UID:10002784-1646006400-1646524799@montgomerycatholic.org
SUMMARY:V Girls and Boys Basketball State Tournament
DESCRIPTION:
URL:https://montgomerycatholic.org/event/v-girls-and-boys-basketball-state-tournament/
LOCATION:AL
CATEGORIES:Athletics,High School
END:VEVENT
BEGIN:VEVENT
DTSTART;VALUE=DATE:20220304
DTEND;VALUE=DATE:20220306
DTSTAMP:20260423T132624
CREATED:20220207T172116Z
LAST-MODIFIED:20220207T172116Z
UID:10003067-1646352000-1646524799@montgomerycatholic.org
SUMMARY:Varsity Softball Wetumpka Tournament
DESCRIPTION:Time TBA
URL:https://montgomerycatholic.org/event/varsity-softball-wetumpka-tournament/
LOCATION:Wetumpka Softball Complex\, Coosa River Pkwy\, Wetumpka\, AL\, 36092\, United States
CATEGORIES:Athletics,High School,Middle School
ORGANIZER;CN="Whitney Toole":MAILTO:wtoole@montgomerycatholic.org
GEO:32.5528632;-86.2050543
X-APPLE-STRUCTURED-LOCATION;VALUE=URI;X-ADDRESS=Wetumpka Softball Complex Coosa River Pkwy Wetumpka AL 36092 United States;X-APPLE-RADIUS=500;X-TITLE=Coosa River Pkwy:geo:-86.2050543,32.5528632
END:VEVENT
BEGIN:VEVENT
DTSTART;VALUE=DATE:20220305
DTEND;VALUE=DATE:20220306
DTSTAMP:20260423T132624
CREATED:20220131T181808Z
LAST-MODIFIED:20220131T181808Z
UID:10002706-1646438400-1646524799@montgomerycatholic.org
SUMMARY:Varsity Girls Soccer vs St. Lukes
DESCRIPTION:Time TBD
URL:https://montgomerycatholic.org/event/varsity-girls-soccer-vs-st-lukes/
LOCATION:Montgomery Catholic Preparatory School\, 5350 Vaughn Rd\, Montgomery\, AL\, 36116\, United States
CATEGORIES:Athletics,High School,Middle School
ORGANIZER;CN="Rick Aaron":MAILTO:raaron@montgomerycatholic.org
GEO:32.3400861;-86.2160027
X-APPLE-STRUCTURED-LOCATION;VALUE=URI;X-ADDRESS=Montgomery Catholic Preparatory School 5350 Vaughn Rd Montgomery AL 36116 United States;X-APPLE-RADIUS=500;X-TITLE=5350 Vaughn Rd:geo:-86.2160027,32.3400861
END:VEVENT
BEGIN:VEVENT
DTSTART;VALUE=DATE:20220305
DTEND;VALUE=DATE:20220306
DTSTAMP:20260423T132624
CREATED:20220301T155448Z
LAST-MODIFIED:20220301T155448Z
UID:10003160-1646438400-1646524799@montgomerycatholic.org
SUMMARY:Outdoor Track/Auburn Early Bird
DESCRIPTION:
URL:https://montgomerycatholic.org/event/outdoor-track-auburn-early-bird/
LOCATION:AL
CATEGORIES:Athletics,High School,Middle School
ORGANIZER;CN="Sinead Turner":MAILTO:sturner@montgomerycatholic.org
END:VEVENT
BEGIN:VEVENT
DTSTART;TZID=America/Chicago:20220305T120000
DTEND;TZID=America/Chicago:20220305T133000
DTSTAMP:20260423T132624
CREATED:20220223T182355Z
LAST-MODIFIED:20220223T182355Z
UID:10002761-1646481600-1646487000@montgomerycatholic.org
SUMMARY:Varsity Baseball vs LAMP @ Riverwalk Stadium
DESCRIPTION:
URL:https://montgomerycatholic.org/event/varsity-baseball-vs-lamp-riverwalk-stadium/
LOCATION:Riverwalk Stadium\, 200 Coosa St\, Montgomery\, AL\, 36104\, United States
CATEGORIES:Athletics,High School,Middle School
ORGANIZER;CN="Cam Lewis":MAILTO:clewis@montgomerycatholic.org
GEO:32.3815669;-86.3104571
X-APPLE-STRUCTURED-LOCATION;VALUE=URI;X-ADDRESS=Riverwalk Stadium 200 Coosa St Montgomery AL 36104 United States;X-APPLE-RADIUS=500;X-TITLE=200 Coosa St:geo:-86.3104571,32.3815669
END:VEVENT
BEGIN:VEVENT
DTSTART;TZID=America/Chicago:20220305T140000
DTEND;TZID=America/Chicago:20220305T153000
DTSTAMP:20260423T132624
CREATED:20220301T154435Z
LAST-MODIFIED:20220301T154435Z
UID:10003159-1646488800-1646494200@montgomerycatholic.org
SUMMARY:Varsity Girls Soccer vs St. Lukes
DESCRIPTION:
URL:https://montgomerycatholic.org/event/varsity-girls-soccer-vs-st-lukes-2/
LOCATION:Montgomery Catholic Preparatory School\, 5350 Vaughn Rd\, Montgomery\, AL\, 36116\, United States
CATEGORIES:Athletics,High School
ORGANIZER;CN="Rick Aaron":MAILTO:raaron@montgomerycatholic.org
GEO:32.3400861;-86.2160027
X-APPLE-STRUCTURED-LOCATION;VALUE=URI;X-ADDRESS=Montgomery Catholic Preparatory School 5350 Vaughn Rd Montgomery AL 36116 United States;X-APPLE-RADIUS=500;X-TITLE=5350 Vaughn Rd:geo:-86.2160027,32.3400861
END:VEVENT
END:VCALENDAR