BEGIN:VCALENDAR
VERSION:2.0
PRODID:-//Montgomery Catholic - ECPv6.15.20//NONSGML v1.0//EN
CALSCALE:GREGORIAN
METHOD:PUBLISH
X-WR-CALNAME:Montgomery Catholic
X-ORIGINAL-URL:https://montgomerycatholic.org
X-WR-CALDESC:Events for Montgomery Catholic
REFRESH-INTERVAL;VALUE=DURATION:PT1H
X-Robots-Tag:noindex
X-PUBLISHED-TTL:PT1H
BEGIN:VTIMEZONE
TZID:UTC
BEGIN:STANDARD
TZOFFSETFROM:+0000
TZOFFSETTO:+0000
TZNAME:UTC
DTSTART:20210101T000000
END:STANDARD
END:VTIMEZONE
BEGIN:VTIMEZONE
TZID:America/Chicago
BEGIN:DAYLIGHT
TZOFFSETFROM:-0600
TZOFFSETTO:-0500
TZNAME:CDT
DTSTART:20210314T080000
END:DAYLIGHT
BEGIN:STANDARD
TZOFFSETFROM:-0500
TZOFFSETTO:-0600
TZNAME:CST
DTSTART:20211107T070000
END:STANDARD
BEGIN:DAYLIGHT
TZOFFSETFROM:-0600
TZOFFSETTO:-0500
TZNAME:CDT
DTSTART:20220313T080000
END:DAYLIGHT
BEGIN:STANDARD
TZOFFSETFROM:-0500
TZOFFSETTO:-0600
TZNAME:CST
DTSTART:20221106T070000
END:STANDARD
BEGIN:DAYLIGHT
TZOFFSETFROM:-0600
TZOFFSETTO:-0500
TZNAME:CDT
DTSTART:20230312T080000
END:DAYLIGHT
BEGIN:STANDARD
TZOFFSETFROM:-0500
TZOFFSETTO:-0600
TZNAME:CST
DTSTART:20231105T070000
END:STANDARD
END:VTIMEZONE
BEGIN:VEVENT
DTSTART;VALUE=DATE:20220118
DTEND;VALUE=DATE:20220128
DTSTAMP:20260420T032924
CREATED:20211203T150752Z
LAST-MODIFIED:20211203T150752Z
UID:10002925-1642464000-1643327999@montgomerycatholic.org
SUMMARY:Wrestling Team - Gift Card Raffle
DESCRIPTION:Support our Wrestling Team by purchasing a raffle ticket! The drawing will take place on January 27 for a $500 Gift Card. Contact your favorite Wrestler to purchase a ticket or contact Coach Coy Hunter at chunter@montgomerycatholic.org. \n 
URL:https://montgomerycatholic.org/event/wrestling-team-gift-card-raffle/
LOCATION:Montgomery Catholic Preparatory School\, 5350 Vaughn Rd\, Montgomery\, AL\, 36116\, United States
CATEGORIES:Athletics,Fundraising
ORGANIZER;CN="Coy Hunter":MAILTO:chunter@montgomerycatholic.org
GEO:32.3400861;-86.2160027
X-APPLE-STRUCTURED-LOCATION;VALUE=URI;X-ADDRESS=Montgomery Catholic Preparatory School 5350 Vaughn Rd Montgomery AL 36116 United States;X-APPLE-RADIUS=500;X-TITLE=5350 Vaughn Rd:geo:-86.2160027,32.3400861
END:VEVENT
BEGIN:VEVENT
DTSTART;TZID=America/Chicago:20220126T100000
DTEND;TZID=America/Chicago:20220126T110000
DTSTAMP:20260420T032924
CREATED:20211029T175917Z
LAST-MODIFIED:20211029T175917Z
UID:10002831-1643191200-1643194800@montgomerycatholic.org
SUMMARY:MS/HS Mass
DESCRIPTION:
URL:https://montgomerycatholic.org/event/ms-hs-mass/2022-01-26/
CATEGORIES:High School,Middle School
END:VEVENT
BEGIN:VEVENT
DTSTART;TZID=America/Chicago:20220126T183000
DTEND;TZID=America/Chicago:20220126T193000
DTSTAMP:20260420T032924
CREATED:20211110T154934Z
LAST-MODIFIED:20211110T155915Z
UID:10002892-1643221800-1643225400@montgomerycatholic.org
SUMMARY:Child Protection Training - Room #10 in the High School
DESCRIPTION:
URL:https://montgomerycatholic.org/event/child-protection-training-room-10-in-the-high-school/
LOCATION:Montgomery Catholic Preparatory School\, 5350 Vaughn Rd\, Montgomery\, AL\, 36116\, United States
CATEGORIES:High School,Holy Spirit,Middle School,St. Bede
GEO:32.3400861;-86.2160027
X-APPLE-STRUCTURED-LOCATION;VALUE=URI;X-ADDRESS=Montgomery Catholic Preparatory School 5350 Vaughn Rd Montgomery AL 36116 United States;X-APPLE-RADIUS=500;X-TITLE=5350 Vaughn Rd:geo:-86.2160027,32.3400861
END:VEVENT
END:VCALENDAR