BEGIN:VCALENDAR
VERSION:2.0
PRODID:-//Montgomery Catholic - ECPv6.15.20//NONSGML v1.0//EN
CALSCALE:GREGORIAN
METHOD:PUBLISH
X-ORIGINAL-URL:https://montgomerycatholic.org
X-WR-CALDESC:Events for Montgomery Catholic
REFRESH-INTERVAL;VALUE=DURATION:PT1H
X-Robots-Tag:noindex
X-PUBLISHED-TTL:PT1H
BEGIN:VTIMEZONE
TZID:America/Chicago
BEGIN:DAYLIGHT
TZOFFSETFROM:-0600
TZOFFSETTO:-0500
TZNAME:CDT
DTSTART:20250309T080000
END:DAYLIGHT
BEGIN:STANDARD
TZOFFSETFROM:-0500
TZOFFSETTO:-0600
TZNAME:CST
DTSTART:20251102T070000
END:STANDARD
BEGIN:DAYLIGHT
TZOFFSETFROM:-0600
TZOFFSETTO:-0500
TZNAME:CDT
DTSTART:20260308T080000
END:DAYLIGHT
BEGIN:STANDARD
TZOFFSETFROM:-0500
TZOFFSETTO:-0600
TZNAME:CST
DTSTART:20261101T070000
END:STANDARD
BEGIN:DAYLIGHT
TZOFFSETFROM:-0600
TZOFFSETTO:-0500
TZNAME:CDT
DTSTART:20270314T080000
END:DAYLIGHT
BEGIN:STANDARD
TZOFFSETFROM:-0500
TZOFFSETTO:-0600
TZNAME:CST
DTSTART:20271107T070000
END:STANDARD
END:VTIMEZONE
BEGIN:VEVENT
DTSTART;VALUE=DATE:20260422
DTEND;VALUE=DATE:20260425
DTSTAMP:20260424T155453
CREATED:20250821T185903Z
LAST-MODIFIED:20250821T185903Z
UID:10005184-1776816000-1777075199@montgomerycatholic.org
SUMMARY:Camp McDowell - 6th grade classes
DESCRIPTION:Both Elementary Campuses
URL:https://montgomerycatholic.org/event/camp-mcdowell-6th-grade-classes/
LOCATION:AL
CATEGORIES:Holy Spirit,St. Bede
END:VEVENT
BEGIN:VEVENT
DTSTART;VALUE=DATE:20260424
DTEND;VALUE=DATE:20260425
DTSTAMP:20260424T155453
CREATED:20260224T192402Z
LAST-MODIFIED:20260224T192402Z
UID:10005484-1776988800-1777075199@montgomerycatholic.org
SUMMARY:Softball - Prattville Round Robin
DESCRIPTION:Times TBA
URL:https://montgomerycatholic.org/event/softball-prattville-round-robin/
LOCATION:AL
CATEGORIES:Athletics,High School
END:VEVENT
BEGIN:VEVENT
DTSTART;VALUE=DATE:20260424
DTEND;VALUE=DATE:20260425
DTSTAMP:20260424T155453
CREATED:20260302T213744Z
LAST-MODIFIED:20260302T213744Z
UID:10005508-1776988800-1777075199@montgomerycatholic.org
SUMMARY:Outdoor Track AHSAA 4A - Section 2 / Northridge
DESCRIPTION:
URL:https://montgomerycatholic.org/event/outdoor-track-ahsaa-4a-section-2-northridge/
LOCATION:AL
CATEGORIES:Athletics,High School
END:VEVENT
BEGIN:VEVENT
DTSTART;VALUE=DATE:20260425
DTEND;VALUE=DATE:20260426
DTSTAMP:20260424T155453
CREATED:20260224T192452Z
LAST-MODIFIED:20260224T192452Z
UID:10005485-1777075200-1777161599@montgomerycatholic.org
SUMMARY:Softball - Prattville Round Robin
DESCRIPTION:Times TBA
URL:https://montgomerycatholic.org/event/softball-prattville-round-robin-2/
LOCATION:AL
CATEGORIES:Athletics,High School
END:VEVENT
BEGIN:VEVENT
DTSTART;VALUE=DATE:20260427
DTEND;VALUE=DATE:20260428
DTSTAMP:20260424T155453
CREATED:20260109T200125Z
LAST-MODIFIED:20260109T200125Z
UID:10005367-1777248000-1777334399@montgomerycatholic.org
SUMMARY:Soccer 1st Round Playoffs
DESCRIPTION:
URL:https://montgomerycatholic.org/event/soccer-1st-round-playoffs/
LOCATION:AL
CATEGORIES:Athletics,High School
END:VEVENT
BEGIN:VEVENT
DTSTART;VALUE=DATE:20260427
DTEND;VALUE=DATE:20260502
DTSTAMP:20260424T155453
CREATED:20250821T190019Z
LAST-MODIFIED:20250821T190019Z
UID:10005185-1777248000-1777679999@montgomerycatholic.org
SUMMARY:Spring MAP Testing Window
DESCRIPTION:Middle School & Elementary Campuses
URL:https://montgomerycatholic.org/event/spring-map-testing-window/
LOCATION:AL
CATEGORIES:Holy Spirit,Middle School,St. Bede
END:VEVENT
BEGIN:VEVENT
DTSTART;TZID=America/Chicago:20260427T160000
DTEND;TZID=America/Chicago:20260427T173000
DTSTAMP:20260424T155453
CREATED:20260224T192556Z
LAST-MODIFIED:20260224T192556Z
UID:10005486-1777305600-1777311000@montgomerycatholic.org
SUMMARY:Softball vs Smiths Station
DESCRIPTION:
URL:https://montgomerycatholic.org/event/softball-vs-smiths-station/
LOCATION:AL
CATEGORIES:Athletics,High School
END:VEVENT
BEGIN:VEVENT
DTSTART;VALUE=DATE:20260428
DTEND;VALUE=DATE:20260429
DTSTAMP:20260424T155453
CREATED:20260109T200152Z
LAST-MODIFIED:20260109T200152Z
UID:10005368-1777334400-1777420799@montgomerycatholic.org
SUMMARY:Soccer 1st Round Playoffs
DESCRIPTION:
URL:https://montgomerycatholic.org/event/soccer-1st-round-playoffs-2/
LOCATION:AL
CATEGORIES:Athletics,High School
END:VEVENT
BEGIN:VEVENT
DTSTART;TZID=America/Chicago:20260428T154500
DTEND;TZID=America/Chicago:20260428T171500
DTSTAMP:20260424T155453
CREATED:20260416T200934Z
LAST-MODIFIED:20260416T200934Z
UID:10005556-1777391100-1777396500@montgomerycatholic.org
SUMMARY:Volleyball Academy
DESCRIPTION:
URL:https://montgomerycatholic.org/event/volleyball-academy/2026-04-28/
LOCATION:PICE Arena\, 5350 Vaughn Road\, Montgomery\, AL\, 36116\, United States
GEO:32.3400861;-86.2160027
X-APPLE-STRUCTURED-LOCATION;VALUE=URI;X-ADDRESS=PICE Arena 5350 Vaughn Road Montgomery AL 36116 United States;X-APPLE-RADIUS=500;X-TITLE=5350 Vaughn Road:geo:-86.2160027,32.3400861
END:VEVENT
BEGIN:VEVENT
DTSTART;VALUE=DATE:20260430
DTEND;VALUE=DATE:20260501
DTSTAMP:20260424T155453
CREATED:20260109T200226Z
LAST-MODIFIED:20260109T200226Z
UID:10005369-1777507200-1777593599@montgomerycatholic.org
SUMMARY:Soccer 2nd Round Playoffs
DESCRIPTION:
URL:https://montgomerycatholic.org/event/soccer-2nd-round-playoffs/
LOCATION:AL
CATEGORIES:Athletics,High School
END:VEVENT
BEGIN:VEVENT
DTSTART;TZID=America/Chicago:20260430T154500
DTEND;TZID=America/Chicago:20260430T171500
DTSTAMP:20260424T155453
CREATED:20260416T200934Z
LAST-MODIFIED:20260416T200934Z
UID:10005557-1777563900-1777569300@montgomerycatholic.org
SUMMARY:Volleyball Academy
DESCRIPTION:
URL:https://montgomerycatholic.org/event/volleyball-academy/2026-04-30/
LOCATION:PICE Arena\, 5350 Vaughn Road\, Montgomery\, AL\, 36116\, United States
GEO:32.3400861;-86.2160027
X-APPLE-STRUCTURED-LOCATION;VALUE=URI;X-ADDRESS=PICE Arena 5350 Vaughn Road Montgomery AL 36116 United States;X-APPLE-RADIUS=500;X-TITLE=5350 Vaughn Road:geo:-86.2160027,32.3400861
END:VEVENT
BEGIN:VEVENT
DTSTART;TZID=America/Chicago:20260430T172000
DTEND;TZID=America/Chicago:20260430T180000
DTSTAMP:20260424T155453
CREATED:20260416T201609Z
LAST-MODIFIED:20260416T201609Z
UID:10005562-1777569600-1777572000@montgomerycatholic.org
SUMMARY:Volleyball New Parent Meeting
DESCRIPTION:
URL:https://montgomerycatholic.org/event/volleyball-new-parent-meeting/
LOCATION:AL
END:VEVENT
END:VCALENDAR